BEGIN:VCALENDAR
VERSION:2.0
PRODID:-//Guía oficial de Cantabria | Turismo | Descubre Cantabria - ECPv6.15.20//NONSGML v1.0//EN
CALSCALE:GREGORIAN
METHOD:PUBLISH
X-WR-CALNAME:Guía oficial de Cantabria | Turismo | Descubre Cantabria
X-ORIGINAL-URL:https://descubrecantabria.info
X-WR-CALDESC:Eventos para Guía oficial de Cantabria | Turismo | Descubre Cantabria
REFRESH-INTERVAL;VALUE=DURATION:PT1H
X-Robots-Tag:noindex
X-PUBLISHED-TTL:PT1H
BEGIN:VTIMEZONE
TZID:Europe/Madrid
BEGIN:DAYLIGHT
TZOFFSETFROM:+0100
TZOFFSETTO:+0200
TZNAME:CEST
DTSTART:20240331T010000
END:DAYLIGHT
BEGIN:STANDARD
TZOFFSETFROM:+0200
TZOFFSETTO:+0100
TZNAME:CET
DTSTART:20241027T010000
END:STANDARD
BEGIN:DAYLIGHT
TZOFFSETFROM:+0100
TZOFFSETTO:+0200
TZNAME:CEST
DTSTART:20250330T010000
END:DAYLIGHT
BEGIN:STANDARD
TZOFFSETFROM:+0200
TZOFFSETTO:+0100
TZNAME:CET
DTSTART:20251026T010000
END:STANDARD
BEGIN:DAYLIGHT
TZOFFSETFROM:+0100
TZOFFSETTO:+0200
TZNAME:CEST
DTSTART:20260329T010000
END:DAYLIGHT
BEGIN:STANDARD
TZOFFSETFROM:+0200
TZOFFSETTO:+0100
TZNAME:CET
DTSTART:20261025T010000
END:STANDARD
END:VTIMEZONE
BEGIN:VEVENT
DTSTART;TZID=Europe/Madrid:20251111T193000
DTEND;TZID=Europe/Madrid:20251111T193000
DTSTAMP:20260422T182836
CREATED:20251030T162319Z
LAST-MODIFIED:20251030T162421Z
UID:270415-1762889400-1762889400@descubrecantabria.info
SUMMARY:Vigilando la noche con las aves del Olimpo charla con AstroCantabria
DESCRIPTION:¿DE QUÉ TRATA “Vigilando la noche con las aves del Olimpo charla con AstroCantabria”?\n  \n\n\n\n\n\n\n\n\n\n\n\nEl primer martes no festivo de cada mes AstroCantabria realiza una charla abierta al público en el Centro Cultural Doctor Madrazo. El martes 4 de noviembre a las 19:30h\, con ocasión del 50º aniversario de la Sociedad Malagueña de Astronomía (AstroMálaga)\, contarán\, vía videoconferencia\, con Blanca Troughton\, miembro de dicha asociación\, quien nos llevará a hacer un recorrido por las constelaciones y su mitología asociada como presentación del proyecto de Ciencia Ciudadana “Los vigilantes de la noche”.  \nNo se necesita inscripción previa. Entrada libre hasta completar aforo. \nSe recomienda acceder a la sala hacia las 19:15h. \n  \n\n\n\n\n¡Disfruta de los “Vigilando la noche con las aves del Olimpo charla con AstroCantabria”!\nDescubre Santander informa de que los diferentes eventos publicados se ofrecen a modo informativo\, no siendo Descubre Santander responsable de los problemas o daños causados por erratas o incorrecciones de los mismos.
URL:https://descubrecantabria.info/evento/vigilando-la-noche-con-las-aves-del-olimpo-charla-con-astrocantabria/
LOCATION:Centro Cultural Doctor Madrazo\, Calle Casimiro Sáiz 0\, Santander\, Cantabria\, 39004\, Spain
CATEGORIES:Cultura científica
ATTACH;FMTTYPE=image/webp:https://descubrecantabria.info/wp-content/uploads/2025/10/eventos-santander-vigilando-la-noche-con-las-aves-del-olimpo_11zon.webp
END:VEVENT
END:VCALENDAR