BEGIN:VCALENDAR
VERSION:2.0
PRODID:-//Guía oficial de Cantabria | Turismo | Descubre Cantabria - ECPv6.15.20//NONSGML v1.0//EN
CALSCALE:GREGORIAN
METHOD:PUBLISH
X-WR-CALNAME:Guía oficial de Cantabria | Turismo | Descubre Cantabria
X-ORIGINAL-URL:https://descubrecantabria.info
X-WR-CALDESC:Eventos para Guía oficial de Cantabria | Turismo | Descubre Cantabria
REFRESH-INTERVAL;VALUE=DURATION:PT1H
X-Robots-Tag:noindex
X-PUBLISHED-TTL:PT1H
BEGIN:VTIMEZONE
TZID:Europe/Madrid
BEGIN:DAYLIGHT
TZOFFSETFROM:+0100
TZOFFSETTO:+0200
TZNAME:CEST
DTSTART:20240331T010000
END:DAYLIGHT
BEGIN:STANDARD
TZOFFSETFROM:+0200
TZOFFSETTO:+0100
TZNAME:CET
DTSTART:20241027T010000
END:STANDARD
BEGIN:DAYLIGHT
TZOFFSETFROM:+0100
TZOFFSETTO:+0200
TZNAME:CEST
DTSTART:20250330T010000
END:DAYLIGHT
BEGIN:STANDARD
TZOFFSETFROM:+0200
TZOFFSETTO:+0100
TZNAME:CET
DTSTART:20251026T010000
END:STANDARD
BEGIN:DAYLIGHT
TZOFFSETFROM:+0100
TZOFFSETTO:+0200
TZNAME:CEST
DTSTART:20260329T010000
END:DAYLIGHT
BEGIN:STANDARD
TZOFFSETFROM:+0200
TZOFFSETTO:+0100
TZNAME:CET
DTSTART:20261025T010000
END:STANDARD
END:VTIMEZONE
BEGIN:VEVENT
DTSTART;VALUE=DATE:20250823
DTEND;VALUE=DATE:20250825
DTSTAMP:20260420T161451
CREATED:20250718T223135Z
LAST-MODIFIED:20250718T223145Z
UID:264615-1755907200-1756079999@descubrecantabria.info
SUMMARY:VII Feria nacional del tomate antiguo
DESCRIPTION:¿DE QUÉ TRATA “VII Feria nacional del tomate antiguo”?\n\n\n\n\n\n\n\n\n\n\n\n  \nUn referente para los entusiastas del tomate y la cultura local\, promete ser una celebración vibrante de sabores\, tradiciones y sostenibilidad. \nLos visitantes podrán disfrutar de una amplia variedad de tomates antiguos\, muchos de los cuales son difíciles de encontrar en el mercado. Desde los jugosos tomates de tipo beefsteak hasta los dulces y coloridos tomates amarillos\, habrá algo para todos los gustos. Además\, los productores locales estarán presentes para compartir sus conocimientos sobre el cultivo y la historia de estas variedades únicas. \nLa feria no solo se centrará en la exhibición de tomates\, sino que también ofrecerá talleres\, charlas y degustaciones. Los asistentes podrán aprender sobre técnicas de cultivo sostenible\, la importancia de la biodiversidad en la agricultura y cómo incorporar estos deliciosos tomates en sus recetas diarias. \nAdemás\, habrá actividades para toda la familia\, incluyendo juegos\, música en vivo y un mercado de productos locales que destacará la riqueza de la gastronomía de la región. Es una oportunidad perfecta para disfrutar de un día al aire libre\, rodeado de amigos y familiares\, mientras se celebra la herencia agrícola de Polanco. \nNo te pierdas la oportunidad de ser parte de esta experiencia única\, con una gran variedad de tomates listos para ser degustados. \n  \n\n\n\n\n\n\n\n\n\n\n\n\n\n\n\n\n\n\n¡Disfruta de los “VII Feria nacional del tomate antiguo”!\nDescubre Cantabria informa de que los diferentes eventos publicados se ofrecen a modo informativo\, no siendo Descubre Cantabria responsable de los problemas o daños causados por erratas o incorrecciones de los mismos.
URL:https://descubrecantabria.info/evento/vii-feria-nacional-del-tomate-antiguo/
LOCATION:Jardines de la Casa de Pereda\, Barrio Polanco 170\, Polanco\, Cantabria\, 39313\, Spain
CATEGORIES:Fiestas populares
ATTACH;FMTTYPE=image/webp:https://descubrecantabria.info/wp-content/uploads/2025/07/eventos-polanco-vii-feria-nacional-del-tomate-antiguo_11zon.webp
END:VEVENT
END:VCALENDAR