BEGIN:VCALENDAR
VERSION:2.0
PRODID:-//Guía oficial de Cantabria | Turismo | Descubre Cantabria - ECPv6.15.20//NONSGML v1.0//EN
CALSCALE:GREGORIAN
METHOD:PUBLISH
X-WR-CALNAME:Guía oficial de Cantabria | Turismo | Descubre Cantabria
X-ORIGINAL-URL:https://descubrecantabria.info
X-WR-CALDESC:Eventos para Guía oficial de Cantabria | Turismo | Descubre Cantabria
REFRESH-INTERVAL;VALUE=DURATION:PT1H
X-Robots-Tag:noindex
X-PUBLISHED-TTL:PT1H
BEGIN:VTIMEZONE
TZID:Europe/Madrid
BEGIN:DAYLIGHT
TZOFFSETFROM:+0100
TZOFFSETTO:+0200
TZNAME:CEST
DTSTART:20250330T010000
END:DAYLIGHT
BEGIN:STANDARD
TZOFFSETFROM:+0200
TZOFFSETTO:+0100
TZNAME:CET
DTSTART:20251026T010000
END:STANDARD
BEGIN:DAYLIGHT
TZOFFSETFROM:+0100
TZOFFSETTO:+0200
TZNAME:CEST
DTSTART:20260329T010000
END:DAYLIGHT
BEGIN:STANDARD
TZOFFSETFROM:+0200
TZOFFSETTO:+0100
TZNAME:CET
DTSTART:20261025T010000
END:STANDARD
BEGIN:DAYLIGHT
TZOFFSETFROM:+0100
TZOFFSETTO:+0200
TZNAME:CEST
DTSTART:20270328T010000
END:DAYLIGHT
BEGIN:STANDARD
TZOFFSETFROM:+0200
TZOFFSETTO:+0100
TZNAME:CET
DTSTART:20271031T010000
END:STANDARD
END:VTIMEZONE
BEGIN:VEVENT
DTSTART;VALUE=DATE:20260420
DTEND;VALUE=DATE:20260421
DTSTAMP:20260420T071246
CREATED:20260331T165801Z
LAST-MODIFIED:20260331T165932Z
UID:30006076-1776643200-1776729599@descubrecantabria.info
SUMMARY:Exposición Pintura china de Mengyin Wagn en Castro Urdiales
DESCRIPTION:¿DE QUÉ TRATA “Exposición Pintura china de Mengyin Wagn en Castro Urdiales”?\n  \nVisita la exquisita exposición de pintura china de MENGYIN WANG y sus estudiantes.  Del 10 de abril al 10 de mayo en el CC La Residencia.  \nHorarios: \nLunes a viernes: 8:00 a 20:45 \n Sábado: 10:00 a 13:00 | 17:00 20:45  \nDomingo: 11:00 a 13:45 \n  \n¡Disfruta de los “Exposición Pintura china de Mengyin Wagn en Castro Urdiales”!\nDescubre Cantabria informa de que los diferentes eventos publicados se ofrecen a modo informativo\, no siendo Descubre Cantabria responsable de los problemas o daños causados por erratas o incorrecciones de los mismos.
URL:https://descubrecantabria.info/evento/exposicion-pintura-china-de-mengyin-wagn-en-castro-urdiales/2026-04-20/
LOCATION:Centro Cultural La Residencia\, Calle María Aburto\, 4\, Castro Urdiales\, Cantabria\, 39700\, Spain
CATEGORIES:Artes plástica,Exposiciones
ATTACH;FMTTYPE=image/webp:https://descubrecantabria.info/wp-content/uploads/2026/03/eventos-cantabria-exposicion-pintura-china-mengyin-wang_11zon.webp
END:VEVENT
BEGIN:VEVENT
DTSTART;TZID=Europe/Madrid:20260420T090000
DTEND;TZID=Europe/Madrid:20260420T210000
DTSTAMP:20260420T071246
CREATED:20260305T152207Z
LAST-MODIFIED:20260305T152302Z
UID:30003853-1776675600-1776718800@descubrecantabria.info
SUMMARY:Exposición Memoria líquida en Santander
DESCRIPTION:¿DE QUÉ TRATA “Exposición Memoria líquida en Santander”?\n  \nLa muestra\, presenta una selección de obras realizadas en técnica mixta\, óleo y acrílico\, en formato mediano. La temática gira en torno a la ciudad como escenario vital y simbólico\, en diálogo con elementos cósmicos y atmosféricos. \n  \n¡Disfruta de los “Exposición Memoria líquida en Santander”!\nDescubre Cantabria informa de que los diferentes eventos publicados se ofrecen a modo informativo\, no siendo Descubre Cantabria responsable de los problemas o daños causados por erratas o incorrecciones de los mismos.
URL:https://descubrecantabria.info/evento/exposicion-memoria-liquida-en-santander/2026-04-20/
LOCATION:Centro Cultural Doctor Madrazo\, Calle Casimiro Sáiz 0\, Santander\, Cantabria\, 39004\, Spain
CATEGORIES:Exposiciones
ATTACH;FMTTYPE=image/webp:https://descubrecantabria.info/wp-content/uploads/2026/03/eventos-cantabria-exposicion-memoria-liquida_11zon.webp
END:VEVENT
BEGIN:VEVENT
DTSTART;TZID=Europe/Madrid:20260420T093000
DTEND;TZID=Europe/Madrid:20260420T180000
DTSTAMP:20260420T071246
CREATED:20260313T185514Z
LAST-MODIFIED:20260313T185526Z
UID:30004880-1776677400-1776708000@descubrecantabria.info
SUMMARY:Exposición Emilia Pardo Bazán\, una pionera en Altamira
DESCRIPTION:¿DE QUÉ TRATA “Exposición Emilia Pardo Bazán\, una pionera en Altamira”?\n  \n\nEn el año 2022 el Museo Nacional y Centro de Investigación de Altamira decidió poner en marcha el Espacio Vínculos. Esta iniciativa propone a los visitantes un espacio en el que conocer otros lugares\, acercarse a otro patrimonio y vivir otros momentos ligados a la cueva de Altamira y su Museo. \n Vínculos es un rincón\, como si de una pequeña cápsula se tratara\, en el que conectar con aquello vinculado a Altamira\, que profundiza en detalles\, relaciones\, personas\, historias y otros aspectos que con el tiempo han enriquecido este sitio Patrimonio Mundial. \nEmilia Pardo Bazán visita la cueva de Altamira tan temprano como 1894\, apenas quince años después de su descubrimiento\, en un momento en que aún no se había aceptado su autenticidad y autoría paleolítica.  \nCon motivo de su visita escribe un artículo en La Época\, donde plasma sus impresiones y curiosidad por la cueva y el arte rupestre. \nEn el espacio Vínculos se recogerá también su obra En las cavernas\, de 1912\, que conservamos en la biblioteca. Horario de visita: \nDe martes a sábado de 9:30 a 18:00 h \nDomingos y festivos de 9:30 a 15:00 h \n\n  \n¡Disfruta de los “Exposición Emilia Pardo Bazán\, una pionera en Altamira”!\nDescubre Cantabria informa de que los diferentes eventos publicados se ofrecen a modo informativo\, no siendo Descubre Cantabria responsable de los problemas o daños causados por erratas o incorrecciones de los mismos.
URL:https://descubrecantabria.info/evento/exposicion-emilia-pardo-bazan-una-pionera-en-altamira/2026-04-20/
LOCATION:Museo de Altamira\, Avenida Marcelino Sanz de Sautuola 0\, Santillana del Mar\, Cantabria\, 39330\, Spain
CATEGORIES:Exposiciones
ATTACH;FMTTYPE=image/webp:https://descubrecantabria.info/wp-content/uploads/2026/03/eventos-cantabria-exposicion-pardo-bazan_11zon.webp
END:VEVENT
BEGIN:VEVENT
DTSTART;TZID=Europe/Madrid:20260420T100000
DTEND;TZID=Europe/Madrid:20260420T170000
DTSTAMP:20260420T071246
CREATED:20260319T113953Z
LAST-MODIFIED:20260319T113953Z
UID:30005363-1776679200-1776704400@descubrecantabria.info
SUMMARY:Exposición Ave Fénix de Quique Ruiz de Villa
DESCRIPTION:¿DE QUÉ TRATA “Exposición Ave Fénix de Quique Ruiz de Villa”?\n  \nNueva exposición en Cristalería Robledo de la mano de Quique Ruiz de Villa\, llega “Ave Fénix”. Horario de visita de Lunes a Viernes en horario comercial. \n  \n¡Disfruta de los “Exposición Ave Fénix de Quique Ruiz de Villa”!\nDescubre Cantabria informa de que los diferentes eventos publicados se ofrecen a modo informativo\, no siendo Descubre Cantabria responsable de los problemas o daños causados por erratas o incorrecciones de los mismos.
URL:https://descubrecantabria.info/evento/exposicion-ave-fenix-de-quique-ruiz-de-villa/2026-04-20/
LOCATION:Cristaleria Robledo\, Calle Consolación\, 26\, Torrelavega\, Cantabria\, 39300\, Spain
CATEGORIES:Exposiciones
ATTACH;FMTTYPE=image/webp:https://descubrecantabria.info/wp-content/uploads/2026/03/eventos-cantabria-exposicion-de-quique-ruiz-de-villa_11zon.webp
END:VEVENT
BEGIN:VEVENT
DTSTART;TZID=Europe/Madrid:20260420T123000
DTEND;TZID=Europe/Madrid:20260420T170000
DTSTAMP:20260420T071246
CREATED:20260414T161554Z
LAST-MODIFIED:20260414T161726Z
UID:30008164-1776688200-1776704400@descubrecantabria.info
SUMMARY:Conferencia Concepción Revuelta en Comillas
DESCRIPTION:¿DE QUÉ TRATA “Conferencia Concepción Revuelta en Comillas”?\n  \nLa escritora santanderina\, Concepción Revuelta\, ofrecerá una conferencia en la Fundación Comillas durante la entrega de los premios del V Certamen Literario Cascabel de Poesía y Relato Breve. ¡Te esperamos! En la Biblioteca de la Fundación Comillas encontrarás sus novelas disponibles para préstamo. \n  \n¡Disfruta de los “Conferencia Concepción Revuelta en Comillas”!\nDescubre Cantabria informa de que los diferentes eventos publicados se ofrecen a modo informativo\, no siendo Descubre Cantabria responsable de los problemas o daños causados por erratas o incorrecciones de los mismos.
URL:https://descubrecantabria.info/evento/conferencia-concepcion-revuelta-en-comillas/
LOCATION:Biblioteca Comillas\, Calle Antonio López 3\, Comillas\, Cantabria\, 39520\, Spain
CATEGORIES:Charlas,Literatura
ATTACH;FMTTYPE=image/webp:https://descubrecantabria.info/wp-content/uploads/2026/04/eventos-cantabria-conferencia-concepcion-revuelta-comillas_11zon.webp
END:VEVENT
BEGIN:VEVENT
DTSTART;TZID=Europe/Madrid:20260420T160000
DTEND;TZID=Europe/Madrid:20260420T170000
DTSTAMP:20260420T071246
CREATED:20260225T133018Z
LAST-MODIFIED:20260225T133033Z
UID:30002599-1776700800-1776704400@descubrecantabria.info
SUMMARY:Taller tejiendo historias
DESCRIPTION:¿DE QUÉ TRATA “Taller tejiendo historias”?\n  \nTaller ‘Tejiendo Historias’A partir del 23 de marzo a las 16.00  en el Centro Cultural El Espolón. Comparte recuerdos para escribir la historia de Comillas. Se realizará una vez por semana hasta el mes de mayo. Organiza la Asociación de Mujeres de Cantabria La Amazuela. \n  \n¡Disfruta de los “Taller tejiendo historias”!\n  \nEncuentra todos los eventos de Comillas aquí. \nDescubre Cantabria informa de que los diferentes eventos publicados se ofrecen a modo informativo\, no siendo Descubre Cantabria responsable de los problemas o daños causados por erratas o incorrecciones de los mismos.
URL:https://descubrecantabria.info/evento/taller-tejiendo-historias/2026-04-20/
LOCATION:Centro Cultural El Espolón\, Calle Antonio López 3\, Comillas\, Cantabria\, 39520\, Spain
CATEGORIES:Talleres
ATTACH;FMTTYPE=image/webp:https://descubrecantabria.info/wp-content/uploads/2026/02/eventos-comillas-taller-tejiendo-historias_11zon.webp
END:VEVENT
BEGIN:VEVENT
DTSTART;TZID=Europe/Madrid:20260420T163000
DTEND;TZID=Europe/Madrid:20260420T170000
DTSTAMP:20260420T071246
CREATED:20260310T152326Z
LAST-MODIFIED:20260310T152344Z
UID:30004332-1776702600-1776704400@descubrecantabria.info
SUMMARY:Taller de entrenamiento de la memoria AFAC
DESCRIPTION:¿DE QUÉ TRATA “Taller de entrenamiento de la memoria AFAC”?\n  \nTaller de entrenamiento de la Memoria AFAC. Impartido por profesionales de AFA Cantabria. Asociación de Familiares de Alzheimer Cantabria. AFA Cantabria. Lunes de 16.30 a 18.00. Desde el 13 de abril hasta el 15 de junio de 2026 \n  \n¡Disfruta de los “Taller de entrenamiento de la memoria AFAC”!\nDescubre Cantabria informa de que los diferentes eventos publicados se ofrecen a modo informativo\, no siendo Descubre Cantabria responsable de los problemas o daños causados por erratas o incorrecciones de los mismos.
URL:https://descubrecantabria.info/evento/taller-de-entrenamiento-de-la-memoria-afac/2026-04-20/
LOCATION:Centro Cultural Eladio Laredo (Edificio Royal)\, Calle Jardines\, 3\, Castro Urdiales\, Cantabria\, 39700\, Spain
CATEGORIES:Talleres
ATTACH;FMTTYPE=image/webp:https://descubrecantabria.info/wp-content/uploads/2026/03/eventos-cantabria-taller-entrenamiento-de-la-memoria_11zon.webp
END:VEVENT
BEGIN:VEVENT
DTSTART;TZID=Europe/Madrid:20260420T163000
DTEND;TZID=Europe/Madrid:20260420T180000
DTSTAMP:20260420T071246
CREATED:20260323T122106Z
LAST-MODIFIED:20260323T122106Z
UID:30005520-1776702600-1776708000@descubrecantabria.info
SUMMARY:Taller de baile Ramales de la Victoria 2026
DESCRIPTION:¿DE QUÉ TRATA “Taller de baile Ramales de la Victoria 2026”?\n  \nTALLER DE BAILE. Los lunes de 16:30 a 18:00\, a partir del mes de abril. Centro Cívico – Fundación Orense. Toda la información en el 650 11 57 66 \n  \n¡Disfruta de los “Taller de baile Ramales de la Victoria 2026”!\nDescubre Cantabria informa de que los diferentes eventos publicados se ofrecen a modo informativo\, no siendo Descubre Cantabria responsable de los problemas o daños causados por erratas o incorrecciones de los mismos.
URL:https://descubrecantabria.info/evento/taller-de-baile-ramales-de-la-victoria-2026/2026-04-20/
LOCATION:Fundacion Orense\, Paseo Barón de Adzaneta\, 8\, Ramales de la Victoria\, Cantabria\, 39800\, Spain
CATEGORIES:Talleres
ATTACH;FMTTYPE=image/webp:https://descubrecantabria.info/wp-content/uploads/2026/03/eventos-cantabria-taller-de-baile-ramales-de-la-victoria_11zon.webp
END:VEVENT
BEGIN:VEVENT
DTSTART;TZID=Europe/Madrid:20260420T170000
DTEND;TZID=Europe/Madrid:20260420T170000
DTSTAMP:20260420T071246
CREATED:20260414T075401Z
LAST-MODIFIED:20260414T075511Z
UID:30006762-1776704400-1776704400@descubrecantabria.info
SUMMARY:Semana del libro Noja 2026
DESCRIPTION:
URL:https://descubrecantabria.info/evento/semana-del-libro-noja-2026/2026-04-20/
LOCATION:EnNojate365\, Calle Marqués de Velasco\, 8\, Noja\, Cantabria\, 39180\, Spain
CATEGORIES:Literatura
ATTACH;FMTTYPE=image/webp:https://descubrecantabria.info/wp-content/uploads/2026/04/semana-del-libro-noja-2026_11zon.webp
END:VEVENT
BEGIN:VEVENT
DTSTART;TZID=Europe/Madrid:20260420T170000
DTEND;TZID=Europe/Madrid:20260420T170000
DTSTAMP:20260420T071246
CREATED:20260414T145405Z
LAST-MODIFIED:20260414T145540Z
UID:30008082-1776704400-1776704400@descubrecantabria.info
SUMMARY:Charla uso de móviles en menores
DESCRIPTION:¿DE QUÉ TRATA “Charla uso de móviles en menores”?\n  \nCharla para familias: uso de móviles en menores. El Ayuntamiento de Santa Cruz de Bezana acoge una charla informativa dirigida a familias sobre el impacto del uso del smartphone en niños y adolescentes. En el Centro Cívico de Bezana (Plaza Margarita) Aforo limitado \nDurante la sesión se abordarán cuestiones clave como los efectos del uso temprano del móvil\, qué dicen los expertos y qué pueden hacer las familias ante esta realidad. \nAdemás\, se presentará una propuesta práctica que ya están impulsando muchas familias: el pacto colectivo para retrasar la entrega del primer smartphone. \nUna oportunidad para informarse\, reflexionar y tomar decisiones con mayor tranquilidad. \n  \n¡Disfruta de los “Charla uso de móviles en menores”!\nDescubre Cantabria informa de que los diferentes eventos publicados se ofrecen a modo informativo\, no siendo Descubre Cantabria responsable de los problemas o daños causados por erratas o incorrecciones de los mismos.
URL:https://descubrecantabria.info/evento/charla-uso-de-moviles-en-menores/
LOCATION:Centro Civico de Bezana\, Plaza Margarita\, s/n\, Bezana\, Cantabria\, 39100\, Spain
CATEGORIES:Charlas
ATTACH;FMTTYPE=image/webp:https://descubrecantabria.info/wp-content/uploads/2026/04/eventos-cantabria-presentacion-de-la-plataforma-adolescencia_11zon.webp
END:VEVENT
BEGIN:VEVENT
DTSTART;TZID=Europe/Madrid:20260420T170000
DTEND;TZID=Europe/Madrid:20260420T203000
DTSTAMP:20260420T071246
CREATED:20260305T143526Z
LAST-MODIFIED:20260305T143623Z
UID:30003804-1776704400-1776717000@descubrecantabria.info
SUMMARY:Exposición musas en Piélagos
DESCRIPTION:¿DE QUÉ TRATA “Exposición musas en Piélagos”?\n  \nLas ‘Musas’ de José Antonio Andrés Vera recalarán desde este jueves en el Centro Cultural Quijano. \nAcogerá desde ese día y hasta el próximo 30 de abril la exposición de estas esculturas de madera que proponen una mirada sensible sobre la mujer como presencia\, origen y naturaleza creadora \nDe hecho\, cada una de las creaciones que forman parte de la muestra no buscan representar un cuerpo ideal\, sino dejar que la forma surja del diálogo con la materia viva \nLa exposición podrá visitarse\, de lunes a viernes\, en horario de tarde\, de 17:00 a 20.30 horas \n  \n¡Disfruta de los “Exposición musas en Piélagos”!\nDescubre Cantabria informa de que los diferentes eventos publicados se ofrecen a modo informativo\, no siendo Descubre Cantabria responsable de los problemas o daños causados por erratas o incorrecciones de los mismos.
URL:https://descubrecantabria.info/evento/exposicion-musas-en-pielagos/2026-04-20/
LOCATION:Centro Cultural Quijano\, Barrio la Herrería\, 4\, Piélagos\, Cantabria\, 39477\, Spain
CATEGORIES:Exposiciones
ATTACH;FMTTYPE=image/webp:https://descubrecantabria.info/wp-content/uploads/2026/03/eventos-cantabria-exposicion-las-musas_11zon.webp
END:VEVENT
BEGIN:VEVENT
DTSTART;TZID=Europe/Madrid:20260420T211500
DTEND;TZID=Europe/Madrid:20260420T211500
DTSTAMP:20260420T071246
CREATED:20251229T104421Z
LAST-MODIFIED:20251229T104432Z
UID:30001001-1776719700-1776719700@descubrecantabria.info
SUMMARY:Lunes del Bolero Prohibido en Santander
DESCRIPTION:¿DE QUÉ TRATA “Lunes del Bolero Prohibido en Santander”?\n\n\n\n\n\n\n  \nComo cada lunes desde hace seis años\, la asociación cultural ProBoCa (asociación sin ánimo de lucro para la promoción del Bolero en Cantabria) organiza estas reuniones culturales para hablar\, no solo de dos patrimonios culturales\, como son el bolero y la Zarzuela\, sino también para exponer la historia perdida de una Santander ligada a América y poner en valor a importantes personajes históricos de Cantabria.  \nNo solo se interpretan alrededor de 25 boleros y una Zarzuela (y se habla en los dos casos de autores y de intérpretes) sino que también se recitan poesías y se cantan las canciones tradicionales\, que siempre se han cantado en los bares de Santander. Porque uno de los objetivos de estos lunes del prohibido es que no se pierda la tradición de cantar popularmente boleros\, habaneras y canciones marineras en los bares de esta Santander cantarina\, ya que forma parte de la idiosincrasia de esta capital de esta bendita tierra de indianos. \n  \n\n\n\n\n\n\n¡Disfruta de los “Lunes del Bolero Prohibido en Santander”!\nDescubre Santander informa de que los diferentes eventos publicados se ofrecen a modo informativo\, no siendo Descubre Santander responsable de los problemas o daños causados por erratas o incorrecciones de los mismos.
URL:https://descubrecantabria.info/evento/lunes-del-bolero-prohibido-en-santander/2026-04-20/
LOCATION:Bar Bolero\, Calle San Celedonio\, 35\, Santander\, Cantabria\, 39001\, Spain
CATEGORIES:Música
ATTACH;FMTTYPE=image/webp:https://descubrecantabria.info/wp-content/uploads/2025/12/eventos-santander-lunes-del-bolero-prohibido_11zon.webp
END:VEVENT
END:VCALENDAR