BEGIN:VCALENDAR
VERSION:2.0
PRODID:-//Guía oficial de Cantabria | Turismo | Descubre Cantabria - ECPv6.15.20//NONSGML v1.0//EN
CALSCALE:GREGORIAN
METHOD:PUBLISH
X-WR-CALNAME:Guía oficial de Cantabria | Turismo | Descubre Cantabria
X-ORIGINAL-URL:https://descubrecantabria.info
X-WR-CALDESC:Eventos para Guía oficial de Cantabria | Turismo | Descubre Cantabria
REFRESH-INTERVAL;VALUE=DURATION:PT1H
X-Robots-Tag:noindex
X-PUBLISHED-TTL:PT1H
BEGIN:VTIMEZONE
TZID:Europe/Madrid
BEGIN:DAYLIGHT
TZOFFSETFROM:+0100
TZOFFSETTO:+0200
TZNAME:CEST
DTSTART:20250330T010000
END:DAYLIGHT
BEGIN:STANDARD
TZOFFSETFROM:+0200
TZOFFSETTO:+0100
TZNAME:CET
DTSTART:20251026T010000
END:STANDARD
BEGIN:DAYLIGHT
TZOFFSETFROM:+0100
TZOFFSETTO:+0200
TZNAME:CEST
DTSTART:20260329T010000
END:DAYLIGHT
BEGIN:STANDARD
TZOFFSETFROM:+0200
TZOFFSETTO:+0100
TZNAME:CET
DTSTART:20261025T010000
END:STANDARD
BEGIN:DAYLIGHT
TZOFFSETFROM:+0100
TZOFFSETTO:+0200
TZNAME:CEST
DTSTART:20270328T010000
END:DAYLIGHT
BEGIN:STANDARD
TZOFFSETFROM:+0200
TZOFFSETTO:+0100
TZNAME:CET
DTSTART:20271031T010000
END:STANDARD
END:VTIMEZONE
BEGIN:VEVENT
DTSTART;TZID=Europe/Madrid:20260422T110000
DTEND;TZID=Europe/Madrid:20260422T203000
DTSTAMP:20260422T012816
CREATED:20260331T164316Z
LAST-MODIFIED:20260331T164608Z
UID:30006063-1776855600-1776889800@descubrecantabria.info
SUMMARY:Exposición Un paraíso oculto bajo los pies en Laredo
DESCRIPTION:¿DE QUÉ TRATA “Exposición Un paraíso oculto bajo los pies en Laredo”?\n  \nUna exposición fotográfica en la que de la mano de Juan Montero descubriremos lo que se oculta en el subsuelo a través de una serie de fotografías\, algunas de ellas acreedoras de diversos premios internacionales\, realizadas en distintas cuevas y minas de nuestro entorno.  \nEn nuestra visita a la exposición podremos disfrutar de formaciones geológicas increíbles\, infinidad de colores\, texturas de piedra\, restos de arqueología minera\, cursos de agua subterránea y las más variadas formas que la geología kárstica y la naturaleza nos regalan.  \nHorario:  \nMiércoles a Sábado: 11:00 a 13:30  \nDomingo: 11:00 a 14:00 \n  \n¡Disfruta de los “Exposición Un paraíso oculto bajo los pies en Laredo”!\nDescubre Cantabria informa de que los diferentes eventos publicados se ofrecen a modo informativo\, no siendo Descubre Cantabria responsable de los problemas o daños causados por erratas o incorrecciones de los mismos.
URL:https://descubrecantabria.info/evento/exposicion-un-paraiso-oculto-bajo-los-pies-en-laredo/2026-04-22/
LOCATION:Espacio de Arte Casa de la Villa\, Calle López Seña 10\, Laredo\, Cantabria\, 39770\, Spain
CATEGORIES:Exposiciones,Fotografía
ATTACH;FMTTYPE=image/webp:https://descubrecantabria.info/wp-content/uploads/2026/03/eventos-cantabria-exposicion-un-paraiso-oculto_11zon.webp
END:VEVENT
BEGIN:VEVENT
DTSTART;TZID=Europe/Madrid:20260422T170000
DTEND;TZID=Europe/Madrid:20260422T170000
DTSTAMP:20260422T012816
CREATED:20260408T181107Z
LAST-MODIFIED:20260408T181202Z
UID:30006493-1776877200-1776877200@descubrecantabria.info
SUMMARY:Taller de autoconocimiento femenino en Ramales
DESCRIPTION:¿DE QUÉ TRATA “Taller de autoconocimiento femenino en Ramales”?\n  \nDirigidos a mujeres interesadas en el desarrollo personal y emocional. Todos los miércoles\, hasta el 6 de mayo de  2026 de 17:00 a 18:30.  \nEn el antiguo consultorio médico de Gibaja. Priorízate · Descúbrete · Implícate · Considérate. Porque conocerte es una forma de cuidarte.  \n+Info  650 11 57 66 Imparte APLEC Inclusión + Igualdad  \n  \n¡Disfruta de los “Taller de autoconocimiento femenino en Ramales”!\nDescubre Cantabria informa de que los diferentes eventos publicados se ofrecen a modo informativo\, no siendo Descubre Cantabria responsable de los problemas o daños causados por erratas o incorrecciones de los mismos.
URL:https://descubrecantabria.info/evento/taller-de-autoconocimiento-femenino-en-ramales/2026-04-22/
LOCATION:Antiguo Consultorio medico de Gibaja\, Lugar Gibaja\, Barrio la Quitana\, 21\, Ramales de la Victoria\, Cantabria\, 39809\, Spain
CATEGORIES:Talleres
ATTACH;FMTTYPE=image/webp:https://descubrecantabria.info/wp-content/uploads/2026/04/eventos-cantabria-taller-de-autoconmocimiento_11zon.webp
END:VEVENT
BEGIN:VEVENT
DTSTART;TZID=Europe/Madrid:20260422T170000
DTEND;TZID=Europe/Madrid:20260422T170000
DTSTAMP:20260422T012816
CREATED:20260414T075401Z
LAST-MODIFIED:20260414T075511Z
UID:30006763-1776877200-1776877200@descubrecantabria.info
SUMMARY:Semana del libro Noja 2026
DESCRIPTION:
URL:https://descubrecantabria.info/evento/semana-del-libro-noja-2026/2026-04-22/
LOCATION:EnNojate365\, Calle Marqués de Velasco\, 8\, Noja\, Cantabria\, 39180\, Spain
CATEGORIES:Literatura
ATTACH;FMTTYPE=image/webp:https://descubrecantabria.info/wp-content/uploads/2026/04/semana-del-libro-noja-2026_11zon.webp
END:VEVENT
BEGIN:VEVENT
DTSTART;TZID=Europe/Madrid:20260422T170000
DTEND;TZID=Europe/Madrid:20260422T170000
DTSTAMP:20260422T012816
CREATED:20260420T170752Z
LAST-MODIFIED:20260420T170823Z
UID:30008233-1776877200-1776877200@descubrecantabria.info
SUMMARY:Mes del libro Polanco 2026
DESCRIPTION:
URL:https://descubrecantabria.info/evento/mes-del-libro-polanco-2026/2026-04-22/
LOCATION:Pabellon Polideportivo de Polanco\, Barrio la Iglesia s/n\, Polanco\, Cantabria\, 39313\, Spain
CATEGORIES:Infantil,Literatura
ATTACH;FMTTYPE=image/webp:https://descubrecantabria.info/wp-content/uploads/2026/04/mes-del-libro-polanco-2026_11zon.webp
END:VEVENT
BEGIN:VEVENT
DTSTART;TZID=Europe/Madrid:20260422T180000
DTEND;TZID=Europe/Madrid:20260422T180000
DTSTAMP:20260422T012816
CREATED:20260413T154948Z
LAST-MODIFIED:20260413T155325Z
UID:30006646-1776880800-1776880800@descubrecantabria.info
SUMMARY:Mes del libro Comillas 2026
DESCRIPTION:¿DE QUÉ TRATA “Mes del libro Comillas 2026”?\n  \n18:00 Miércoles 8 de abril | Mes del libro Comillas 2026\nClub de lectura entre líneas. Reunión para comentar el libro Un país con tu nombre\, de Alejandro Palomas. \n  \n18:00 Miércoles 15 de abril | Mes del libro Comillas 2026\nClub de lectura del Sr. Chips Reunión para comentar el libro El hijo del asesino\, de Pablo Alaña \n  \n18:00 Miércoles 22 de abril | Mes del libro Comillas 2026\nEl viaje\, cuentacuentos familiar para celebrar el Día del Libro\, a cargo de Cristina Carreras. ¡Qué cuentista! \n  \n18:00 Jueves 23 de abril | Mes del libro Comillas 2026\nUn bebé\, un libro. Regalo de bienvenida a la bilioteca a los bebés nacidos en Comillas entre el 23 de abril de 2025 y el 23 de abril de 2026. \nBebécuentos: De la cuna a la luna. Sesión para bebés de 0 a 3 años\, a cargo de Roberto Mezquite. \n  \n18:00 Miércoles 29 de abril | Mes del libro Comillas 2026\nMiércoles y la cigüeña. Hora del cuento\, para niños y niñas a partir de 4 años. 8 bibliotecas y un bizccho: Un bizcocho de fábula. \n  \n¡Disfruta de los “Mes del libro Comillas 2026”!\nDescubre Cantabria informa de que los diferentes eventos publicados se ofrecen a modo informativo\, no siendo Descubre Cantabria responsable de los problemas o daños causados por erratas o incorrecciones de los mismos.
URL:https://descubrecantabria.info/evento/mes-del-libro-comillas-2026/2026-04-22/
LOCATION:Biblioteca Comillas\, Calle Antonio López 3\, Comillas\, Cantabria\, 39520\, Spain
CATEGORIES:Infantil,Literatura
ATTACH;FMTTYPE=image/webp:https://descubrecantabria.info/wp-content/uploads/2026/04/eventos-cantabria-mes-del-libro-comillas-2026_11zon.webp
END:VEVENT
BEGIN:VEVENT
DTSTART;TZID=Europe/Madrid:20260422T180000
DTEND;TZID=Europe/Madrid:20260422T180000
DTSTAMP:20260422T012816
CREATED:20260413T160506Z
LAST-MODIFIED:20260413T160527Z
UID:30006756-1776880800-1776880800@descubrecantabria.info
SUMMARY:Cuentacuentos familiar | El viaje
DESCRIPTION:¿DE QUÉ TRATA “Cuentacuentos familiar | El viaje”?\n  \nCon motivo del mes del libro en Comillas\, ven a disfrutar del cuentacuentos familiar El Viaje. Se realiza en la Biblioteca Municipal Jesús Vallina de Comillas en el Centro Cultural El Espolón. \n  \n¡Disfruta de los “Cuentacuentos familiar | El viaje”!\nDescubre Cantabria informa de que los diferentes eventos publicados se ofrecen a modo informativo\, no siendo Descubre Cantabria responsable de los problemas o daños causados por erratas o incorrecciones de los mismos.
URL:https://descubrecantabria.info/evento/cuentacuentos-familiar-el-viaje/
LOCATION:Biblioteca Comillas\, Calle Antonio López 3\, Comillas\, Cantabria\, 39520\, Spain
CATEGORIES:Infantil,Literatura
ATTACH;FMTTYPE=image/webp:https://descubrecantabria.info/wp-content/uploads/2026/04/eventos-cantabria-el-viaje-cuentacuentos-familiar_11zon.webp
END:VEVENT
BEGIN:VEVENT
DTSTART;TZID=Europe/Madrid:20260422T183000
DTEND;TZID=Europe/Madrid:20260422T183000
DTSTAMP:20260422T012816
CREATED:20260219T171653Z
LAST-MODIFIED:20260219T171827Z
UID:30001673-1776882600-1776882600@descubrecantabria.info
SUMMARY:Curso de historia de Torrelavega
DESCRIPTION:¿DE QUÉ TRATA “Curso de historia de Torrelavega”?\n  \nConoce la historia de Torrelavega de la mano de Marcos Pereda\, profesor del centro asociado de la UNED en Cantabria y escritor. Descubre la verdadera historia de Torrelavega\, puedes solicitar información llamando al 942 813 008. \n  \n¡Disfruta de los “Curso de historia de Torrelavega”!\n  \nEncuentra todos los eventos de Torrelavega aquí. \nEncuentra todos los talleres y formaciones de Cantabria aquí. \nDescubre Cantabria informa de que los diferentes eventos publicados se ofrecen a modo informativo\, no siendo Descubre Cantabria responsable de los problemas o daños causados por erratas o incorrecciones de los mismos.
URL:https://descubrecantabria.info/evento/curso-de-historia-de-torrelavega/2026-04-22/
LOCATION:Sala de Exposiciones Mauro Muriedas\, Calle Pedro Alonso Revuelta 5\, Torrelavega\, Cantabria\, 39300\, Spain
CATEGORIES:Talleres
ATTACH;FMTTYPE=image/webp:https://descubrecantabria.info/wp-content/uploads/2026/02/eventos-torrelavega-curso-de-historia-de-torrelavega-2026_11zon.webp
END:VEVENT
BEGIN:VEVENT
DTSTART;TZID=Europe/Madrid:20260422T183000
DTEND;TZID=Europe/Madrid:20260422T183000
DTSTAMP:20260422T012816
CREATED:20260221T091019Z
LAST-MODIFIED:20260221T091028Z
UID:30001739-1776882600-1776882600@descubrecantabria.info
SUMMARY:Proyección "Celebración" en Noja
DESCRIPTION:¿DE QUÉ TRATA “Proyección “Celebración” en Noja?\n  \nTodos los miércoles\, a las 18:30 horas\, en el Centro de Ocio Playa Dorada\, podrás disfrutar de una película diferente cada semana en versión original\, subtitulada en castellano. \nEn esta ocasión\, veremos la película «Celebración» (1998 – DINAMARCA) \, dirigida por Thomas Vinterberg. \nSinopsis \nLos Klingenfeldt\, una familia de la alta burguesía danesa\, se disponen a celebrar el sesenta cumpleaños del patriarca\, un hombre de trayectoria y reputación intachable. Sin embargo\, sus tres hijos\, aunque muy diferentes entre sí\, están dispuestos a aprovechar la ocasión para sacar a relucir los trapos sucios de la familia. \nDuración: 105 minutos \nCalificación: NO RECOMENDADA PARA MENORES DE DIECIOCHO AÑOS \n  \n¡Disfruta de los “Proyección “Celebración” en Noja”!\n  \nEncuentra todos los eventos de Noja aquí. \nDescubre Cantabria informa de que los diferentes eventos publicados se ofrecen a modo informativo\, no siendo Descubre Cantabria responsable de los problemas o daños causados por erratas o incorrecciones de los mismos.
URL:https://descubrecantabria.info/evento/proyeccion-celebracion-en-noja/
LOCATION:Centro Ocio Playa Dorada\, Avenida Ris 79-81\, Noja\, Cantabria\, 39180\, Spain
CATEGORIES:Cine
ATTACH;FMTTYPE=image/webp:https://descubrecantabria.info/wp-content/uploads/2026/02/eventos-nojaproyeccion-celebracion_11zon.webp
END:VEVENT
BEGIN:VEVENT
DTSTART;TZID=Europe/Madrid:20260422T183000
DTEND;TZID=Europe/Madrid:20260422T183000
DTSTAMP:20260422T012816
CREATED:20260326T163905Z
LAST-MODIFIED:20260326T163938Z
UID:30005852-1776882600-1776882600@descubrecantabria.info
SUMMARY:¿Quién sabe más del Racing?
DESCRIPTION:¿DE QUÉ TRATA “¿Quién sabe más del Racing?”?\n  \n¿Quién sabe más del Racing? Concurso de preguntas del Real Racing Club de Santander : Liga y Copa del Rey. Miércoles\,22 de abril\, en el Polideportivo Pachi Torre a las 18:30. Inscripciones e información: 629 30 29 21 \n  \n¡Disfruta de los “¿Quién sabe más del Racing?”!\nDescubre Cantabria informa de que los diferentes eventos publicados se ofrecen a modo informativo\, no siendo Descubre Cantabria responsable de los problemas o daños causados por erratas o incorrecciones de los mismos.
URL:https://descubrecantabria.info/evento/quien-sabe-mas-del-racing/
LOCATION:Polideportivo Pachi Torre\, Calle Leonardo Rucabado\, s/n\, Castro Urdiales\, Cantabria\, 39700\, Spain
CATEGORIES:Deportes
ATTACH;FMTTYPE=image/webp:https://descubrecantabria.info/wp-content/uploads/2026/03/eventos-cantabria-quien-sabe-mas-del-racing_11zon.webp
END:VEVENT
BEGIN:VEVENT
DTSTART;TZID=Europe/Madrid:20260422T183000
DTEND;TZID=Europe/Madrid:20260422T183000
DTSTAMP:20260422T012816
CREATED:20260327T152207Z
LAST-MODIFIED:20260327T152217Z
UID:30005937-1776882600-1776882600@descubrecantabria.info
SUMMARY:Proyección del documental Cabo Tiñoso: Tradición y Futuro
DESCRIPTION:¿DE QUÉ TRATA “Proyección del documental Cabo Tiñoso: Tradición y Futuro”?\n  \nCon motivo del I Congreso Ibérico de Pesquerías Artesanales -organizado por el Instituto Español de Oceanografía (IEO\, CSIC)- que se celebrará en Santander entre el 21 y el 23 de abril se proyectarán varios documentales en abierto para todas las personas interesadas. \nProyección del documental “Cabo Tiñoso: Tradición y Futuro” ( Estreno mundial). Presentan Elena Barcala + María Trujillo. \nEn la costa de Murcia\, frente a los acantilados de Cabo Tiñoso\, la pesca artesanal forma parte del paisaje\, de la memoria colectiva y de la identidad de quienes viven del mar. A través de testimonios directos de pescadores y pescadoras\, y desde una mirada científica y humana\, el documental explora la relación entre tradición y sostenibilidad en un contexto de cambio ambiental y normativo. \n“Cabo Tiñoso: Tradición y Futuro” muestra cómo el conocimiento ecológico local\, transmitido entre generaciones\, dialoga con la investigación científica y la gestión marina contemporánea. Entre redes\, mareas y relatos de vida\, la película plantea una pregunta clave: ¿cómo garantizar el futuro de las pesquerías artesanales sin perder la esencia que las define? Es un retrato íntimo y reflexivo sobre la resiliencia de las comunidades costeras y su papel en la conservación de los ecosistemas marinos. \nAño: 2026\nDuración: 38 min\nPaís: España\nDirección y edición: Clara Estil-Las\nNarración: Elena Trujillo\nGuion y entrevistas: María Trujillo\nFotografía: Clara Estil-Las\, Javier Ferrer\, Karlos Simón\nCompañías: Grupo de Investigación HUMUH\, IEO-CSIC \nPuedes encontrar todos los eventos en Santander aquí. \n  \n¡Disfruta de los “Proyección del documental Cabo Tiñoso: Tradición y Futuro”!\nDescubre Cantabria informa de que los diferentes eventos publicados se ofrecen a modo informativo\, no siendo Descubre Cantabria responsable de los problemas o daños causados por erratas o incorrecciones de los mismos.
URL:https://descubrecantabria.info/evento/proyeccion-del-documental-cabo-tinoso-tradicion-y-futuro/
LOCATION:Centro Cultural Doctor Madrazo\, Calle Casimiro Sáiz 0\, Santander\, Cantabria\, 39004\, Spain
CATEGORIES:Cine
ATTACH;FMTTYPE=image/webp:https://descubrecantabria.info/wp-content/uploads/2026/03/eventos-santander-proyeccion-documental-cobo_11zon-1.webp
END:VEVENT
BEGIN:VEVENT
DTSTART;TZID=Europe/Madrid:20260422T190000
DTEND;TZID=Europe/Madrid:20260422T190000
DTSTAMP:20260422T012816
CREATED:20260327T152004Z
LAST-MODIFIED:20260327T152014Z
UID:30005936-1776884400-1776884400@descubrecantabria.info
SUMMARY:Santander es danza | Yayavadanza
DESCRIPTION:¿DE QUÉ TRATA “Santander es danza | Yayavadanza”?\n  \nEl centro cívico Juan de Santander de Cueto acoge una nueva edición del ciclo de baile protagonizado por las escuelas de danzas de la ciudad titulado ‘Santander es danza’. Bailarinas y bailarines de todas las edades mostrarán su talento en los diferentes estilos coreográficos (clásico\, contemporáneo\, danza española\, bailes urbanos…). Este programa se extenderá desde el 26 de marzo y hasta el 18 de junio\, y que reunirá a diversas escuelas de baile\, ofreciendo una variada muestra de estilos y talentos con entrada libre hasta completar aforo. \nLa programación comienza el jueves 26 con la participación de la escuela Andanzas; el miércoles 15 de abril\, será el turno de Backstage Dance Center; el miércoles 22 de abril\, de Yayavadanza; el martes 28 de abril\, de Estudio de Danza y Movimiento Begoña Machín; y el miércoles 29 de abril será el momento de las Escuelas de la Asociación Cantabria Danza con motivo del Día Internacional de la Danza. \nLos jueves 30 de abril y 7 de mayo los protagonistas serán los alumnos de las escuelas Oasis Danza y Basicodanza-Marta Escalante mientras que el miércoles 13 y el jueves 14 de mayo serán Bendita Locura y The Lab Dance Studio. \nPara finalizar\, Cristina Osorio (Arte y Movimiento) saldrá al escenario del Juan de Santander el miércoles 27 de mayo y Escuela de Danza Estilo el jueves 18 de junio\, jornada en la que se cerrará este ciclo.  \nPuedes encontrar todos los eventos en Santander aquí. \n  \n¡Disfruta de los “Santander es danza | Yayavadanza”!\nDescubre Cantabria informa de que los diferentes eventos publicados se ofrecen a modo informativo\, no siendo Descubre Cantabria responsable de los problemas o daños causados por erratas o incorrecciones de los mismos.
URL:https://descubrecantabria.info/evento/santander-es-danza-yayavadanza/
LOCATION:Centro civico Juan de Santander\, Calle el Recial 25\, Santander\, Cantabria\, 39012\, Spain
CATEGORIES:Artes escénicas
ATTACH;FMTTYPE=image/webp:https://descubrecantabria.info/wp-content/uploads/2026/03/eventos-santander-yayavadanza_11zon-1.webp
END:VEVENT
BEGIN:VEVENT
DTSTART;TZID=Europe/Madrid:20260422T193000
DTEND;TZID=Europe/Madrid:20260422T193000
DTSTAMP:20260422T012816
CREATED:20260327T171655Z
LAST-MODIFIED:20260327T171723Z
UID:30005977-1776886200-1776886200@descubrecantabria.info
SUMMARY:Nueva edición del club de lectura Lo mejor está por leer
DESCRIPTION:¿DE QUÉ TRATA “Nueva edición del club de lectura Lo mejor está por leer”?\n  \n\n\n\n\n\n\n\n\n\n\n\nEl Centro Cultural Fernando Ateca acoge una nueva edición del club de lectura ‘Lo mejor está por leer’\, liderado por Mónica Bóbeda\, creadora de ‘El Show de la Palabra’. \nEl club\, que tendrá lugar los miércoles 15 de abril\, 13 de mayo y 24 de junio de 2026\, es gratuito y está dirigido a adultos de 18 años en adelante. El horario de los encuentros será de 19:30 a 20:30 horas\, y el número máximo de participantes será de 12. \n* Las plazas se asignarán por orden de inscripción contactando con el número de teléfono 942 203 069. \nMónica Bóbeda ayudará a los alumnos a desarrollar sus habilidades de comunicación a través del método ‘El Show de la Palabra’. \nDurante las sesiones los lectores aportarán su perspectiva sobre la lectura del libro y se enriquecerán con las reflexiones de los compañeros disfrutando de los infinitos puntos de vista sobre la lectura de un mismo libro. Compartir las reflexiones de una lectura ayuda a mejorar el vocabulario\, la fluidez verbal y a adquirir nuevas experiencias de vida para ser más empáticos\, más tolerantes y mejorar la calidad de vida emocional de las personas. \nMónica Bóbeda es creadora y directora de ‘El Show de la palabra’\, un espacio formativo donde los niños\, jóvenes y adultos viven una experiencia de aprendizaje para gestionar su miedo escénico y desarrollar sus habilidades de comunicación. Es diplomada por la Universidad de Navarra\, con una carrera profesional de más de 20 años de experiencia en empresas multinacionales dentro del área de comunicación y ventas. Con su método ‘El Show de la Palabra’ ha formado a más de 5.000 personas\, la mitad de los cuales han sido niños y jóvenes. Además\, ha sido presidenta\, vicepresidenta de Educación y directora de área del Club de Oratoria Internacional Toastmasters. \n  \n\n\n\n\n¡Disfruta de los “Nueva edición del club de lectura Lo mejor está por leer”!\nDescubre Santander informa de que los diferentes eventos publicados se ofrecen a modo informativo\, no siendo Descubre Santander responsable de los problemas o daños causados por erratas o incorrecciones de los mismos.
URL:https://descubrecantabria.info/evento/nueva-edicion-del-club-de-lectura-lo-mejor-esta-por-leer/2026-04-22/
LOCATION:Centro Cultural y Biblioteca Fernando Ateca\, Calle Sixto Córdova 3\, Santander\, Cantabria\, 39012\, Spain
CATEGORIES:Literatura
ATTACH;FMTTYPE=image/webp:https://descubrecantabria.info/wp-content/uploads/2026/03/evntos-santander-club-de-lectura-lo-mejor-esta-por-lelgar_11zon.webp
END:VEVENT
BEGIN:VEVENT
DTSTART;TZID=Europe/Madrid:20260422T203000
DTEND;TZID=Europe/Madrid:20260422T203000
DTSTAMP:20260422T012816
CREATED:20260226T165843Z
LAST-MODIFIED:20260226T165852Z
UID:30002802-1776889800-1776889800@descubrecantabria.info
SUMMARY:Proyección Celebración en Astillero
DESCRIPTION:¿DE QUÉ TRATA “Proyección Celebración en Astillero”?\n  \nLos Klingenfeldt\, una familia de la alta burguesía danesa\, se disponen a celebrar el sesenta cumpleaños del patriarca\, un hombre de trayectoria y reputación intachable.  \nSin embargo\, sus tres hijos\, aunque muy diferentes entre sí\, están dispuestos a aprovechar la ocasión para sacar a relucir los trapos sucios de la familia.\n \n  \n¡Disfruta de los “Proyección Celebración en Astillero”!\n  \nEncuentra todos los eventos de Astillero aquí. \nDescubre Cantabria informa de que los diferentes eventos publicados se ofrecen a modo informativo\, no siendo Descubre Cantabria responsable de los problemas o daños causados por erratas o incorrecciones de los mismos.
URL:https://descubrecantabria.info/evento/proyeccion-celebracion-en-astillero/
LOCATION:Sala Breton\, Avenida de España 26\, Astillero\, Cantabria\, 39610\, Spain
CATEGORIES:Cine
ATTACH;FMTTYPE=image/webp:https://descubrecantabria.info/wp-content/uploads/2026/02/eventos-astillero-celebracion_11zon.webp
END:VEVENT
END:VCALENDAR