BEGIN:VCALENDAR
VERSION:2.0
PRODID:-//Guía oficial de Cantabria | Turismo | Descubre Cantabria - ECPv6.15.20//NONSGML v1.0//EN
CALSCALE:GREGORIAN
METHOD:PUBLISH
X-WR-CALNAME:Guía oficial de Cantabria | Turismo | Descubre Cantabria
X-ORIGINAL-URL:https://descubrecantabria.info
X-WR-CALDESC:Eventos para Guía oficial de Cantabria | Turismo | Descubre Cantabria
REFRESH-INTERVAL;VALUE=DURATION:PT1H
X-Robots-Tag:noindex
X-PUBLISHED-TTL:PT1H
BEGIN:VTIMEZONE
TZID:Europe/Madrid
BEGIN:DAYLIGHT
TZOFFSETFROM:+0100
TZOFFSETTO:+0200
TZNAME:CEST
DTSTART:20250330T010000
END:DAYLIGHT
BEGIN:STANDARD
TZOFFSETFROM:+0200
TZOFFSETTO:+0100
TZNAME:CET
DTSTART:20251026T010000
END:STANDARD
BEGIN:DAYLIGHT
TZOFFSETFROM:+0100
TZOFFSETTO:+0200
TZNAME:CEST
DTSTART:20260329T010000
END:DAYLIGHT
BEGIN:STANDARD
TZOFFSETFROM:+0200
TZOFFSETTO:+0100
TZNAME:CET
DTSTART:20261025T010000
END:STANDARD
BEGIN:DAYLIGHT
TZOFFSETFROM:+0100
TZOFFSETTO:+0200
TZNAME:CEST
DTSTART:20270328T010000
END:DAYLIGHT
BEGIN:STANDARD
TZOFFSETFROM:+0200
TZOFFSETTO:+0100
TZNAME:CET
DTSTART:20271031T010000
END:STANDARD
END:VTIMEZONE
BEGIN:VEVENT
DTSTART;VALUE=DATE:20260426
DTEND;VALUE=DATE:20260427
DTSTAMP:20260426T012951
CREATED:20260416T081612Z
LAST-MODIFIED:20260416T081753Z
UID:30008178-1777161600-1777247999@descubrecantabria.info
SUMMARY:Fiestas de San Jorge Santiurde de Reinosa 2026
DESCRIPTION:
URL:https://descubrecantabria.info/evento/fiestas-de-san-jorge-santiurde-de-reinosa-2026/2026-04-26/
LOCATION:Santiurde de Reinosa\, Caller Santiurde de Reinosa\, s/n\, Reinosa\, Cantabria\, 39490\, Spain
CATEGORIES:Fiestas populares,Gastronomía
ATTACH;FMTTYPE=image/webp:https://descubrecantabria.info/wp-content/uploads/2026/04/programa-fiestas-de-san-jorge-santiurde-de-reinosa-2026_11zon.webp
END:VEVENT
BEGIN:VEVENT
DTSTART;TZID=Europe/Madrid:20260426T100000
DTEND;TZID=Europe/Madrid:20260426T170000
DTSTAMP:20260426T012951
CREATED:20260313T175110Z
LAST-MODIFIED:20260313T175241Z
UID:30004545-1777197600-1777222800@descubrecantabria.info
SUMMARY:XVIII Duatlón universidad de Cantabria 2026
DESCRIPTION:¿DE QUÉ TRATA “XVIII Duatlón universidad de Cantabria 2026”?\n  \nDomingo 9 de noviembre 2025\, a partir 10:00. Campeonato de Duatlón Universidad de Cantabria 2025. II Campeonato de Cantabria Duatlón Supersprint. La prueba constará de un duatlón Supersprint (2 kms corriendo a pie+ 7\,5 kms bicicleta y 1 kms corriendo a pie).  \nEste duatlón se hará primero como contrarreloj individual y más tardes las tandas finales (salidas conjuntas de máximo 30-40 deportistas).  \nAbierto a deportistas sin licencia FETRI. Deportistas federados 15 euros. Deportistas no federados 24 euros.  \nA partir de categoría cadete (14 años). Permitido bicicleta de montaña (BTT\, MTB). Prohibido bicicleta y material contrarreloj. Salvo avería demostrable habrá que hacer la serie cronometrada y la serie final con la misma bicicleta. Domingo 9 de noviembre 2025\, a partir 10:00 h.REAL SITIO DE LA MAGDALENA \n • 9:00 horas: Apertura recogida de dorsales. \n• 9:15 horas: Apertura control de material. \n• 10:00 horas: Cierre recogida de dorsales. \n• 10:05 horas: Cierre control de material. \n• 10:15 horas: SALIDA CONTRARRELOJ FEMENINA \n• 10:30 horas: SALIDA CONTRARRELOJ MASCULINA \n• 11:20 horas: FIN CONTRARRELOJ \n• 11:30 horas PUBLICACIÓN LISTAS SALIDA FINALES \n• 12:00 horas: CIERRE TRANSICIÓN PARA FINALES \n• 12:10 horas FINAL B MASCULINA \n• 12:30 horas FINAL A MASCULINA \n• 13:00horas FINAL A FEMENINA \n• 13:40 horas Entrega de trofeos \n• 14:00 horas Recogida material y limpieza \nCIRCUITOS: \nCarrera a pie: Campa de la Magdalena (circuito mixto hierba\, tierra y asfalto) Ciclismo: 5 vueltas al Palacio de la Magdalena \nPREMIOS Y TROFEOS: \nTres primeros duatletas mejor serie masculina \nTres primeras duatletas serie femenina \nLos deportistas con licencia 1 día pueden aspirar a los premios absolutos (no al Campeonato de Cantabria) \nMejores 3 deportistas con licencia cántabra\, en ambos generos (categoría masculina y categoria femenina) \nMaillot Austral Campeón/a de Cantabria para la ganadora del II Campeonato de Cantabria de Duatlón Supersprint. \nPOLITICA DE CAMBIOS Y DEVOLUCIONES: \nNo se devolverán inscripciones ni habrá cambios de dorsal\, salvo existencia de lista de espera. \nLa inscripción en la prueba supone la aceptación de su normativa. \nEn caso de suspensión o aplazamiento del evento se devolverá el 100% de la inscripción. \nIMPORTANTE: Si dos semanas antes de finalización de las inscripciones (26 de octubre) no hay una inscripción suficiente se suspenderá la prueba (en ese caso se devolverá el 100% de la inscripción a los deportistas) \n  \n¡Disfruta de los “XVIII Duatlón universidad de Cantabria 2026”!\nDescubre Cantabria informa de que los diferentes eventos publicados se ofrecen a modo informativo\, no siendo Descubre Cantabria responsable de los problemas o daños causados por erratas o incorrecciones de los mismos.
URL:https://descubrecantabria.info/evento/xviii-duatlon-universidad-de-cantabria-2026/
LOCATION:Universidad de Cantabria\, Avenida de los Castros s/n\, Santander\, Cantabria\, 39010\, Spain
CATEGORIES:Deportes
ATTACH;FMTTYPE=image/webp:https://descubrecantabria.info/wp-content/uploads/2026/03/eventos-cantabria-duarlon-universidad-de-cantabria_11zon.webp
END:VEVENT
BEGIN:VEVENT
DTSTART;TZID=Europe/Madrid:20260426T100000
DTEND;TZID=Europe/Madrid:20260426T170000
DTSTAMP:20260426T012951
CREATED:20260424T122807Z
LAST-MODIFIED:20260424T122917Z
UID:30008315-1777197600-1777222800@descubrecantabria.info
SUMMARY:Campeonato Regional Hockey Sala Cantabria 2026
DESCRIPTION:¿DE QUÉ TRATA “Campeonato Regional Hockey Sala Cantabria 2026”?\n  \nEste domingo\, 26 de abril\, el Pabellón Tito Carrera será escenario del Campeonato Regional de Hockey Sala Infantil Femenino\, una cita deportiva que reunirá a tres grandes equipos de Cantabria: \nCRC Hockey (Campoo)\nSardinero Hockey Club\nReal Sociedad de Tenis \nUna jornada para disfrutar del deporte base\, el talento joven y el gran ambiente del hockey en nuestra ciudad. \n¡Os esperamos para animar a nuestras jugadoras!  \n  \n¡Disfruta de los “Campeonato Regional Hockey Sala Cantabria 2026”!\nDescubre Cantabria informa de que los diferentes eventos publicados se ofrecen a modo informativo\, no siendo Descubre Cantabria responsable de los problemas o daños causados por erratas o incorrecciones de los mismos.
URL:https://descubrecantabria.info/evento/campeonato-regional-hockey-sala-cantabria-2026/
LOCATION:Pabellon Tito Carrer Reinosa\, Calle Daniel Pérez Samitier\, s/n\, Reinosa\, Cantabria\, 39010\, Spain
CATEGORIES:Deportes
ATTACH;FMTTYPE=image/webp:https://descubrecantabria.info/wp-content/uploads/2026/04/eventos-cantabria-campeonato-regional-hockey-sala-2026_11zon.webp
END:VEVENT
BEGIN:VEVENT
DTSTART;TZID=Europe/Madrid:20260426T110000
DTEND;TZID=Europe/Madrid:20260426T170000
DTSTAMP:20260426T012951
CREATED:20260223T100109Z
LAST-MODIFIED:20260316T075647Z
UID:30002095-1777201200-1777222800@descubrecantabria.info
SUMMARY:V carrera vertical Matienzo 2026
DESCRIPTION:¿DE QUÉ TRATA “V carrera vertical Matienzo 2026”?\n  \nLa V Carrera vertical Matienzo 2026 contará con 3 categorías.  \nAbsoluto: 3km que comienza a las 11:00. \n Categorías inferiores: 3km y comienza a las 11:00.  \nAndarines: 3km y comienza 10:15.  \nLos dorsales podrán recogerse el día de la carrera de 8:45 a 10:45 horas\, en la bolera de pasabolo del campo de deportes de Matienzo\, lugar en el que se realizará la charla informativa previa a la carrera y la entrega de premios y medallas posterior.  \nA finalizar\, todos los participantes disfrutarán de una riquísimas alubias con hongos y natillas. \n  \n¡Disfruta de los “V carrera vertical Matienzo 2026”!\nDescubre Cantabria informa de que los diferentes eventos publicados se ofrecen a modo informativo\, no siendo Descubre Cantabria responsable de los problemas o daños causados por erratas o incorrecciones de los mismos.
URL:https://descubrecantabria.info/evento/v-carrera-vertical-matienzo-2026/
LOCATION:Ruesga\, Barrio la Via\, 7\, Ruesga\, Cantabria\, 39815\, Spain
CATEGORIES:Deportes
ATTACH;FMTTYPE=image/webp:https://descubrecantabria.info/wp-content/uploads/2026/02/eventos-ruesga-v-carrera-vertical-matienzo-2026_11zon.webp
END:VEVENT
BEGIN:VEVENT
DTSTART;TZID=Europe/Madrid:20260426T110000
DTEND;TZID=Europe/Madrid:20260426T170000
DTSTAMP:20260426T012951
CREATED:20260422T175257Z
LAST-MODIFIED:20260422T175315Z
UID:30008263-1777201200-1777222800@descubrecantabria.info
SUMMARY:VIII Slalom Bezana 2026
DESCRIPTION:¿DE QUÉ TRATA “VIII Slalom Bezana 2026”?\n  \nLa emoción del motor regresa con el VII Slalom Bezana – Memorial Crescente Ortiz & Federico Diego. Velocidad\, técnica y espectáculo asegurado. En el Circuito alrededor del pabellón polideportivo de Soto de la Marina \nAdemás\, será la I prueba del Campeonato de Slalom 2026 de la Federación Cántabra de Automovilismo. Un evento imprescindible para los amantes del motor. ¡No te lo pierdas! \n  \n¡Disfruta de los “VIII Slalom Bezana 2026”!\nDescubre Cantabria informa de que los diferentes eventos publicados se ofrecen a modo informativo\, no siendo Descubre Cantabria responsable de los problemas o daños causados por erratas o incorrecciones de los mismos.
URL:https://descubrecantabria.info/evento/viii-slalom-bezana-2026/
LOCATION:Polideportivo Soto de la Marina\, Avenida Fernando Saiz\, 12\, Bezana\, Cantabria\, 39010\, Spain
CATEGORIES:Deportes
ATTACH;FMTTYPE=image/webp:https://descubrecantabria.info/wp-content/uploads/2026/04/eventos-cantabria-viii-slalom-bezana_11zon.webp
END:VEVENT
BEGIN:VEVENT
DTSTART;TZID=Europe/Madrid:20260426T113000
DTEND;TZID=Europe/Madrid:20260426T170000
DTSTAMP:20260426T012951
CREATED:20260413T152556Z
LAST-MODIFIED:20260413T152720Z
UID:30006642-1777203000-1777222800@descubrecantabria.info
SUMMARY:Domingo de cuento | Con frío y calor leemos a diario con Miru
DESCRIPTION:¿DE QUÉ TRATA “Domingo de cuento | Con frío y calor leemos a diario con Miru”?\n  \n11:30 1ª Sesión para niños/as de 3 a 5 años \n12:30 2ª Sesión para niños/as a partir de 6 años. \nEn la Biblioteca infantil. Entrada libre hasta completar aforo. \n  \n¡Disfruta de los “Domingo de cuento | Con frío y calor leemos a diario con Miru”!\nDescubre Cantabria informa de que los diferentes eventos publicados se ofrecen a modo informativo\, no siendo Descubre Cantabria responsable de los problemas o daños causados por erratas o incorrecciones de los mismos.
URL:https://descubrecantabria.info/evento/domingo-de-cuento-con-frio-y-calor-leemos-a-diario-con-miru/
LOCATION:Centro Cultural Eladio Laredo (Edificio Royal)\, Calle Jardines\, 3\, Castro Urdiales\, Cantabria\, 39700\, Spain
CATEGORIES:Infantil,Literatura
ATTACH;FMTTYPE=image/webp:https://descubrecantabria.info/wp-content/uploads/2026/04/eventos-cantabria-con-frio-y-calor-leemos-a-diario-con-miru_11zon.webp
END:VEVENT
BEGIN:VEVENT
DTSTART;TZID=Europe/Madrid:20260426T113000
DTEND;TZID=Europe/Madrid:20260426T170000
DTSTAMP:20260426T012951
CREATED:20260414T152741Z
LAST-MODIFIED:20260414T152757Z
UID:30008115-1777203000-1777222800@descubrecantabria.info
SUMMARY:Taller de joyas primaveral Solorzano
DESCRIPTION:¿DE QUÉ TRATA “Taller de joyas primaveral Solorzano”?\n  \nEl Ayuntamiento de Solórzano organiza un taller de joyas primaveral\, donde podrás aprender a crear tus propios colgantes inspirados en la primavera. Domingo 26 de abril de 2026 de 11:30 – 14:00 en las Escuelas de Solórzano \nInscripciones: del 13 al 21 de abril (o hasta completar plazas). Plazas limitadas. Información: 942 67 63 00 \n  \n¡Disfruta de los “Taller de joyas primaveral Solorzano”!\nDescubre Cantabria informa de que los diferentes eventos publicados se ofrecen a modo informativo\, no siendo Descubre Cantabria responsable de los problemas o daños causados por erratas o incorrecciones de los mismos.
URL:https://descubrecantabria.info/evento/taller-de-joyas-primaveral-solorzano/
LOCATION:Escuelas de Solorzano\, Barrio la Puente\, 59\, Solorzano\, Cantabria\, 39738\, Spain
CATEGORIES:Talleres
ATTACH;FMTTYPE=image/webp:https://descubrecantabria.info/wp-content/uploads/2026/04/eventos-cantabria-taller-de-joyas-primaveral_11zon.webp
END:VEVENT
BEGIN:VEVENT
DTSTART;TZID=Europe/Madrid:20260426T120000
DTEND;TZID=Europe/Madrid:20260426T170000
DTSTAMP:20260426T012951
CREATED:20260226T165544Z
LAST-MODIFIED:20260226T165601Z
UID:30002800-1777204800-1777222800@descubrecantabria.info
SUMMARY:Cuentacuentos la que lió Caperucita
DESCRIPTION:¿DE QUÉ TRATA “Cuentacuentos la que lió Caperucita”?\n  \n“La que lió Caperucita” es un cuento teatralizado\, dirigido a público familiar. Edades recomendadas: de 4 a 12 años. No requiere inscripción\, entrada libre hasta completar el aforo. \nCaperucita y el lobo se tropiezan en el bosque y en la caída Caperucita confunde las cestas llevándose por error la cesta del lobo…\n \n  \n¡Disfruta de los “Cuentacuentos la que lió Caperucita”!\n  \nEncuentra todos los eventos de Astillero aquí. \nDescubre Cantabria informa de que los diferentes eventos publicados se ofrecen a modo informativo\, no siendo Descubre Cantabria responsable de los problemas o daños causados por erratas o incorrecciones de los mismos.
URL:https://descubrecantabria.info/evento/cuentacuentos-la-que-lio-caperucita/
LOCATION:Sala Breton\, Avenida de España 26\, Astillero\, Cantabria\, 39610\, Spain
CATEGORIES:Artes escénicas,Infantil
ATTACH;FMTTYPE=image/webp:https://descubrecantabria.info/wp-content/uploads/2026/02/eventos-astillero-cuentacuentos-la-que-lio_11zon.webp
END:VEVENT
BEGIN:VEVENT
DTSTART;TZID=Europe/Madrid:20260426T120000
DTEND;TZID=Europe/Madrid:20260426T170000
DTSTAMP:20260426T012951
CREATED:20260424T124011Z
LAST-MODIFIED:20260424T124037Z
UID:30008317-1777204800-1777222800@descubrecantabria.info
SUMMARY:100 años del puente de Unquera y Bustio
DESCRIPTION:¿DE QUÉ TRATA “100 años del puente de Unquera y Bustio”?\n  \nAl lado del puente se realizará a las 12:00 el acto institucional conmemorativo del centenario y a las 12:30 se repartirá vino español. Conmemoración de los 100 años del puente que une Unquera y Bustio. \n  \n¡Disfruta de los “100 años del puente de Unquera y Bustio”!\nDescubre Cantabria informa de que los diferentes eventos publicados se ofrecen a modo informativo\, no siendo Descubre Cantabria responsable de los problemas o daños causados por erratas o incorrecciones de los mismos.
URL:https://descubrecantabria.info/evento/100-anos-del-puente-de-unquera-y-bustio/
LOCATION:Puente de Unquera\, Calle San Felipe Neri\, 4\, Val de San Vicente\, Cantabria\, 39560\, Spain
CATEGORIES:Charlas
ATTACH;FMTTYPE=image/webp:https://descubrecantabria.info/wp-content/uploads/2026/04/eventos-cantabria-100-anos-del-puente-unquera-y-bustio_11zon-1.webp
END:VEVENT
BEGIN:VEVENT
DTSTART;TZID=Europe/Madrid:20260426T123000
DTEND;TZID=Europe/Madrid:20260426T170000
DTSTAMP:20260426T012951
CREATED:20260313T104610Z
LAST-MODIFIED:20260413T133814Z
UID:30004401-1777206600-1777222800@descubrecantabria.info
SUMMARY:Representación los misterios de Calista en Torrelavega
DESCRIPTION:¿DE QUÉ TRATA “Representación los misterios de Calista en Torrelavega”?\n  \nCalista vuelve con nuevos cuentos y nuevas especialidades. ¡Ha descubierto que es especialista en descubrir misterios importantísimos…!  \nComo\, por ejemplo\, que el agua siempre moja; que todo lo que sube\, baja; que hay gente que viene de otros países; que siempre sale el sol; que el corazón late miles de millones de veces o que las islas ¡no flotan!…  \nClaro\, ahora le falta resolver algunos de esos misterios misteriosos que se va encontrando.  \nA través de sus cuentos\, Calista irá encontrando explicación a misterios importantes de la vida de todos\, para lograr dibujarnos una sonrisa\, hacernos más empáticos y generosos\, y salir del teatro un poco más felices. \n  \n¡Disfruta de los “Representación los misterios de Calista en Torrelavega”!\nDescubre Cantabria informa de que los diferentes eventos publicados se ofrecen a modo informativo\, no siendo Descubre Cantabria responsable de los problemas o daños causados por erratas o incorrecciones de los mismos.
URL:https://descubrecantabria.info/evento/representacion-los-misterios-de-calista-en-torrelavega/
LOCATION:Teatro municipal Concha Espina\, Calle Pedro Alonso Revuelta 3\, Torrelavega\, Cantabria\, 39300\, Spain
CATEGORIES:Artes escénicas,Infantil
ATTACH;FMTTYPE=image/webp:https://descubrecantabria.info/wp-content/uploads/2026/03/eventos-cantabria-los-misterios-de-calista_11zon.webp
END:VEVENT
BEGIN:VEVENT
DTSTART;TZID=Europe/Madrid:20260426T163000
DTEND;TZID=Europe/Madrid:20260426T170000
DTSTAMP:20260426T012951
CREATED:20260313T185053Z
LAST-MODIFIED:20260413T075909Z
UID:30004842-1777221000-1777222800@descubrecantabria.info
SUMMARY:Visita guiada a Santa Marina de Udalla y San Bartolomé de los Montes
DESCRIPTION:¿DE QUÉ TRATA “Visita guiada a Santa Marina de Udalla y San Bartolomé de los Montes”?\n  \n\n\n\n\nAmpuero organiza estas visitas guiadas gratuitas todos los domingos a las 16:30 horas\, con reserva previa.  \nMás información y reservas en el teléfono 621 156 507 o en el mail turismoaltoasonampuero@gmail.com.  \nLos desplazamientos entre las iglesias se realizan por parte de los visitantes con sus propios medios. \n\n\n\n\n  \n¡Disfruta de los “Visita guiada a Santa Marina de Udalla y San Bartolomé de los Montes”!\nDescubre Cantabria informa de que los diferentes eventos publicados se ofrecen a modo informativo\, no siendo Descubre Cantabria responsable de los problemas o daños causados por erratas o incorrecciones de los mismos.
URL:https://descubrecantabria.info/evento/visita-guiada-a-santa-marina-de-udalla-y-san-bartolome-de-los-montes/2026-04-26/
LOCATION:Santa Maria de Udalla (Ampuero)\, Calle Barrio de Udalla s/n\, Ampuero\, Cantabria\, 39850\, Spain
CATEGORIES:Turismo
ATTACH;FMTTYPE=image/webp:https://descubrecantabria.info/wp-content/uploads/2026/03/eventos-cantbria-visita-guiada-a-santa-marina-de-udalla_11zon.webp
END:VEVENT
BEGIN:VEVENT
DTSTART;TZID=Europe/Madrid:20260426T173000
DTEND;TZID=Europe/Madrid:20260426T173000
DTSTAMP:20260426T012951
CREATED:20260225T182120Z
LAST-MODIFIED:20260225T182222Z
UID:30002684-1777224600-1777224600@descubrecantabria.info
SUMMARY:Taller pintar huevos de pascua
DESCRIPTION:¿DE QUÉ TRATA “Taller pintar huevos de pascua”?\n  \nInfantil: 17:30\nPrimaria: 18:45\n\nActividad GRATUITA. Plazas limitadas\, inscripciones abiertas desde una semana antes hasta los martes a las 12 h.Aviso: Dos días antes de la actividad (los martes por la tarde)\, contactaremos sólo con las personas que hayan obtenido plaza.Imprescindible inscribirse:942 52 26 85 (También por WhatsApp al mismo número)\n  \n¡Disfruta de los “Taller pintar huevos de pascua”!\n  \nEncuentra todos los eventos de Solares aquí. \nDescubre Cantabria informa de que los diferentes eventos publicados se ofrecen a modo informativo\, no siendo Descubre Cantabria responsable de los problemas o daños causados por erratas o incorrecciones de los mismos.
URL:https://descubrecantabria.info/evento/taller-pintar-huevos-de-pascua/
LOCATION:Centro Cultural Ramon Pelayo\, Paseo la Ventilla\, 8\, Solares\, Cantabria\, 39710\, Spain
CATEGORIES:Infantil,Talleres
ATTACH;FMTTYPE=image/webp:https://descubrecantabria.info/wp-content/uploads/2026/02/eventos-solares-pintar-huevos-de-pascua_11zon.webp
END:VEVENT
BEGIN:VEVENT
DTSTART;TZID=Europe/Madrid:20260426T190000
DTEND;TZID=Europe/Madrid:20260426T210000
DTSTAMP:20260426T012951
CREATED:20260226T090414Z
LAST-MODIFIED:20260226T090425Z
UID:30002733-1777230000-1777237200@descubrecantabria.info
SUMMARY:Domingo de baile Pontejos 2026
DESCRIPTION:¿DE QUÉ TRATA “Domingo de baile Pontejos 2026”?\n  \n¡Únete a los Domingos de Baile en el Centro Cultural de Pontejos! Disfruta de una tarde vibrante llena de música y alegría en un ambiente acogedor. Ven a bailar\, relajarte y pasar un rato increíble con amigos y vecinos. \n  \n¡Disfruta de los “Domingo de baile Pontejos 2026!\n  \nEncuentra todos los eventos de Marina de Cudeyo aquí. \nDescubre Cantabria informa de que los diferentes eventos publicados se ofrecen a modo informativo\, no siendo Descubre Cantabria responsable de los problemas o daños causados por erratas o incorrecciones de los mismos.
URL:https://descubrecantabria.info/evento/domingo-de-baile-pontejos-2026/2026-04-26/
LOCATION:Centro Cultural Pontejos\, Barrio el río 190\, Pontejos\, Cantabria\, 39618\, Spain
CATEGORIES:Talleres
ATTACH;FMTTYPE=image/webp:https://descubrecantabria.info/wp-content/uploads/2026/02/eventos-marina-de-cudeyo-domingos-de-baile-2026_11zon.webp
END:VEVENT
BEGIN:VEVENT
DTSTART;TZID=Europe/Madrid:20260426T193000
DTEND;TZID=Europe/Madrid:20260426T193000
DTSTAMP:20260426T012951
CREATED:20260223T093355Z
LAST-MODIFIED:20260223T093404Z
UID:30002088-1777231800-1777231800@descubrecantabria.info
SUMMARY:Proyección Celebración en Solares
DESCRIPTION:¿DE QUÉ TRATA “Proyección Celebración en Solares”?\n  \nLos Klingenfeldt\, una familia de la alta burguesía danesa\, se disponen a celebrar el sesenta cumpleaños del patriarca\, un hombre de trayectoria y reputación intachable. Sin embargo\, sus tres hijos\, aunque muy diferentes entre sí\, están dispuestos a aprovechar la ocasión para sacar a relucir los trapos sucios de la familia. VOSE \n  \n¡Disfruta de los “Proyección Celebración en Solares”!\n  \nEncuentra todos los eventos de Solares aquí. \nDescubre Cantabria informa de que los diferentes eventos publicados se ofrecen a modo informativo\, no siendo Descubre Cantabria responsable de los problemas o daños causados por erratas o incorrecciones de los mismos.
URL:https://descubrecantabria.info/evento/proyeccion-celebracion-en-solares/
LOCATION:Centro Cultural Ramon Pelayo\, Paseo la Ventilla\, 8\, Solares\, Cantabria\, 39710\, Spain
CATEGORIES:Cine
ATTACH;FMTTYPE=image/webp:https://descubrecantabria.info/wp-content/uploads/2026/02/eventos-medio-cudeyo-celebracion_11zon.webp
END:VEVENT
END:VCALENDAR