BEGIN:VCALENDAR
VERSION:2.0
PRODID:-//Guía oficial de Cantabria | Turismo | Descubre Cantabria - ECPv6.15.20//NONSGML v1.0//EN
CALSCALE:GREGORIAN
METHOD:PUBLISH
X-ORIGINAL-URL:https://descubrecantabria.info
X-WR-CALDESC:Eventos para Guía oficial de Cantabria | Turismo | Descubre Cantabria
REFRESH-INTERVAL;VALUE=DURATION:PT1H
X-Robots-Tag:noindex
X-PUBLISHED-TTL:PT1H
BEGIN:VTIMEZONE
TZID:Europe/Madrid
BEGIN:DAYLIGHT
TZOFFSETFROM:+0100
TZOFFSETTO:+0200
TZNAME:CEST
DTSTART:20240331T010000
END:DAYLIGHT
BEGIN:STANDARD
TZOFFSETFROM:+0200
TZOFFSETTO:+0100
TZNAME:CET
DTSTART:20241027T010000
END:STANDARD
BEGIN:DAYLIGHT
TZOFFSETFROM:+0100
TZOFFSETTO:+0200
TZNAME:CEST
DTSTART:20250330T010000
END:DAYLIGHT
BEGIN:STANDARD
TZOFFSETFROM:+0200
TZOFFSETTO:+0100
TZNAME:CET
DTSTART:20251026T010000
END:STANDARD
BEGIN:DAYLIGHT
TZOFFSETFROM:+0100
TZOFFSETTO:+0200
TZNAME:CEST
DTSTART:20260329T010000
END:DAYLIGHT
BEGIN:STANDARD
TZOFFSETFROM:+0200
TZOFFSETTO:+0100
TZNAME:CET
DTSTART:20261025T010000
END:STANDARD
END:VTIMEZONE
BEGIN:VEVENT
DTSTART;TZID=Europe/Madrid:20250702T103000
DTEND;TZID=Europe/Madrid:20250702T170000
DTSTAMP:20260424T021141
CREATED:20250620T122602Z
LAST-MODIFIED:20250620T140149Z
UID:30000023-1751452200-1751475600@descubrecantabria.info
SUMMARY:Curso de Iniciación a la fotografía verano 2025
DESCRIPTION:¿DE QUÉ TRATA “Curso de Iniciación a la fotografía verano 2025”?\n\n\n\n\n\n\n\n\n\n\n\nCurso de Iniciación a la fotografía impartido por Pete Sánchez del 2 al 23 de Julio de 2025. \nHorario: Lunes\, miércoles y viernes de 10:30 a 12:30 horas – Duración total 20 horas\nLugar: Estudio Fotográfico Luz Día: C. de Victoriano Fernández\, N°9- bajo – Santander https://goo.gl/maps/XwYcm4aZhGUpUKgg6 \nOrganiza: Pete Sánchez\, Fotógrafo\nPrecio: 130 € (IVA incluido) \nDESTINADO A:\nAficionados a la fotografía que carezcan de los conocimientos técnicos suficientes para el buen uso de su cámara en los modos de fotografía creativa y quieran profundizar en el medio fotográfico. \nCONTENIDOS: \n   Fotografía y cámara fotográfica.\n   El equipo fotográfico. Configuración.\n   Composición en Fotografía.\n   Iluminación.\n   Teoría digital y edición de imágenes en Adobe Photoshop Lightroom.\n   Prácticas tutorizadas en estudio y exteriores. \nMás información: https://www.petesanchez.com/curso-de-iniciacion-a-la-fotografia/  \n\n\n\n\n\n\n\n\n\n\n\n  \n\n\n\n\n\n\n\n¡Disfruta de los “Curso de Iniciación a la fotografía verano 2025”!\nDescubre Santander informa de que los diferentes eventos publicados se ofrecen a modo informativo\, no siendo Descubre Santander responsable de los problemas o daños causados por erratas o incorrecciones de los mismos.
URL:https://descubrecantabria.info/evento/curso-de-iniciacion-a-la-fotografia-verano-2025/
LOCATION:Estudio Fotográfico Luz Día\, Calle de Victoriano Fernández 9\, Santander\, Cantabria\, 39012\, Spain
CATEGORIES:Fotografía
ATTACH;FMTTYPE=image/jpeg:https://descubrecantabria.info/wp-content/uploads/2025/06/eventos-santander-curso-de-iniciacion-a-la-fotografia.jpg
END:VEVENT
BEGIN:VEVENT
DTSTART;TZID=Europe/Madrid:20250721T160000
DTEND;TZID=Europe/Madrid:20250721T170000
DTSTAMP:20260424T021141
CREATED:20250627T210626Z
LAST-MODIFIED:20250627T210654Z
UID:30000146-1753113600-1753117200@descubrecantabria.info
SUMMARY:Taller de Fotoperiodismo Educar la mirada
DESCRIPTION:¿DE QUÉ TRATA “Taller de Fotoperiodismo Educar la mirada”?\n\n\n\n\n\n\n\n\n\n\n\n  \nEste verano\, la Asociación Profesional de Fotoperiodistas Cántabros te invita a sumergirte en el fotoperiodismo. En cinco sesiones teórico-prácticas podrás acercarte a esta práctica fotográfica específica y a su profesión. \nLos contenidos serán los siguientes: \n\nPrimera sesión: Introducción a la historia y concepto del fotoperiodismo\, impartida por Alberto Aja\, que servirá para poner en contexto y sentar las bases del desarrollo del taller.\nSegunda sesión: Charla audiovisual con Esteban Cobo. A través de ejemplos gráficos\, Esteban instruirá acerca de como reconocer una imagen fotoperiodística\, cómo se trabaja en los diversos escenarios y cual es el impacto de la imagen en los medios de comunicación.\nTercera sesión: Salida práctica con Joaquín Gómez\, quien orientará a los alumnos en un paseo fotográfico\, para reconocer las temáticas susceptibles de ser tratadas por el fotoperiodismo\, y cómo afrontar la captura de las imágenes.\nCuarta sesión: Visita guiada a la exposición para ver y comentar  otros ejemplos de imágenes\, entender cómo se preparan para una muestra y cómo se diseña el mensaje a trasladar.\nQuinta sesión: Puesta en común\, de revisión de las imágenes que los alumnos hayan captado en el taller de calle\, y en la tarea encomendada en los días de verano.\n\nLa Asociación Profesional de Fotoperiodistas Cántabros\, es una joven asociación\, con 9 años de vida\, constituida por fotoperiodistas profesionales y en activo. Dedicada a promocionar\, publicitar y difundir las características de dicha profesión a través de diversas iniciativas tales como talleres y cursos\, conferencias y charlas\, exposiciones y participación activa en foros culturales. Su objetivo último es defender los intereses y necesidades de sus asociados en cuanto ejercientes de una actividad capital en la comunicación. \nImpartido por Alberto Aja\, Esteban Cobo y Joaquín Gómez Sastre. \nPlazas: 20 alumnos/as máximo \nFechas: 21  y 28 de julio\, 4 y 5 de agosto y 1 de septiembre. \nHorario: de 16.00h a 18.00h. \nPrecio: 15€ (*precio subvencionado por el Ayuntamiento de Santander) \n  \n\n\n\n\n\n\n\n\n\n\n\n\n\n\n\n\n\n\n¡Disfruta de los “Taller de Fotoperiodismo Educar la mirada”!\nDescubre Cantabria informa de que los diferentes eventos publicados se ofrecen a modo informativo\, no siendo Descubre Cantabria responsable de los problemas o daños causados por erratas o incorrecciones de los mismos.
URL:https://descubrecantabria.info/evento/taller-de-fotoperiodismo-educar-la-mirada/
LOCATION:La Fabrica de Creacion\, Calle Antonio López 36\, Santander\, Cantabria\, 39009\, Spain
CATEGORIES:Fotografía,Talleres
ATTACH;FMTTYPE=image/webp:https://descubrecantabria.info/wp-content/uploads/2025/06/eventos-santander-taller-de-fotoperiodismo-educar-la-mirada_11zon.webp
END:VEVENT
BEGIN:VEVENT
DTSTART;TZID=Europe/Madrid:20250725T103000
DTEND;TZID=Europe/Madrid:20250725T103000
DTSTAMP:20260424T021141
CREATED:20250621T173958Z
LAST-MODIFIED:20250621T174108Z
UID:30000097-1753439400-1753439400@descubrecantabria.info
SUMMARY:Sendero fotográfico de fauna los secretos del bosque
DESCRIPTION:¿DE QUÉ TRATA “Sendero fotográfico de fauna los secretos del bosque”?\n\n\n\n\n\n\n\n\n\n\n\nLos asistentes conocerán mejor algunas especies de fauna habituales del ecosistema encinar cantábrico costero y se iniciarán en el campo de la fotografía profesional de la naturaleza. \nEn el sendero encontrarán escondidos a lo largo del recorrido las réplicas de los animales del encinar cantábrico costero en Santoña: anfibios\, grandes mamíferos\, aves rapaces diurnas y nocturnas\, insectos sorprendentes… \nCada unos de los inscritos recibirá un encargo secreto de un animal que deberá lograr fotografiar con su teléfono móvil o cámara. \nLa actividad tendrá una duración de tres horas\, por lo que se recomienda calzado apropiado. Aforo máximo de 30 personas. \nActividad gratuita\, necesaria inscripción previa en la Oficina de Turismo (C/ Santander) o a través de la central de reservas de Turismo Santoña (www.santonaturismo.com). Además\, las actividades están integradas en la campaña de apoyo al comercio y la hostelería local.  \nComo muestra simbólica de colaboración\, se solicitará la presentación de un ticket de compra local de mínimo 5€ por participante (también para menores)\, lo que refuerza el compromiso del Ayuntamiento con la economía de proximidad. Para que tu reserva sea válida pásate por la Oficina de Turismo para aportar tu ticket o envíanos una foto a experiencias@santona.es . Las reservas estarán disponibles a partir del lunes 16 de junio. \n  \n\n\n\n\n\n\n\n\n\n\n\n\n\n\n\n\n\n\n¡Disfruta de los “Sendero fotográfico de fauna los secretos del bosque”!\nDescubre Cantabria informa de que los diferentes eventos publicados se ofrecen a modo informativo\, no siendo Descubre Cantabria responsable de los problemas o daños causados por erratas o incorrecciones de los mismos.
URL:https://descubrecantabria.info/evento/sendero-fotografico-de-fauna-los-secretos-del-bosque/
LOCATION:Fuerte del Mazo\, Fuerte de Napoleón s/n\, Santoña\, Cantabria\, 39749\, Spain
CATEGORIES:Fotografía
ATTACH;FMTTYPE=image/webp:https://descubrecantabria.info/wp-content/uploads/2025/06/eventos-santona-sendero-fotografia-de-fauna-los-secretos-del-bosque.webp
END:VEVENT
END:VCALENDAR