BEGIN:VCALENDAR
VERSION:2.0
PRODID:-//Guía oficial de Cantabria | Turismo | Descubre Cantabria - ECPv6.15.20//NONSGML v1.0//EN
CALSCALE:GREGORIAN
METHOD:PUBLISH
X-ORIGINAL-URL:https://descubrecantabria.info
X-WR-CALDESC:Eventos para Guía oficial de Cantabria | Turismo | Descubre Cantabria
REFRESH-INTERVAL;VALUE=DURATION:PT1H
X-Robots-Tag:noindex
X-PUBLISHED-TTL:PT1H
BEGIN:VTIMEZONE
TZID:Europe/Madrid
BEGIN:DAYLIGHT
TZOFFSETFROM:+0100
TZOFFSETTO:+0200
TZNAME:CEST
DTSTART:20240331T010000
END:DAYLIGHT
BEGIN:STANDARD
TZOFFSETFROM:+0200
TZOFFSETTO:+0100
TZNAME:CET
DTSTART:20241027T010000
END:STANDARD
BEGIN:DAYLIGHT
TZOFFSETFROM:+0100
TZOFFSETTO:+0200
TZNAME:CEST
DTSTART:20250330T010000
END:DAYLIGHT
BEGIN:STANDARD
TZOFFSETFROM:+0200
TZOFFSETTO:+0100
TZNAME:CET
DTSTART:20251026T010000
END:STANDARD
BEGIN:DAYLIGHT
TZOFFSETFROM:+0100
TZOFFSETTO:+0200
TZNAME:CEST
DTSTART:20260329T010000
END:DAYLIGHT
BEGIN:STANDARD
TZOFFSETFROM:+0200
TZOFFSETTO:+0100
TZNAME:CET
DTSTART:20261025T010000
END:STANDARD
END:VTIMEZONE
BEGIN:VEVENT
DTSTART;VALUE=DATE:20250907
DTEND;VALUE=DATE:20250908
DTSTAMP:20260422T171601
CREATED:20250827T150113Z
LAST-MODIFIED:20250827T150154Z
UID:30000354-1757203200-1757289599@descubrecantabria.info
SUMMARY:Concurso de Ollas Ferroviarias
DESCRIPTION:¿DE QUÉ TRATA “Concurso de Ollas Ferroviarias”?\n\n\n\n\n\n\n\n\n\n\n\n  \nAcercate el 7 de septiembre a la plaza la Postra en Socabarga y disfruta de un increíble espectáculo culinario. Para finalmente degustar todas las Ollas Ferroviarias del concurso. \n  \n\n\n\n\n\n\n\n\n\n\n\n\n\n\n\n\n\n\n¡Disfruta de los “Concurso de Ollas Ferroviarias”!\nDescubre Cantabria informa de que los diferentes eventos publicados se ofrecen a modo informativo\, no siendo Descubre Cantabria responsable de los problemas o daños causados por erratas o incorrecciones de los mismos.
URL:https://descubrecantabria.info/evento/concurso-de-ollas-ferroviarias/
LOCATION:Socabarga\, Plaza La Posta 0\, Socabarga\, Cantabria\, 39692\, Spain
CATEGORIES:Gastronomía
ATTACH;FMTTYPE=image/webp:https://descubrecantabria.info/wp-content/uploads/2025/08/eventos-en-cantabria-concurso-de-ollas-ferroviarias_11zon.webp
END:VEVENT
BEGIN:VEVENT
DTSTART;TZID=Europe/Madrid:20250913T100000
DTEND;TZID=Europe/Madrid:20250913T170000
DTSTAMP:20260422T171601
CREATED:20250828T080935Z
LAST-MODIFIED:20250828T081024Z
UID:30000380-1757757600-1757782800@descubrecantabria.info
SUMMARY:XIII Feria del pimiento de Isla 2025
DESCRIPTION:¿DE QUÉ TRATA “XIII Feria del pimiento de Isla 2025”?\n\n\n\n\n\n\n\n\n\n\n\n  \nLlega la XIII Feria del pimiento de Isla 2025. Disfruta del programa completo de la Feria del pimiento de isla 2025. \nPrograma de la XIII Feria del pimiento de Isla 2025\n  \nSÁBADO 13 DE SEPTIEMBRE DE 10:00 A 21:00 H.\n->Mercado de la Huerta y del Pimiento de Isla. \n->Productos agroalimentarios de Cantabria con denominación de origen\, marca de calidad\, ecológicos o tradicionales (más de 30 puestos con un amplio surtido de quesos\, vinos\, pan\, embutidos\, lácteos\, postres\, etc…). \n->Área complementaria de artesanía y libros de Cantabria. \n->Área de juegos familiares y talleres infantiles en la nueva plaza del casco histórico. \n->Danzas de Isla y regionales (13 h.) \n->Premio al mejor Pimiento de la Feria por votación popular \n->Concurso de Pintura Infantil. Tema: “Feria del Pimiento de Isla”. \n->Talla de troncos en vivo. \n->Fiesta fin de Feria (20 a 22 h.) \nTransporte Casco Histórico – Quejo.\nEl día de la Feria habrá transporte público para comunicar Isla Playa con el Casco Histórico de Isla desde las 10 h a las 21 h. (cada 30 minutos aproximadamente con descanso comida). Horarios concretos en las paradas habilitadas en Quejo (Campo San Sebastián) y en Casco Histórico de Isla. \n  \n\n\n\n\n\n\n\n\n\n\n\n\n\n\n\n\n\n\n¡Disfruta de los “XIII Feria del pimiento de Isla 2025”!\nDescubre Cantabria informa de que los diferentes eventos publicados se ofrecen a modo informativo\, no siendo Descubre Cantabria responsable de los problemas o daños causados por erratas o incorrecciones de los mismos.
URL:https://descubrecantabria.info/evento/xiii-feria-del-pimiento-de-isla-2025/
LOCATION:Casco historico de Isla\, Barrio el hoyo\, 8a\, Arnuero\, Cantabria\, 39195\, Spain
CATEGORIES:Gastronomía
ATTACH;FMTTYPE=image/webp:https://descubrecantabria.info/wp-content/uploads/2025/08/eventos-en-cantabria-feria-del-vino-costa-de-cantabria-2025_11zon.webp
END:VEVENT
BEGIN:VEVENT
DTSTART;TZID=Europe/Madrid:20250914T100000
DTEND;TZID=Europe/Madrid:20250914T170000
DTSTAMP:20260422T171601
CREATED:20250828T081307Z
LAST-MODIFIED:20250828T081316Z
UID:30000381-1757844000-1757869200@descubrecantabria.info
SUMMARY:III Feria del vino de Isla 2025
DESCRIPTION:Llega la III Feria del vino de Isla 2025. Disfruta del programa completo de la III Feria del vino de Isla 2025. \nIII Feria del vino de Isla 2025\n  \nDOMINGO 14 DE SEPTIEMBRE DE 10:00 A 16:00 H.\n->Mercado de la Huerta y del Pimiento de Isla. \n->Bodegas IGP Vinos Costa de Cantabria más bodega invitada. \n->Queserías artesanales \n->Visitas guiadas al casco histórico de Isla\, viñedos y huertas. \n->Amenización musical y actividades de ocio. \n->V Concurso de Ollas Ferroviarias. \n->Bono degustación\, con copa y/o cazuela para cata de vinos y tapa de quesos o alubias. \nTransporte Casco Histórico – Quejo.\nEl día de la Feria habrá transporte público para comunicar Isla Playa con el Casco Histórico de Isla desde las 10 h a las 16 h. (cada 30 minutos aproximadamente con descanso comida). Horarios concretos en las paradas habilitadas en Quejo (Campo San Sebastián) y en Casco Htco. Isla.
URL:https://descubrecantabria.info/evento/iii-feria-del-vino-de-isla-2025/
LOCATION:Casco historico de Isla\, Barrio el hoyo\, 8a\, Arnuero\, Cantabria\, 39195\, Spain
CATEGORIES:Gastronomía
ATTACH;FMTTYPE=image/webp:https://descubrecantabria.info/wp-content/uploads/2025/08/eventos-en-cantabria-feria-del-pimiento_11zon.webp
END:VEVENT
BEGIN:VEVENT
DTSTART;TZID=Europe/Madrid:20250927T170000
DTEND;TZID=Europe/Madrid:20250927T170000
DTSTAMP:20260422T171601
CREATED:20250827T172945Z
LAST-MODIFIED:20250827T173133Z
UID:30000363-1758992400-1758992400@descubrecantabria.info
SUMMARY:Noja North Coast 2025
DESCRIPTION:¿DE QUÉ TRATA “Noja North Coast 2025”?\n\n\n\n\n\n\n\n\n\n\n\n  \nMúsica en vivo\, fiesta de la cerveza y food trucks. La inscripción con camiseta sale por 7€. Habrá premios y pruebas de limbo con trofeo TOP LOW en el momento de la entrada al recinto cerrado. Inscripción hasta el 14 de septiembre del 2025. \n  \n\n\n\n\n\n\n\n\n\n\n\n\n\n\n\n\n\n\n¡Disfruta de los “Noja North Coast 2025”!\nDescubre Cantabria informa de que los diferentes eventos publicados se ofrecen a modo informativo\, no siendo Descubre Cantabria responsable de los problemas o daños causados por erratas o incorrecciones de los mismos.
URL:https://descubrecantabria.info/evento/noja-north-coast-2025/
LOCATION:Paseo Maritimo (Noja)\, Paseo Marítimo 12\, Noja\, Cantabria\, 39180\, Spain
CATEGORIES:Gastronomía,Música
ATTACH;FMTTYPE=image/webp:https://descubrecantabria.info/wp-content/uploads/2025/08/eventos-en-cantabria-noja-north-coast-2025_11zon.webp
END:VEVENT
END:VCALENDAR