BEGIN:VCALENDAR
VERSION:2.0
PRODID:-//Guía oficial de Cantabria | Turismo | Descubre Cantabria - ECPv6.15.20//NONSGML v1.0//EN
CALSCALE:GREGORIAN
METHOD:PUBLISH
X-ORIGINAL-URL:https://descubrecantabria.info
X-WR-CALDESC:Eventos para Guía oficial de Cantabria | Turismo | Descubre Cantabria
REFRESH-INTERVAL;VALUE=DURATION:PT1H
X-Robots-Tag:noindex
X-PUBLISHED-TTL:PT1H
BEGIN:VTIMEZONE
TZID:Europe/Madrid
BEGIN:DAYLIGHT
TZOFFSETFROM:+0100
TZOFFSETTO:+0200
TZNAME:CEST
DTSTART:20250330T010000
END:DAYLIGHT
BEGIN:STANDARD
TZOFFSETFROM:+0200
TZOFFSETTO:+0100
TZNAME:CET
DTSTART:20251026T010000
END:STANDARD
BEGIN:DAYLIGHT
TZOFFSETFROM:+0100
TZOFFSETTO:+0200
TZNAME:CEST
DTSTART:20260329T010000
END:DAYLIGHT
BEGIN:STANDARD
TZOFFSETFROM:+0200
TZOFFSETTO:+0100
TZNAME:CET
DTSTART:20261025T010000
END:STANDARD
BEGIN:DAYLIGHT
TZOFFSETFROM:+0100
TZOFFSETTO:+0200
TZNAME:CEST
DTSTART:20270328T010000
END:DAYLIGHT
BEGIN:STANDARD
TZOFFSETFROM:+0200
TZOFFSETTO:+0100
TZNAME:CET
DTSTART:20271031T010000
END:STANDARD
END:VTIMEZONE
BEGIN:VEVENT
DTSTART;TZID=Europe/Madrid:20260424T170000
DTEND;TZID=Europe/Madrid:20260424T170000
DTSTAMP:20260422T235957
CREATED:20260407T155328Z
LAST-MODIFIED:20260407T155406Z
UID:30006412-1777050000-1777050000@descubrecantabria.info
SUMMARY:A la caza del libro del tesoro
DESCRIPTION:¿DE QUÉ TRATA “A la caza del libro del tesoro”?\n  \nEl próximo VIERNES 24 de abril celebraremos el día del libro con una actividad en familia muy especial… “A LA CAZA DEL LIBRO DEL TESORO”. \n“Hemos encontrado un Libro del tesoro en Carandia\, pero para poder abrirlo necesitarás descifrar la palabra mágica. Escondidos en varios lugares del pueblo encontrarás unos cuantos personajes de cuento dispuestos a ayudarte…” \nACTIVIDAD GRATUITA PARA JUGAR EN FAMILIA Y CON AMIG@S. Sin límite de edad.  \nAh\, para los intrépidos e intrépidas lectoras que adivinen la palabra mágica\, tenemos preparada una suculenta sorpresa… \nInfo vía WhatsApp en +34 611 12 80 41  \n  \n¡Disfruta de los “A la caza del libro del tesoro”!\nDescubre Cantabria informa de que los diferentes eventos publicados se ofrecen a modo informativo\, no siendo Descubre Cantabria responsable de los problemas o daños causados por erratas o incorrecciones de los mismos.
URL:https://descubrecantabria.info/evento/a-la-caza-del-libro-del-tesoro/
LOCATION:Antiguas escuelas de Carandia\, Barrio San Roque\, 1A\, Piélagos\, Cantabria\, 39479\, Spain
CATEGORIES:Literatura,Talleres
ATTACH;FMTTYPE=image/webp:https://descubrecantabria.info/wp-content/uploads/2026/04/eventos-pielagos-a-la-caza-del-libro-del-tesoro_11zon.webp
END:VEVENT
BEGIN:VEVENT
DTSTART;TZID=Europe/Madrid:20260424T170000
DTEND;TZID=Europe/Madrid:20260424T170000
DTSTAMP:20260422T235957
CREATED:20260414T155908Z
LAST-MODIFIED:20260414T155921Z
UID:30008158-1777050000-1777050000@descubrecantabria.info
SUMMARY:Taller huevos de pascua con decoupage
DESCRIPTION:¿DE QUÉ TRATA “Taller huevos de pascua con decoupage”?\n  \n¡Abril viene cargado de planes en el Espacio Joven de Bezana! Si tienes más de 11 años\, ya tienes plan para los viernes y sábados de 17.00 a 21.00 en el Centro Cívico de Bezana. \nProgramación de actividades: \nViernes 17\n¡Torneo de Catán! Pon a prueba tu estrategia y compite con tus amigos. \nSábado 18\n¡Manos a la masa! Tarde de pizzas para cocinar y disfrutar juntos. \nViernes 24\nTaller creativo de huevos de Pascua con decoupage. ¡Deja volar tu imaginación! \nSábado 25\nCreación de pulseras personalizadas. Diseña la tuya y llévatela puesta. \nTe esperamos en el Espacio Joven de Bezana\, un lugar para divertirse y aprender interesantes cosas nuevas  \n  \n¡Disfruta de los “Taller huevos de pascua con decoupage”!\nDescubre Cantabria informa de que los diferentes eventos publicados se ofrecen a modo informativo\, no siendo Descubre Cantabria responsable de los problemas o daños causados por erratas o incorrecciones de los mismos.
URL:https://descubrecantabria.info/evento/taller-huevos-de-pascua-con-decoupage/
LOCATION:Centro Civico de Bezana\, Plaza Margarita\, s/n\, Bezana\, Cantabria\, 39100\, Spain
CATEGORIES:Infantil,Talleres
ATTACH;FMTTYPE=image/webp:https://descubrecantabria.info/wp-content/uploads/2026/04/eventos-cantabria-huevos-de-pascua_11zon.webp
END:VEVENT
BEGIN:VEVENT
DTSTART;TZID=Europe/Madrid:20260424T170000
DTEND;TZID=Europe/Madrid:20260424T170000
DTSTAMP:20260422T235957
CREATED:20260422T191600Z
LAST-MODIFIED:20260422T191635Z
UID:30008267-1777050000-1777050000@descubrecantabria.info
SUMMARY:Taller de cocina Mousse de limón
DESCRIPTION:¿DE QUÉ TRATA “Taller de cocina Mousse de limón”?\n  \nProgramación del fin de semana en el Espacio Joven \n→ Viernes 24: ¡Cocina! \nPreparamos una deliciosa mousse de limón\, una receta fresca y divertida para aprender cocinando. \n→ Sábado 25: ¡Manualidad! \nHacemos pompones Pokémon\, una actividad creativa y súper colorida para fans de Pokémon y de las manualidades. \nRecuerda: nos vemos todos los viernes y sábados de 17:00 h a 21:00 \n  \n¡Disfruta de los “Taller de cocina Mousse de limón”!\nDescubre Cantabria informa de que los diferentes eventos publicados se ofrecen a modo informativo\, no siendo Descubre Cantabria responsable de los problemas o daños causados por erratas o incorrecciones de los mismos.
URL:https://descubrecantabria.info/evento/taller-de-cocina-mousse-de-limon/
LOCATION:Edificio Mardecu\, Barrio San Roque\, 119\, Marina de Cudeyo\, Cantabria\, 39130\, Spain
CATEGORIES:Infantil,Talleres
ATTACH;FMTTYPE=image/webp:https://descubrecantabria.info/wp-content/uploads/2026/04/eventos-cantabria-cocina-mousse-de-limon_11zon.webp
END:VEVENT
BEGIN:VEVENT
DTSTART;TZID=Europe/Madrid:20260424T180000
DTEND;TZID=Europe/Madrid:20260424T180000
DTSTAMP:20260422T235957
CREATED:20260225T134643Z
LAST-MODIFIED:20260225T135451Z
UID:30002643-1777053600-1777053600@descubrecantabria.info
SUMMARY:Bingo Animado Ampuero 2026
DESCRIPTION:¿DE QUÉ TRATA “Bingo Animado Ampuero 2026”?\n  \nVuelven los viernes de BINGO en el Centro de la Tercera Edad de Ampuero.\n¡Apuntad bien las fechas! 27 de marzo\, 24 de abril y 29 de mayo. de 18:00 a 20:00. \n  \n¡Disfruta de los “Bingo Animado Ampuero 2026”!\nDescubre Cantabria informa de que los diferentes eventos publicados se ofrecen a modo informativo\, no siendo Descubre Cantabria responsable de los problemas o daños causados por erratas o incorrecciones de los mismos.
URL:https://descubrecantabria.info/evento/bingo-animado-ampuero-2026/2026-04-24/
LOCATION:Centro de la Tercera Edad Ampuero\, Barrio Udalla\, 20\, Ampuero\, Cantabria\, 39850\, Spain
CATEGORIES:Talleres
ATTACH;FMTTYPE=image/webp:https://descubrecantabria.info/wp-content/uploads/2026/02/eventos-ampuero-bingo-animado-ampuero_11zon.webp
END:VEVENT
BEGIN:VEVENT
DTSTART;TZID=Europe/Madrid:20260424T180000
DTEND;TZID=Europe/Madrid:20260424T180000
DTSTAMP:20260422T235957
CREATED:20260327T151611Z
LAST-MODIFIED:20260327T151621Z
UID:30005934-1777053600-1777053600@descubrecantabria.info
SUMMARY:Talleres gratuitos de La Noche es Joven (III)
DESCRIPTION:¿DE QUÉ TRATA “Talleres gratuitos de La Noche es Joven (III)”?\n  \nEl Ayuntamiento de Santander pone en marcha una nueva edición de ‘La Noche es Joven’\, el programa municipal de ocio nocturno alternativo que regresa esta primavera con una completa programación de actividades gratuitas dirigidas a jóvenes de entre 15 y 30 años. \nDurante los viernes de abril y principios de mayo\, se ofrecerán 73 sesiones de talleres sin inscripción previa —salvo los de cocina y repostería— en espacios como el pabellón Numancia\, el centro cívico Numancia y Espacio Joven. Las temáticas abarcan desde K-pop\, grafiti y parkour hasta cocina asiática\, repostería y defensa personal. \nVIERNES 24 DE ABRIL \nCocina I “Técnicas y sabores” \nInscripción online a partir de las 10:00 h. del 20 de abril \nHora: 18:00 h. \nLugar: Mercado de la Esperanza  \nNo te olvides: Delantal y paño de cocina \nRepostería I \nInscripción online a partir de las 10:00 h. del 20 de abril  \nHora: 19:30 h. \nLugar: Escuela Las Carolinas \nImparte: Escuela Las Carolinas \nNo te olvides: Delantal y paño de cocina \nSkincare  \nInscripción: Allí mismo\, hasta cubrir aforo.  \nHora: 20:15 h.  \nLugar: CC Numancia     \nArcilla polimétrica  \nInscripción: Allí mismo\, hasta cubrir aforo.  \nHora: 20:30 h.  \nLugar: CC Numancia     \nKrav Maga \nInscripción: Allí mismo\, hasta cubrir aforo. \nHora: 20:30 h. \nLugar: Pabellón polideportivo Numancia    \nDanza clásica \nInscripción: Allí mismo\, hasta cubrir aforo. \nHora: 20:30 h. \nLugar: Espacio Joven    \nCocina II “Técnicas y sabores” \nInscripción online a partir de las 10:00 h. del 20 de abril  \nHora: 20:30 h.  \nLugar: Mercado de la Esperanza    \nNo te olvides: Delantal y paño de cocina \nIniciación al canto  \nInscripción: Allí mismo\, hasta cubrir aforo.  \nHora: 20:45 h.  \nLugar: Pabellón polideportivo Numancia     \nGraffiti y arte mural  \nInscripción: Allí mismo\, hasta cubrir aforo.  \nHora: 21:00 h.  \nLugar: Espacio Joven     \nMurder party  \nInscripción: Allí mismo\, hasta cubrir aforo.  \nHora: 21:00 h.  \nLugar: CC Numancia     \nTiro con arco  \nInscripción: Allí mismo\, hasta cubrir aforo.  \nHora: 21:15 h.  \nLugar: Pabellón polideportivo Numancia    \nNo te olvides: Ropa cómoda y calzado deportivo \nParkour \nInscripción: Allí mismo\, hasta cubrir aforo. \nHora: 21:15 h. \nLugar: Pabellón polideportivo Numancia\n \nNo te olvides: Ropa cómoda y calzado deportivo \nLibro de viaje \nInscripción: Allí mismo\, hasta cubrir aforo.  \nHora: 22:00 h. \nLugar: CC Numancia    \nRepostería II  \nInscripción online a partir de las 10:00 h. del 20 de abril  \nHora: 22:00 h.  \nLugar: Escuela Las Carolinas  \nImparte: Escuela Las Carolinas  \nNo te olvides: Delantal y paño de cocina \nTwerk  \nInscripción: Allí mismo\, hasta cubrir aforo.  \nHora: 22:15 h.  \nLugar: Espacio Joven    \nNo te olvides: Ropa cómoda y calzado deportivo \nBachata  \nInscripción: Allí mismo\, hasta cubrir aforo.  \nHora: 23:00 h.  \nLugar: Pabellón polideportivo Numancia  \nPuedes encontrar todos los eventos en Santander aquí. \n  \n¡Disfruta de los “Talleres gratuitos de La Noche es Joven (III)”!\nDescubre Cantabria informa de que los diferentes eventos publicados se ofrecen a modo informativo\, no siendo Descubre Cantabria responsable de los problemas o daños causados por erratas o incorrecciones de los mismos.
URL:https://descubrecantabria.info/evento/talleres-gratuitos-de-la-noche-es-joven-iii/
LOCATION:Espacio Joven Santander\, Calle Cuesta del Hospital 10\, Santander\, Cantabria\, 39008\, Spain
CATEGORIES:Talleres
ATTACH;FMTTYPE=image/webp:https://descubrecantabria.info/wp-content/uploads/2026/03/eventos-santander-talleres-gratuitos-de-la-noche-es-joven-v_11zon.webp
END:VEVENT
BEGIN:VEVENT
DTSTART;TZID=Europe/Madrid:20260424T203000
DTEND;TZID=Europe/Madrid:20260424T203000
DTSTAMP:20260422T235957
CREATED:20260327T151814Z
LAST-MODIFIED:20260327T151823Z
UID:30005935-1777062600-1777062600@descubrecantabria.info
SUMMARY:Urban Sketching. Iniciación al dibujo al aire libre
DESCRIPTION:¿DE QUÉ TRATA “Urban Sketching. Iniciación al dibujo al aire libre”?\n  \nTaller monográfico especial de Urban Sketching. Iniciación al dibujo al aire libre Se impartirá los días 24 o 25 de abril. \nTodos los materiales incluidos. \n7 plazas/ taller. \nHorarios: Viernes\, 18 a 20:30 h. Sábados\, 11 a 13:30 h. \nLugar: Escuela Garanza Arte. C/ Valentín Lavín Casalís 8 bajo. Santander (zona Cuatro Caminos). \nInscripción previa: 619 387 500. \nImparte: Beatriz Hoyos\, artista visual y analista plástica\, con 28 años de experiencia docente. \nPuedes encontrar todos los eventos en Santander aquí. \n  \n¡Disfruta de los “Urban Sketching. Iniciación al dibujo al aire libre”!\nDescubre Cantabria informa de que los diferentes eventos publicados se ofrecen a modo informativo\, no siendo Descubre Cantabria responsable de los problemas o daños causados por erratas o incorrecciones de los mismos.
URL:https://descubrecantabria.info/evento/urban-sketching-iniciacion-al-dibujo-al-aire-libre/
LOCATION:Garanza\, Calle Montejurra 8\, Santander\, Cantabria\, 39010\, Spain
CATEGORIES:Talleres
ATTACH;FMTTYPE=image/webp:https://descubrecantabria.info/wp-content/uploads/2026/03/eventos-santander-urban-sketching_11zon-1.webp
END:VEVENT
END:VCALENDAR