BEGIN:VCALENDAR
VERSION:2.0
PRODID:-//Guía oficial de Cantabria | Turismo | Descubre Cantabria - ECPv6.15.20//NONSGML v1.0//EN
CALSCALE:GREGORIAN
METHOD:PUBLISH
X-WR-CALNAME:Guía oficial de Cantabria | Turismo | Descubre Cantabria
X-ORIGINAL-URL:https://descubrecantabria.info
X-WR-CALDESC:Eventos para Guía oficial de Cantabria | Turismo | Descubre Cantabria
REFRESH-INTERVAL;VALUE=DURATION:PT1H
X-Robots-Tag:noindex
X-PUBLISHED-TTL:PT1H
BEGIN:VTIMEZONE
TZID:Europe/Madrid
BEGIN:DAYLIGHT
TZOFFSETFROM:+0100
TZOFFSETTO:+0200
TZNAME:CEST
DTSTART:20250330T010000
END:DAYLIGHT
BEGIN:STANDARD
TZOFFSETFROM:+0200
TZOFFSETTO:+0100
TZNAME:CET
DTSTART:20251026T010000
END:STANDARD
BEGIN:DAYLIGHT
TZOFFSETFROM:+0100
TZOFFSETTO:+0200
TZNAME:CEST
DTSTART:20260329T010000
END:DAYLIGHT
BEGIN:STANDARD
TZOFFSETFROM:+0200
TZOFFSETTO:+0100
TZNAME:CET
DTSTART:20261025T010000
END:STANDARD
BEGIN:DAYLIGHT
TZOFFSETFROM:+0100
TZOFFSETTO:+0200
TZNAME:CEST
DTSTART:20270328T010000
END:DAYLIGHT
BEGIN:STANDARD
TZOFFSETFROM:+0200
TZOFFSETTO:+0100
TZNAME:CET
DTSTART:20271031T010000
END:STANDARD
END:VTIMEZONE
BEGIN:VEVENT
DTSTART;TZID=Europe/Madrid:20260425T100000
DTEND;TZID=Europe/Madrid:20260425T170000
DTSTAMP:20260423T025320
CREATED:20260327T145843Z
LAST-MODIFIED:20260327T145854Z
UID:30005924-1777111200-1777136400@descubrecantabria.info
SUMMARY:Taller de Sumi-e Ran Orquídea Salvaje
DESCRIPTION:¿DE QUÉ TRATA “Taller de Sumi-e Ran Orquídea Salvaje”?\n  \nTaller de Sumi-e Ran\, Orquídea Salvaje en la escuela Garanza Arte impartido por Beatriz Hoyos\, artista y analista plástica con 28 años de experiencia docente. \nNecesaria la inscripción y reserva previa de plaza mediante el abono del 50 % del coste del taller. \n 7 plazas disponibles (adultos). \nSe incluyen todos los materiales. \nTeléfono de contacto: 619 387 500. \nPuedes encontrar todos los eventos en Santander aquí. \n  \n¡Disfruta de los “Taller de Sumi-e Ran Orquídea Salvaje”!\nDescubre Cantabria informa de que los diferentes eventos publicados se ofrecen a modo informativo\, no siendo Descubre Cantabria responsable de los problemas o daños causados por erratas o incorrecciones de los mismos.
URL:https://descubrecantabria.info/evento/taller-de-sumi-e-ran-orquidea-salvaje/
LOCATION:Garanza\, Calle Montejurra 8\, Santander\, Cantabria\, 39010\, Spain
CATEGORIES:Talleres
ATTACH;FMTTYPE=image/webp:https://descubrecantabria.info/wp-content/uploads/2026/03/eventos-santander-taller-de-sumi-e-ran_11zon-1.webp
END:VEVENT
BEGIN:VEVENT
DTSTART;TZID=Europe/Madrid:20260425T100000
DTEND;TZID=Europe/Madrid:20260425T170000
DTSTAMP:20260423T025320
CREATED:20260327T150407Z
LAST-MODIFIED:20260327T150423Z
UID:30005927-1777111200-1777136400@descubrecantabria.info
SUMMARY:Taller de clown hospitalario y social con Txetxe Folch
DESCRIPTION:¿DE QUÉ TRATA “Taller de clown hospitalario y social con Txetxe Folch”?\n  \nLa risa no es solo algo divertido\, también sana. Por eso\, el mes de abril la Fábrica de Creación dedicará su taller mensual a la disciplina circense del payaso con Txetxe Folch. \nEl objetivo de este taller sobre clown hospitalario y social es ofrecer las herramientas técnicas\, psicológicas y artísticas para profundizar en el oficio del clown de hospital y social. \nTxetxe Folch es payasa de hospital desde 2003. Ha sido coordinadora en el Hospital General de Valencia\, fundadora de Hospitran (payasas de hospital de Fuerteventura) y fundadora de la escuela de clown\, SocPallassa. Asimismo\, ha formado parte del equipo artístico de misiones de Payasos Sin Fronteras. Dedicada al mundo del clown\, Txetxe ha trabajado en varias compañías y desde la suya\, Cía. Txetxe Clown\, crea sus espectáculos con valores sociales y humanitarios. En 2026 publica su primer ensayo sobre el clown ‘Desclownfínate’ y ha obtenido varios premios por su trabajo como clown hospitalaria. \nFecha: sábado 25 y domingo 26 de abril de 2026. \nHorario: sábado – de 10:00h a 14:00h y de 15:00h a 18:00h y domingo – de 10:00h a 14:00h. \nPrecio: 18€. \nLugar: Fábrica de Creación (planta 3 del Edificio Tabacalera\, Santander). \nPuedes encontrar todos los eventos en Santander aquí. \n  \n¡Disfruta de los “Taller de clown hospitalario y social con Txetxe Folch”!\nDescubre Cantabria informa de que los diferentes eventos publicados se ofrecen a modo informativo\, no siendo Descubre Cantabria responsable de los problemas o daños causados por erratas o incorrecciones de los mismos.
URL:https://descubrecantabria.info/evento/taller-de-clown-hospitalario-y-social-con-txetxe-folch/2026-04-25/
LOCATION:La Fabrica de Creacion\, Calle Antonio López 36\, Santander\, Cantabria\, 39009\, Spain
CATEGORIES:Artes escénicas,Talleres
ATTACH;FMTTYPE=image/webp:https://descubrecantabria.info/wp-content/uploads/2026/03/eventos-santander-taller-de-clown-hospitalario_11zon-1.webp
END:VEVENT
BEGIN:VEVENT
DTSTART;TZID=Europe/Madrid:20260425T100000
DTEND;TZID=Europe/Madrid:20260425T170000
DTSTAMP:20260423T025320
CREATED:20260331T164806Z
LAST-MODIFIED:20260331T164825Z
UID:30006068-1777111200-1777136400@descubrecantabria.info
SUMMARY:Taller conexión con la naturaleza y supervivencia
DESCRIPTION:¿DE QUÉ TRATA “Taller conexión con la naturaleza y supervivencia”?\n  \nEn este taller de introducción a Forest School\, dirigido a familias y adultos (niños/as a partir de 6 años)\, exploraremos diferentes formas de conectar con la naturaleza a través del arte y las habilidades básicas de bushcraft y supervivencia. \nA lo largo de la jornada aprenderemos a utilizar herramientas sencillas y materiales naturales para crear pequeños objetos\, además de practicar técnicas básicas de fuego y otras destrezas fundamentales para desenvolvernos en el entorno natural. \nCada participante deberá traer su propio picnic para compartir un rato de comida juntos al aire libre. \nRecomendable: ropa y calzado adecuados para actividades en la naturaleza. \nMás info y reservas: info@bahiasantander.es \n  \n¡Disfruta de los “Taller conexión con la naturaleza y supervivencia”!\nDescubre Cantabria informa de que los diferentes eventos publicados se ofrecen a modo informativo\, no siendo Descubre Cantabria responsable de los problemas o daños causados por erratas o incorrecciones de los mismos.
URL:https://descubrecantabria.info/evento/taller-conexion-con-la-naturaleza-y-supervivencia/
LOCATION:Centro Cultural Gajano\, Barrio Presmanes\, 86\, Gajano\, Cantabria\, 39792\, Spain
CATEGORIES:Talleres
ATTACH;FMTTYPE=image/webp:https://descubrecantabria.info/wp-content/uploads/2026/03/eventos-cantabria-taller-conexion-con-la-naturaleza_11zon.webp
END:VEVENT
BEGIN:VEVENT
DTSTART;TZID=Europe/Madrid:20260425T170000
DTEND;TZID=Europe/Madrid:20260425T170000
DTSTAMP:20260423T025320
CREATED:20260414T150040Z
LAST-MODIFIED:20260414T150050Z
UID:30008105-1777136400-1777136400@descubrecantabria.info
SUMMARY:Nuevo juego en la tarde de juegos EnNojate
DESCRIPTION:¿DE QUÉ TRATA “Nuevo juego en la tarde de juegos EnNojate”?\n  \nTarde de juegos en EnNojate365. Este mes\, el sábado 25\, dedicaremos la tarde a uno de los nuevos juegos…  Estamos deseando ver lo bien que se os da… ¡os esperamos!  Actividad dirigida para jóvenes que estén cursando desde 5º de primaria y hasta los 30 años. \n  \n¡Disfruta de los “Nuevo juego en la tarde de juegos EnNojate”!\nDescubre Cantabria informa de que los diferentes eventos publicados se ofrecen a modo informativo\, no siendo Descubre Cantabria responsable de los problemas o daños causados por erratas o incorrecciones de los mismos.
URL:https://descubrecantabria.info/evento/nuevo-juego-en-la-tarde-de-juegos-ennojate/
LOCATION:EnNojate365\, Calle Marqués de Velasco\, 8\, Noja\, Cantabria\, 39180\, Spain
CATEGORIES:Infantil,Talleres
ATTACH;FMTTYPE=image/webp:https://descubrecantabria.info/wp-content/uploads/2026/04/eventos-cantabria-tarde-de-juegos-en_11zon.webp
END:VEVENT
BEGIN:VEVENT
DTSTART;TZID=Europe/Madrid:20260425T170000
DTEND;TZID=Europe/Madrid:20260425T170000
DTSTAMP:20260423T025320
CREATED:20260414T160020Z
LAST-MODIFIED:20260414T160027Z
UID:30008159-1777136400-1777136400@descubrecantabria.info
SUMMARY:Taller de pulseras en Bezana
DESCRIPTION:¿DE QUÉ TRATA “Taller de pulseras en Bezana”?\n  \n¡Abril viene cargado de planes en el Espacio Joven de Bezana! Si tienes más de 11 años\, ya tienes plan para los viernes y sábados de 17.00 a 21.00 en el Centro Cívico de Bezana. \nProgramación de actividades: \nViernes 17\n¡Torneo de Catán! Pon a prueba tu estrategia y compite con tus amigos. \nSábado 18\n¡Manos a la masa! Tarde de pizzas para cocinar y disfrutar juntos. \nViernes 24\nTaller creativo de huevos de Pascua con decoupage. ¡Deja volar tu imaginación! \nSábado 25\nCreación de pulseras personalizadas. Diseña la tuya y llévatela puesta. \nTe esperamos en el Espacio Joven de Bezana\, un lugar para divertirse y aprender interesantes cosas nuevas  \n  \n¡Disfruta de los “Taller de pulseras en Bezana”!\nDescubre Cantabria informa de que los diferentes eventos publicados se ofrecen a modo informativo\, no siendo Descubre Cantabria responsable de los problemas o daños causados por erratas o incorrecciones de los mismos.
URL:https://descubrecantabria.info/evento/taller-de-pulseras-en-bezana/
LOCATION:Centro Civico de Bezana\, Plaza Margarita\, s/n\, Bezana\, Cantabria\, 39100\, Spain
CATEGORIES:Infantil,Talleres
ATTACH;FMTTYPE=image/webp:https://descubrecantabria.info/wp-content/uploads/2026/04/eventos-cantabria-taller-pulseras_11zon.webp
END:VEVENT
BEGIN:VEVENT
DTSTART;TZID=Europe/Madrid:20260425T170000
DTEND;TZID=Europe/Madrid:20260425T170000
DTSTAMP:20260423T025320
CREATED:20260416T103536Z
LAST-MODIFIED:20260416T103615Z
UID:30008197-1777136400-1777136400@descubrecantabria.info
SUMMARY:Taller de cuelga pendientes
DESCRIPTION:¿DE QUÉ TRATA “Taller de cuelga pendientes”?\n  \nParticipa en el taller creativo de primavera cuelga pendientes con madera. El próximo 25 de abril a las 17:00 en el Aula Cultura de Suesa a partir de 6 años. 25€ incluye todo\, precio especial familias.  \nReserva plaza en 620 59 51 79 \n  \n¡Disfruta de los “Taller de cuelga pendientes”!\nDescubre Cantabria informa de que los diferentes eventos publicados se ofrecen a modo informativo\, no siendo Descubre Cantabria responsable de los problemas o daños causados por erratas o incorrecciones de los mismos.
URL:https://descubrecantabria.info/evento/taller-de-cuelga-pendientes/
LOCATION:Aula Cultura Suesa\, Calle de Pola\, s/n\, Ribamontan al mar\, Cantabria\, 39150\, Spain
CATEGORIES:Talleres
ATTACH;FMTTYPE=image/webp:https://descubrecantabria.info/wp-content/uploads/2026/04/eventos-cantabria-taller-cuelga-pendientes_11zon.webp
END:VEVENT
BEGIN:VEVENT
DTSTART;TZID=Europe/Madrid:20260425T170000
DTEND;TZID=Europe/Madrid:20260425T170000
DTSTAMP:20260423T025320
CREATED:20260422T191755Z
LAST-MODIFIED:20260422T191821Z
UID:30008268-1777136400-1777136400@descubrecantabria.info
SUMMARY:Manualidades pompones Pokemon
DESCRIPTION:¿DE QUÉ TRATA “Manualidades pompones Pokemon”?\n  \nProgramación del fin de semana en el Espacio Joven \n→ Viernes 24: ¡Cocina! \nPreparamos una deliciosa mousse de limón\, una receta fresca y divertida para aprender cocinando. \n→ Sábado 25: ¡Manualidad! \nHacemos pompones Pokémon\, una actividad creativa y súper colorida para fans de Pokémon y de las manualidades. \nRecuerda: nos vemos todos los viernes y sábados de 17:00 h a 21:00 \n  \n¡Disfruta de los “Manualidades pompones Pokemon”!\nDescubre Cantabria informa de que los diferentes eventos publicados se ofrecen a modo informativo\, no siendo Descubre Cantabria responsable de los problemas o daños causados por erratas o incorrecciones de los mismos.
URL:https://descubrecantabria.info/evento/manualidades-pompones-pokemon/
LOCATION:Edificio Mardecu\, Barrio San Roque\, 119\, Marina de Cudeyo\, Cantabria\, 39130\, Spain
CATEGORIES:Infantil,Talleres
ATTACH;FMTTYPE=image/webp:https://descubrecantabria.info/wp-content/uploads/2026/04/eventos-cantabria-pompones-pokemon_11zon.webp
END:VEVENT
BEGIN:VEVENT
DTSTART;TZID=Europe/Madrid:20260425T190000
DTEND;TZID=Europe/Madrid:20260425T190000
DTSTAMP:20260423T025320
CREATED:20260407T151005Z
LAST-MODIFIED:20260407T151122Z
UID:30006402-1777143600-1777143600@descubrecantabria.info
SUMMARY:Taller joven de marca páginas Suances 2026
DESCRIPTION:¿DE QUÉ TRATA “Taller joven de marca páginas Suances 2026”?\n  \nLlegan los sábados jóvenes Suances en abril. 3 actividades totalmente gratuitas para que los niños disfruten como nunca. A partir de 12 años\, son plazas limitadas. Inscripciones aquí \nSábado 11 | Taller de cocina a las 19:00\nSábado 25 | Taller de marca páginas a las 19:00 \n  \n¡Disfruta de los “Taller joven de marca páginas Suances 2026”!\nDescubre Cantabria informa de que los diferentes eventos publicados se ofrecen a modo informativo\, no siendo Descubre Cantabria responsable de los problemas o daños causados por erratas o incorrecciones de los mismos.
URL:https://descubrecantabria.info/evento/taller-joven-de-marca-paginas-suances-2026/
LOCATION:Casa Joven Suances\, Plaza Viares\, 12\, Suances\, Cantabria\, 39340\, Spain
CATEGORIES:Infantil,Literatura,Talleres
ATTACH;FMTTYPE=image/webp:https://descubrecantabria.info/wp-content/uploads/2026/04/eventos-suances-taller-marca-paginas_11zon.webp
END:VEVENT
BEGIN:VEVENT
DTSTART;TZID=Europe/Madrid:20260425T190000
DTEND;TZID=Europe/Madrid:20260425T190000
DTSTAMP:20260423T025320
CREATED:20260414T153457Z
LAST-MODIFIED:20260414T153507Z
UID:30008117-1777143600-1777143600@descubrecantabria.info
SUMMARY:Baile social con Brayan en Solórzano 2026
DESCRIPTION:¿DE QUÉ TRATA “Baile social con Brayan en Solórzano 2026”?\n  \nVen a disfrutar del baile social con Brayan\, una actuación que no te dejará indiferente. El próximo 25 de abril en las Escuelas de Solórzano a las 19:00 \n  \n¡Disfruta de los “Baile social con Brayan en Solórzano 2026”!\nDescubre Cantabria informa de que los diferentes eventos publicados se ofrecen a modo informativo\, no siendo Descubre Cantabria responsable de los problemas o daños causados por erratas o incorrecciones de los mismos.
URL:https://descubrecantabria.info/evento/baile-social-con-brayan-en-solorzano-2026/
LOCATION:Escuelas de Solorzano\, Barrio la Puente\, 59\, Solorzano\, Cantabria\, 39738\, Spain
CATEGORIES:Talleres
ATTACH;FMTTYPE=image/webp:https://descubrecantabria.info/wp-content/uploads/2026/04/eventos-cantabria-baile-social-con-brayan-en-solorzano_11zon.webp
END:VEVENT
END:VCALENDAR