BEGIN:VCALENDAR
VERSION:2.0
PRODID:-//Guía oficial de Cantabria | Turismo | Descubre Cantabria - ECPv6.15.20//NONSGML v1.0//EN
CALSCALE:GREGORIAN
METHOD:PUBLISH
X-WR-CALNAME:Guía oficial de Cantabria | Turismo | Descubre Cantabria
X-ORIGINAL-URL:https://descubrecantabria.info
X-WR-CALDESC:Eventos para Guía oficial de Cantabria | Turismo | Descubre Cantabria
REFRESH-INTERVAL;VALUE=DURATION:PT1H
X-Robots-Tag:noindex
X-PUBLISHED-TTL:PT1H
BEGIN:VTIMEZONE
TZID:Europe/Madrid
BEGIN:DAYLIGHT
TZOFFSETFROM:+0100
TZOFFSETTO:+0200
TZNAME:CEST
DTSTART:20250330T010000
END:DAYLIGHT
BEGIN:STANDARD
TZOFFSETFROM:+0200
TZOFFSETTO:+0100
TZNAME:CET
DTSTART:20251026T010000
END:STANDARD
BEGIN:DAYLIGHT
TZOFFSETFROM:+0100
TZOFFSETTO:+0200
TZNAME:CEST
DTSTART:20260329T010000
END:DAYLIGHT
BEGIN:STANDARD
TZOFFSETFROM:+0200
TZOFFSETTO:+0100
TZNAME:CET
DTSTART:20261025T010000
END:STANDARD
BEGIN:DAYLIGHT
TZOFFSETFROM:+0100
TZOFFSETTO:+0200
TZNAME:CEST
DTSTART:20270328T010000
END:DAYLIGHT
BEGIN:STANDARD
TZOFFSETFROM:+0200
TZOFFSETTO:+0100
TZNAME:CET
DTSTART:20271031T010000
END:STANDARD
END:VTIMEZONE
BEGIN:VEVENT
DTSTART;TZID=Europe/Madrid:20260508T170000
DTEND;TZID=Europe/Madrid:20260508T170000
DTSTAMP:20260423T111058
CREATED:20260407T142850Z
LAST-MODIFIED:20260407T142903Z
UID:30006392-1778259600-1778259600@descubrecantabria.info
SUMMARY:Charla relaciones digitales y situaciones de riesgo
DESCRIPTION:  \n¿DE QUÉ TRATA “Charla relaciones digitales y situaciones de riesgo”?\n  \nAnalizaremos el postureo\, el control en la pareja y cómo pasar de la presión de grupo para que nadie decida por ti. En el Espacio Joven Bezana. Sorteo 2 entradas para el rocódromo entre todos los participantes. \n  \n¡Disfruta de los “Charla relaciones digitales y situaciones de riesgo”!\nDescubre Cantabria informa de que los diferentes eventos publicados se ofrecen a modo informativo\, no siendo Descubre Cantabria responsable de los problemas o daños causados por erratas o incorrecciones de los mismos.
URL:https://descubrecantabria.info/evento/charla-relaciones-digitales-y-situaciones-de-riesgo/
LOCATION:Centro Civico de Bezana\, Plaza Margarita\, s/n\, Bezana\, Cantabria\, 39100\, Spain
CATEGORIES:Charlas,Talleres
ATTACH;FMTTYPE=image/webp:https://descubrecantabria.info/wp-content/uploads/2026/04/eventos-bezana-relaciones-digirales-y-situaciones-de-riesgo_11zon.webp
END:VEVENT
BEGIN:VEVENT
DTSTART;TZID=Europe/Madrid:20260508T180000
DTEND;TZID=Europe/Madrid:20260508T180000
DTSTAMP:20260423T111058
CREATED:20260327T130808Z
LAST-MODIFIED:20260327T130819Z
UID:30005899-1778263200-1778263200@descubrecantabria.info
SUMMARY:Talleres gratuitos de La Noche es Joven (V)
DESCRIPTION:¿DE QUÉ TRATA “Talleres gratuitos de La Noche es Joven (V)”?\n  \nEl Ayuntamiento de Santander pone en marcha una nueva edición de ‘La Noche es Joven’\, el programa municipal de ocio nocturno alternativo que regresa esta primavera con una completa programación de actividades gratuitas dirigidas a jóvenes de entre 15 y 30 años. \nDurante los viernes de abril y principios de mayo\, se ofrecerán 73 sesiones de talleres sin inscripción previa —salvo los de cocina y repostería— en espacios como el pabellón Numancia\, el centro cívico Numancia y Espacio Joven. Las temáticas abarcan desde K-pop\, grafiti y parkour hasta cocina asiática\, repostería y defensa personal. \n VIERNES 8 DE MAYO \nCocina I “Sándwich Lab” \nInscripción online a partir de las 10:00 h. del 4 de mayo  \nHora: 18:00 h. \nLugar: Mercado de la Esperanza    \nNo te olvides: Delantal y paño de cocina \nRepostería I \nInscripción online a partir de las 10:00 h. del 4 de mayo  \nHora: 19:30 h. \nLugar: Escuela Las Carolinas \nImparte: Escuela Las Carolinas \nNo te olvides: Delantal y paño de cocina \nCocina II “Sándwich Lab”  \nInscripción online a partir de las 10:00 h. del 4 de mayo  \nHora: 20:30 h.  \nLugar: Mercado de la Esperanza    \nNo te olvides: Delantal y paño de cocina \nK-pop  \nInscripción: Allí mismo\, hasta cubrir aforo. \nHora: 20:30 h. \nLugar: Espacio Joven    \nNo te olvides: Ropa cómoda y calzado deportivo. Agua \nCrochet \nInscripción: Allí mismo\, hasta cubrir aforo. \nHora: 20:30 h. \nLugar: CC Numancia \nTaller de velas  \nInscripción: Allí mismo\, hasta cubrir aforo.  \nHora: 20:45 h.  \nLugar: CC Numancia     \nRisoterapia  \nInscripción: Allí mismo\, hasta cubrir aforo.  \nHora: 21:00 h.  \nLugar: Pabellón polideportivo Numancia     \nGraffiti y arte mural  \nInscripción: Allí mismo\, hasta cubrir aforo.  \nHora: 21:00 h.  \nLugar: Espacio Joven     \nHilorama  \nInscripción: Allí mismo\, hasta cubrir aforo.  \nHora: 21:00 h.  \nLugar: CC Numancia     \nTiro con arco  \nInscripción: Allí mismo\, hasta cubrir aforo.  \nHora: 21:15 h.  \nLugar: Pabellón polideportivo Numancia    \nNo te olvides: Ropa cómoda y calzado deportivo \nParkour \nInscripción: Allí mismo\, hasta cubrir aforo. \nHora: 21:15 h. \nLugar: Pabellón polideportivo Numancia    \nAstrología y Quiromancia \nInscripción: Allí mismo\, hasta cubrir aforo.  \nHora: 21:30 h. \nLugar: CC Numancia    \nRepostería II  \nInscripción online a partir de las 10:00 h. del 4 de mayo  \nHora: 22:00 h.  \nLugar: Escuela Las Carolinas  \nImparte: Escuela Las Carolinas  \nNo te olvides: Delantal y paño de cocina \nLightpainting  \nInscripción: Allí mismo\, hasta cubrir aforo.  \nHora: 22:15 h.  \nLugar: Pabellón polideportivo Numancia  \nUrbano  \nInscripción: Allí mismo\, hasta cubrir aforo. \nHora: 22:15 h. \nLugar: Espacio Joven    \nBachata  \nInscripción: Allí mismo\, hasta cubrir aforo.  \nHora: 23:00 h.  \nLugar: Pabellón polideportivo Numancia    \nNo te olvides: Ropa cómoda y calzado deportivo \nPuedes encontrar todos los eventos en Santander aquí. \n  \n¡Disfruta de los “Talleres gratuitos de La Noche es Joven (V)”!\nDescubre Cantabria informa de que los diferentes eventos publicados se ofrecen a modo informativo\, no siendo Descubre Cantabria responsable de los problemas o daños causados por erratas o incorrecciones de los mismos.
URL:https://descubrecantabria.info/evento/talleres-gratuitos-de-la-noche-es-joven-v/
LOCATION:Espacio Joven Santander\, Calle Cuesta del Hospital 10\, Santander\, Cantabria\, 39008\, Spain
CATEGORIES:Talleres
ATTACH;FMTTYPE=image/webp:https://descubrecantabria.info/wp-content/uploads/2026/03/eventos-santander-talleres-gratuitos-de-la-noche-es-joven-v_11zon.webp
END:VEVENT
END:VCALENDAR