BEGIN:VCALENDAR
VERSION:2.0
PRODID:-//Guía oficial de Cantabria | Turismo | Descubre Cantabria - ECPv6.15.20//NONSGML v1.0//EN
CALSCALE:GREGORIAN
METHOD:PUBLISH
X-WR-CALNAME:Guía oficial de Cantabria | Turismo | Descubre Cantabria
X-ORIGINAL-URL:https://descubrecantabria.info
X-WR-CALDESC:Eventos para Guía oficial de Cantabria | Turismo | Descubre Cantabria
REFRESH-INTERVAL;VALUE=DURATION:PT1H
X-Robots-Tag:noindex
X-PUBLISHED-TTL:PT1H
BEGIN:VTIMEZONE
TZID:Europe/Madrid
BEGIN:DAYLIGHT
TZOFFSETFROM:+0100
TZOFFSETTO:+0200
TZNAME:CEST
DTSTART:20250330T010000
END:DAYLIGHT
BEGIN:STANDARD
TZOFFSETFROM:+0200
TZOFFSETTO:+0100
TZNAME:CET
DTSTART:20251026T010000
END:STANDARD
BEGIN:DAYLIGHT
TZOFFSETFROM:+0100
TZOFFSETTO:+0200
TZNAME:CEST
DTSTART:20260329T010000
END:DAYLIGHT
BEGIN:STANDARD
TZOFFSETFROM:+0200
TZOFFSETTO:+0100
TZNAME:CET
DTSTART:20261025T010000
END:STANDARD
BEGIN:DAYLIGHT
TZOFFSETFROM:+0100
TZOFFSETTO:+0200
TZNAME:CEST
DTSTART:20270328T010000
END:DAYLIGHT
BEGIN:STANDARD
TZOFFSETFROM:+0200
TZOFFSETTO:+0100
TZNAME:CET
DTSTART:20271031T010000
END:STANDARD
END:VTIMEZONE
BEGIN:VEVENT
DTSTART;TZID=Europe/Madrid:20260516T100000
DTEND;TZID=Europe/Madrid:20260516T170000
DTSTAMP:20260423T070701
CREATED:20260327T123601Z
LAST-MODIFIED:20260327T123623Z
UID:30005885-1778925600-1778950800@descubrecantabria.info
SUMMARY:Taller artístico Sumi- E Bambú
DESCRIPTION:¿DE QUÉ TRATA “Taller artístico Sumi- E Bambú”?\n  \nTaller artístico Sumi- E Bambú en la escuela Garanza Arte impartido por Beatriz Hoyos\, artista y analista plástica con 28 años de experiencia docente. \nNecesaria la inscripción y reserva previa de plaza mediante el abono del 50 % del coste del taller. \n 7 plazas disponibles (adultos). \nSe incluyen todos los materiales. \nTeléfono de contacto: 619 387 500. \nPuedes encontrar todos los eventos en Santander aquí. \n  \n¡Disfruta de los “Taller artístico Sumi- E Bambú”!\nDescubre Cantabria informa de que los diferentes eventos publicados se ofrecen a modo informativo\, no siendo Descubre Cantabria responsable de los problemas o daños causados por erratas o incorrecciones de los mismos.
URL:https://descubrecantabria.info/evento/taller-artistico-sumi-e-bambu/
LOCATION:Garanza\, Calle Montejurra 8\, Santander\, Cantabria\, 39010\, Spain
CATEGORIES:Talleres
ATTACH;FMTTYPE=image/webp:https://descubrecantabria.info/wp-content/uploads/2026/03/eventos-santander-taller-artistico-sumi-e-bambu_11zon.webp
END:VEVENT
BEGIN:VEVENT
DTSTART;TZID=Europe/Madrid:20260516T180000
DTEND;TZID=Europe/Madrid:20260516T180000
DTSTAMP:20260423T070701
CREATED:20260219T174920Z
LAST-MODIFIED:20260219T174930Z
UID:30001688-1778954400-1778954400@descubrecantabria.info
SUMMARY:Baile social en Torrelavega 2026
DESCRIPTION:¿DE QUÉ TRATA “Baile social en Torrelavega 2026”?\n  \nEl tercer sábado de cada mes se celebra\, ¡que viva el baile! en la Plaza de la Llama en Torrelavega. Ven a disfrutar de la música y el baile social. No te lo pierdas \n  \n¡Disfruta de los “Baile social en Torrelavega 2026”!\n  \nEncuentra todos los eventos de Torrelavega aquí. \nDescubre Cantabria informa de que los diferentes eventos publicados se ofrecen a modo informativo\, no siendo Descubre Cantabria responsable de los problemas o daños causados por erratas o incorrecciones de los mismos.
URL:https://descubrecantabria.info/evento/baile-social-en-torrelavega-2026/2026-05-16/
LOCATION:Plaza de la Llama\, Plaza de la Llama\, 0\, Torrelavega\, Cantabria\, 39300\, Spain
CATEGORIES:Talleres
ATTACH;FMTTYPE=image/webp:https://descubrecantabria.info/wp-content/uploads/2026/02/eventos-torrelavega-que-viva-el-baile_11zon.webp
END:VEVENT
BEGIN:VEVENT
DTSTART;TZID=Europe/Madrid:20260516T190000
DTEND;TZID=Europe/Madrid:20260516T190000
DTSTAMP:20260423T070701
CREATED:20260327T122807Z
LAST-MODIFIED:20260327T122929Z
UID:30005883-1778958000-1778958000@descubrecantabria.info
SUMMARY:Cluedo en vivo en La Noche es Joven
DESCRIPTION:¿DE QUÉ TRATA “Cluedo en vivo en La Noche es Joven”?\n  \nEl Ayuntamiento de Santander pone en marcha una nueva edición de ‘La Noche es Joven’\, el programa municipal de ocio nocturno alternativo que regresa esta primavera con una completa programación de actividades gratuitas dirigidas a jóvenes de entre 15 y 30 años. \nEl sábado 16 de mayo\, a partir de las 19:00h. en el Parque de Bomberos Voluntarios de Santander\, podrás disfrutar de la actividad “Cluedo en vivo”. Gratuito. Con inscripción previa y plazas limitadas. \nEn la visita guiada a la Estación de Bomberos Voluntarios de Santander\, se mostrará un pedazo de historia de esta organización y un recorrido por sus instalaciones. Conoceréis a héroes y trabajadores en este recorrido. Pero\, lo que sería un paseo tranquilo ha acabado en tragedia. El capitán ha aparecido muerto y sólo los miembros del personal presentes han podido realizar el crimen. Intrigas\, rencores y tensión. ¿Conseguirán los visitantes encontrar al culpable y resolver el misterio que esconde? \nInscripciones abiertas el martes 5 de mayo a las 19:00h. Enlace de inscripción \n*Si todas las plazas están completas\, puedes apuntarte en lista de espera enviando tus datos personales a ociojuvenil@dinamizaservicios.es  \nPuedes encontrar todos los eventos en Santander aquí. \n  \n¡Disfruta de los “Cluedo en vivo en La Noche es Joven”!\nDescubre Cantabria informa de que los diferentes eventos publicados se ofrecen a modo informativo\, no siendo Descubre Cantabria responsable de los problemas o daños causados por erratas o incorrecciones de los mismos.
URL:https://descubrecantabria.info/evento/cluedo-en-vivo-en-la-noche-es-joven/
LOCATION:Espacio Joven Santander\, Calle Cuesta del Hospital 10\, Santander\, Cantabria\, 39008\, Spain
CATEGORIES:Talleres
ATTACH;FMTTYPE=image/webp:https://descubrecantabria.info/wp-content/uploads/2026/03/eventos-santander-cluedo-en-vivo-en-la-noche-es-joven_11zon.webp
END:VEVENT
END:VCALENDAR