BEGIN:VCALENDAR
VERSION:2.0
PRODID:-//Guía oficial de Cantabria | Turismo | Descubre Cantabria - ECPv6.15.20//NONSGML v1.0//EN
CALSCALE:GREGORIAN
METHOD:PUBLISH
X-ORIGINAL-URL:https://descubrecantabria.info
X-WR-CALDESC:Eventos para Guía oficial de Cantabria | Turismo | Descubre Cantabria
REFRESH-INTERVAL;VALUE=DURATION:PT1H
X-Robots-Tag:noindex
X-PUBLISHED-TTL:PT1H
BEGIN:VTIMEZONE
TZID:Europe/Madrid
BEGIN:DAYLIGHT
TZOFFSETFROM:+0100
TZOFFSETTO:+0200
TZNAME:CEST
DTSTART:20250330T010000
END:DAYLIGHT
BEGIN:STANDARD
TZOFFSETFROM:+0200
TZOFFSETTO:+0100
TZNAME:CET
DTSTART:20251026T010000
END:STANDARD
BEGIN:DAYLIGHT
TZOFFSETFROM:+0100
TZOFFSETTO:+0200
TZNAME:CEST
DTSTART:20260329T010000
END:DAYLIGHT
BEGIN:STANDARD
TZOFFSETFROM:+0200
TZOFFSETTO:+0100
TZNAME:CET
DTSTART:20261025T010000
END:STANDARD
BEGIN:DAYLIGHT
TZOFFSETFROM:+0100
TZOFFSETTO:+0200
TZNAME:CEST
DTSTART:20270328T010000
END:DAYLIGHT
BEGIN:STANDARD
TZOFFSETFROM:+0200
TZOFFSETTO:+0100
TZNAME:CET
DTSTART:20271031T010000
END:STANDARD
END:VTIMEZONE
BEGIN:VEVENT
DTSTART;TZID=Europe/Madrid:20260525T163000
DTEND;TZID=Europe/Madrid:20260525T170000
DTSTAMP:20260423T082012
CREATED:20260310T152326Z
LAST-MODIFIED:20260310T152344Z
UID:30004337-1779726600-1779728400@descubrecantabria.info
SUMMARY:Taller de entrenamiento de la memoria AFAC
DESCRIPTION:¿DE QUÉ TRATA “Taller de entrenamiento de la memoria AFAC”?\n  \nTaller de entrenamiento de la Memoria AFAC. Impartido por profesionales de AFA Cantabria. Asociación de Familiares de Alzheimer Cantabria. AFA Cantabria. Lunes de 16.30 a 18.00. Desde el 13 de abril hasta el 15 de junio de 2026 \n  \n¡Disfruta de los “Taller de entrenamiento de la memoria AFAC”!\nDescubre Cantabria informa de que los diferentes eventos publicados se ofrecen a modo informativo\, no siendo Descubre Cantabria responsable de los problemas o daños causados por erratas o incorrecciones de los mismos.
URL:https://descubrecantabria.info/evento/taller-de-entrenamiento-de-la-memoria-afac/2026-05-25/
LOCATION:Centro Cultural Eladio Laredo (Edificio Royal)\, Calle Jardines\, 3\, Castro Urdiales\, Cantabria\, 39700\, Spain
CATEGORIES:Talleres
ATTACH;FMTTYPE=image/webp:https://descubrecantabria.info/wp-content/uploads/2026/03/eventos-cantabria-taller-entrenamiento-de-la-memoria_11zon.webp
END:VEVENT
BEGIN:VEVENT
DTSTART;TZID=Europe/Madrid:20260525T163000
DTEND;TZID=Europe/Madrid:20260525T180000
DTSTAMP:20260423T082012
CREATED:20260323T122106Z
LAST-MODIFIED:20260323T122106Z
UID:30005525-1779726600-1779732000@descubrecantabria.info
SUMMARY:Taller de baile Ramales de la Victoria 2026
DESCRIPTION:¿DE QUÉ TRATA “Taller de baile Ramales de la Victoria 2026”?\n  \nTALLER DE BAILE. Los lunes de 16:30 a 18:00\, a partir del mes de abril. Centro Cívico – Fundación Orense. Toda la información en el 650 11 57 66 \n  \n¡Disfruta de los “Taller de baile Ramales de la Victoria 2026”!\nDescubre Cantabria informa de que los diferentes eventos publicados se ofrecen a modo informativo\, no siendo Descubre Cantabria responsable de los problemas o daños causados por erratas o incorrecciones de los mismos.
URL:https://descubrecantabria.info/evento/taller-de-baile-ramales-de-la-victoria-2026/2026-05-25/
LOCATION:Fundacion Orense\, Paseo Barón de Adzaneta\, 8\, Ramales de la Victoria\, Cantabria\, 39800\, Spain
CATEGORIES:Talleres
ATTACH;FMTTYPE=image/webp:https://descubrecantabria.info/wp-content/uploads/2026/03/eventos-cantabria-taller-de-baile-ramales-de-la-victoria_11zon.webp
END:VEVENT
BEGIN:VEVENT
DTSTART;TZID=Europe/Madrid:20260527T183000
DTEND;TZID=Europe/Madrid:20260527T183000
DTSTAMP:20260423T082012
CREATED:20260219T171653Z
LAST-MODIFIED:20260219T171827Z
UID:30001678-1779906600-1779906600@descubrecantabria.info
SUMMARY:Curso de historia de Torrelavega
DESCRIPTION:¿DE QUÉ TRATA “Curso de historia de Torrelavega”?\n  \nConoce la historia de Torrelavega de la mano de Marcos Pereda\, profesor del centro asociado de la UNED en Cantabria y escritor. Descubre la verdadera historia de Torrelavega\, puedes solicitar información llamando al 942 813 008. \n  \n¡Disfruta de los “Curso de historia de Torrelavega”!\n  \nEncuentra todos los eventos de Torrelavega aquí. \nEncuentra todos los talleres y formaciones de Cantabria aquí. \nDescubre Cantabria informa de que los diferentes eventos publicados se ofrecen a modo informativo\, no siendo Descubre Cantabria responsable de los problemas o daños causados por erratas o incorrecciones de los mismos.
URL:https://descubrecantabria.info/evento/curso-de-historia-de-torrelavega/2026-05-27/
LOCATION:Sala de Exposiciones Mauro Muriedas\, Calle Pedro Alonso Revuelta 5\, Torrelavega\, Cantabria\, 39300\, Spain
CATEGORIES:Talleres
ATTACH;FMTTYPE=image/webp:https://descubrecantabria.info/wp-content/uploads/2026/02/eventos-torrelavega-curso-de-historia-de-torrelavega-2026_11zon.webp
END:VEVENT
BEGIN:VEVENT
DTSTART;VALUE=DATE:20260530
DTEND;VALUE=DATE:20260531
DTSTAMP:20260423T082012
CREATED:20260223T201156Z
LAST-MODIFIED:20260223T201207Z
UID:30002553-1780099200-1780185599@descubrecantabria.info
SUMMARY:I Encuentro Patchwork Valles Pasiegos 2026
DESCRIPTION:¿DE QUÉ TRATA “I Encuentro Patchwork Valles Pasiegos 2026”?\n  \nAcude al I Encuentro Patchwork Valles Pasiegos 2026. Traición\, creatividad y artesanía: la creación textil como punto de encuentro. Habrá: Talleres\, stands\, exposiciones\, artesanía y visitas turísticas. Inscripcione sen el 678 532 140. \n  \n¡Disfruta de los “I Encuentro Patchwork Valles Pasiegos 2026”!\nDescubre Cantabria informa de que los diferentes eventos publicados se ofrecen a modo informativo\, no siendo Descubre Cantabria responsable de los problemas o daños causados por erratas o incorrecciones de los mismos.
URL:https://descubrecantabria.info/evento/i-encuentro-patchwork-valles-pasiegos-2026/
LOCATION:Hotel Balneario de Alceda\, Calle del Balneario\, s/n\, Alceda\, Cantabria\, 39680\, Spain
CATEGORIES:Ferias,Talleres
ATTACH;FMTTYPE=image/webp:https://descubrecantabria.info/wp-content/uploads/2026/02/eventos-valles-pasiegos-encuentro-patchwork-2026_11zon.webp
END:VEVENT
BEGIN:VEVENT
DTSTART;TZID=Europe/Madrid:20260530T100000
DTEND;TZID=Europe/Madrid:20260530T140000
DTSTAMP:20260423T082012
CREATED:20260327T113609Z
LAST-MODIFIED:20260327T113623Z
UID:30005866-1780135200-1780149600@descubrecantabria.info
SUMMARY:Taller de danza contemporánea con Guillermo Weickert
DESCRIPTION:¿DE QUÉ TRATA “Taller de danza contemporánea con Guillermo Weickert”?\n  \nNuevo taller de danza contemporánea dentro del proyecto ¡A bailar 2026! en la Fábrica de creación de Santander. Será el próximo 30 de mayo cuando reciban al artista Guillermo Weickert con su propuesta. \nMover la energía y los estados: las corrientes subterráneas. Una propuesta de formación impartida por Guillermo Weickert (coreógrafo\, director de escena\, intérprete y docente de danza contemporánea) dirigida principalmente a estudiantes y profesionales del ámbito de las artes escénicas. Abierta a cualquier perfil interesado en abordar la creación y la creatividad desde el movimiento humano. \nInfo e inscripciones: 678 62 29 86 / info@movimientoenred.org \nPuedes encontrar todos los eventos en Santander aquí. \n  \n¡Disfruta de los “Taller de danza contemporánea con Guillermo Weickert”!\nDescubre Cantabria informa de que los diferentes eventos publicados se ofrecen a modo informativo\, no siendo Descubre Cantabria responsable de los problemas o daños causados por erratas o incorrecciones de los mismos.
URL:https://descubrecantabria.info/evento/taller-de-danza-contemporanea-con-guillermo-weickert/
LOCATION:La Fabrica de Creacion\, Calle Antonio López 36\, Santander\, Cantabria\, 39009\, Spain
CATEGORIES:Artes escénicas,Talleres
ATTACH;FMTTYPE=image/webp:https://descubrecantabria.info/wp-content/uploads/2026/03/eventos-santander-taller-de-danza-contemporanea-con-guillermo-weickert_11zon.webp
END:VEVENT
BEGIN:VEVENT
DTSTART;TZID=Europe/Madrid:20260620T100000
DTEND;TZID=Europe/Madrid:20260620T170000
DTSTAMP:20260423T082012
CREATED:20260313T144507Z
LAST-MODIFIED:20260313T144521Z
UID:30004493-1781949600-1781974800@descubrecantabria.info
SUMMARY:Encuentro de patchwork y manualidades Noja 2026
DESCRIPTION:¿DE QUÉ TRATA “Encuentro de patchwork y manualidades Noja 2026”?\n  \nEl encuentro se llevará a cabo en la Plaza de la Villa de Noja\, en una amplia carpa habilitada para la ocasión\, durante los días 20 (de 10:00h a 14:00h y de 16:00h a 19:30h) y 21 (de 10:00h a 14:00h y de 16:00h a 18:00h) de junio de 2026. \nEl encuentro que organizamos\, con tanto mimo\, ofrece varias posibilidades al visitante: stands de diferentes establecimientos\, realización de diversos talleres\, participación en nuestros concursos\, sorteos y la visita a la exposición que organizamos\, con una muestra de las labores que realizamos en nuestra asociación. \nOPCIÓN 1 (Manualidades): LÁMPARA \nLas medidas de la lámpara no podrán superar los 30×25 cm. Para su elaboración se podrá emplear cualquier técnica de manualidades y materiales. Imprescindible que la lámpara disponga de algún mecanismo para que se ilumine. \nPremios: \n1º Lote de productos\, valorado en 200 €\, donado por Mónika Huerga.\n2º Lote de productos\, valorado en 150 €\, donado por el Excmo. Ayuntamiento de Noja.\n3º Una Freidora de Aire\, valorada en 100 €\, donada por la Asoc. de Mujeres de la Villa de Noja. \nOPCIÓN 2 (Patchwork): MINI COSTURERO \nLas medidas del costurero no podrán superar los 15×15 cm cerrado. Para su elaboración se podrá emplear cualquier material (tela\, crochet\, etc.) siempre que la técnica empleada sea la de Patchwork. \nPremios: \n1º Máquina remalladora\, valorada en más de 300 €\, donada por la Asoc. de Mujeres de la Villa de Noja.\n2º Lote de productos\, valorado en 150 €\, donado por Jejoma Mercería Creativa.\n3º Una Freidora de Aire\, valorada en 100 €\, donada por la Asociación de Mujeres de la Villa de Noja. \nBASES GENERALES PARA AMBOS CONCURSOS \nSe aceptará cualquier diseño original\, efectuado a mano\, que se ajuste a la temática y medidas indicadas anteriormente. Los trabajos se presentarán el día 21 de junio\, hasta las 12:00h\, siendo condición indispensable haber realizado una inscripción previa*. No se aceptarán inscripciones de ningún miembro de la organización del evento. El jurado valorará varios aspectos: originalidad\, ejecución\, combinación de materiales\, dificultad de la técnica empleada y acabado. El jurado premiará 3 únicas obras por concurso\, mediante un primer\, segundo y tercer premio. El jurado será designado por parte de la organización del evento\, entre personas ajenas al encuentro y la directiva de la asociación. \nINSCRIPCIONES \nPara participar en cualquiera de los concursos (aforo reducido)\, es necesario realizar una inscripción previa (vía WhatsApp 650 046 325) indicando: \n\nEl nombre del concurso en el que se desea participar.\nNombre completo y teléfono de contacto de la persona participante.\nLugar de procedencia (municipio/provincia).\n\nLas 150 primeras inscripciones recibirán un detalle de parte de la organización. \nMÁS INFORMACIÓN: 650 046 325 \n  \n¡Disfruta de los “Encuentro de patchwork y manualidades Noja 2026”!\nDescubre Cantabria informa de que los diferentes eventos publicados se ofrecen a modo informativo\, no siendo Descubre Cantabria responsable de los problemas o daños causados por erratas o incorrecciones de los mismos.
URL:https://descubrecantabria.info/evento/encuentro-de-patchwork-y-manualidades-noja-2026/2026-06-20/
LOCATION:Plaza de la Villa\, Plaza de la Villa\, Noja\, Cantabria\, 39180\, Spain
CATEGORIES:Talleres
ATTACH;FMTTYPE=image/webp:https://descubrecantabria.info/wp-content/uploads/2026/03/eventos-cantabria-encuentro-de-parchwork-y-manualidades-noja_11zon.webp
END:VEVENT
END:VCALENDAR