BEGIN:VCALENDAR
VERSION:2.0
PRODID:-//Guía oficial de Cantabria | Turismo | Descubre Cantabria - ECPv6.15.20//NONSGML v1.0//EN
CALSCALE:GREGORIAN
METHOD:PUBLISH
X-WR-CALNAME:Guía oficial de Cantabria | Turismo | Descubre Cantabria
X-ORIGINAL-URL:https://descubrecantabria.info
X-WR-CALDESC:Eventos para Guía oficial de Cantabria | Turismo | Descubre Cantabria
REFRESH-INTERVAL;VALUE=DURATION:PT1H
X-Robots-Tag:noindex
X-PUBLISHED-TTL:PT1H
BEGIN:VTIMEZONE
TZID:Europe/Madrid
BEGIN:DAYLIGHT
TZOFFSETFROM:+0100
TZOFFSETTO:+0200
TZNAME:CEST
DTSTART:20250330T010000
END:DAYLIGHT
BEGIN:STANDARD
TZOFFSETFROM:+0200
TZOFFSETTO:+0100
TZNAME:CET
DTSTART:20251026T010000
END:STANDARD
BEGIN:DAYLIGHT
TZOFFSETFROM:+0100
TZOFFSETTO:+0200
TZNAME:CEST
DTSTART:20260329T010000
END:DAYLIGHT
BEGIN:STANDARD
TZOFFSETFROM:+0200
TZOFFSETTO:+0100
TZNAME:CET
DTSTART:20261025T010000
END:STANDARD
BEGIN:DAYLIGHT
TZOFFSETFROM:+0100
TZOFFSETTO:+0200
TZNAME:CEST
DTSTART:20270328T010000
END:DAYLIGHT
BEGIN:STANDARD
TZOFFSETFROM:+0200
TZOFFSETTO:+0100
TZNAME:CET
DTSTART:20271031T010000
END:STANDARD
END:VTIMEZONE
BEGIN:VEVENT
DTSTART;TZID=Europe/Madrid:20260423T090000
DTEND;TZID=Europe/Madrid:20260423T203000
DTSTAMP:20260421T135604
CREATED:20260414T145726Z
LAST-MODIFIED:20260414T145742Z
UID:30008083-1776934800-1776976200@descubrecantabria.info
SUMMARY:Cubo de exposiciones Solares
DESCRIPTION:¿DE QUÉ TRATA “Cubo de exposiciones Solares”?\n  \nEn abril estrenamos una nueva exposición en el Centro Cultural Ramón Pelayo ¡os esperamos! \nHorario de visita: \n– Lunes a viernes de 9 a 20:30h.\n– Sábados de 9 a 14h. \nMás información: Centro Cultural Ramón Pelayo (Solares). 942 52 26 85 (ó Whatsapp al mismo número de teléfono). centrocultural@mediocudeyo.es \n  \n¡Disfruta de los “Cubo de exposiciones Solares”!\nDescubre Cantabria informa de que los diferentes eventos publicados se ofrecen a modo informativo\, no siendo Descubre Cantabria responsable de los problemas o daños causados por erratas o incorrecciones de los mismos.
URL:https://descubrecantabria.info/evento/cubo-de-exposiciones-solares/2026-04-23/
LOCATION:Centro Cultural Ramon Pelayo\, Paseo la Ventilla\, 8\, Solares\, Cantabria\, 39710\, Spain
CATEGORIES:Exposiciones
ATTACH;FMTTYPE=image/webp:https://descubrecantabria.info/wp-content/uploads/2026/04/eventos-cantabria-cubo-de-exposiciones_11zon.webp
END:VEVENT
BEGIN:VEVENT
DTSTART;TZID=Europe/Madrid:20260424T090000
DTEND;TZID=Europe/Madrid:20260424T203000
DTSTAMP:20260421T135604
CREATED:20260414T145726Z
LAST-MODIFIED:20260414T145742Z
UID:30008084-1777021200-1777062600@descubrecantabria.info
SUMMARY:Cubo de exposiciones Solares
DESCRIPTION:¿DE QUÉ TRATA “Cubo de exposiciones Solares”?\n  \nEn abril estrenamos una nueva exposición en el Centro Cultural Ramón Pelayo ¡os esperamos! \nHorario de visita: \n– Lunes a viernes de 9 a 20:30h.\n– Sábados de 9 a 14h. \nMás información: Centro Cultural Ramón Pelayo (Solares). 942 52 26 85 (ó Whatsapp al mismo número de teléfono). centrocultural@mediocudeyo.es \n  \n¡Disfruta de los “Cubo de exposiciones Solares”!\nDescubre Cantabria informa de que los diferentes eventos publicados se ofrecen a modo informativo\, no siendo Descubre Cantabria responsable de los problemas o daños causados por erratas o incorrecciones de los mismos.
URL:https://descubrecantabria.info/evento/cubo-de-exposiciones-solares/2026-04-24/
LOCATION:Centro Cultural Ramon Pelayo\, Paseo la Ventilla\, 8\, Solares\, Cantabria\, 39710\, Spain
CATEGORIES:Exposiciones
ATTACH;FMTTYPE=image/webp:https://descubrecantabria.info/wp-content/uploads/2026/04/eventos-cantabria-cubo-de-exposiciones_11zon.webp
END:VEVENT
BEGIN:VEVENT
DTSTART;TZID=Europe/Madrid:20260427T090000
DTEND;TZID=Europe/Madrid:20260427T203000
DTSTAMP:20260421T135604
CREATED:20260414T145726Z
LAST-MODIFIED:20260414T145742Z
UID:30008085-1777280400-1777321800@descubrecantabria.info
SUMMARY:Cubo de exposiciones Solares
DESCRIPTION:¿DE QUÉ TRATA “Cubo de exposiciones Solares”?\n  \nEn abril estrenamos una nueva exposición en el Centro Cultural Ramón Pelayo ¡os esperamos! \nHorario de visita: \n– Lunes a viernes de 9 a 20:30h.\n– Sábados de 9 a 14h. \nMás información: Centro Cultural Ramón Pelayo (Solares). 942 52 26 85 (ó Whatsapp al mismo número de teléfono). centrocultural@mediocudeyo.es \n  \n¡Disfruta de los “Cubo de exposiciones Solares”!\nDescubre Cantabria informa de que los diferentes eventos publicados se ofrecen a modo informativo\, no siendo Descubre Cantabria responsable de los problemas o daños causados por erratas o incorrecciones de los mismos.
URL:https://descubrecantabria.info/evento/cubo-de-exposiciones-solares/2026-04-27/
LOCATION:Centro Cultural Ramon Pelayo\, Paseo la Ventilla\, 8\, Solares\, Cantabria\, 39710\, Spain
CATEGORIES:Exposiciones
ATTACH;FMTTYPE=image/webp:https://descubrecantabria.info/wp-content/uploads/2026/04/eventos-cantabria-cubo-de-exposiciones_11zon.webp
END:VEVENT
BEGIN:VEVENT
DTSTART;TZID=Europe/Madrid:20260428T090000
DTEND;TZID=Europe/Madrid:20260428T203000
DTSTAMP:20260421T135604
CREATED:20260414T145726Z
LAST-MODIFIED:20260414T145742Z
UID:30008086-1777366800-1777408200@descubrecantabria.info
SUMMARY:Cubo de exposiciones Solares
DESCRIPTION:¿DE QUÉ TRATA “Cubo de exposiciones Solares”?\n  \nEn abril estrenamos una nueva exposición en el Centro Cultural Ramón Pelayo ¡os esperamos! \nHorario de visita: \n– Lunes a viernes de 9 a 20:30h.\n– Sábados de 9 a 14h. \nMás información: Centro Cultural Ramón Pelayo (Solares). 942 52 26 85 (ó Whatsapp al mismo número de teléfono). centrocultural@mediocudeyo.es \n  \n¡Disfruta de los “Cubo de exposiciones Solares”!\nDescubre Cantabria informa de que los diferentes eventos publicados se ofrecen a modo informativo\, no siendo Descubre Cantabria responsable de los problemas o daños causados por erratas o incorrecciones de los mismos.
URL:https://descubrecantabria.info/evento/cubo-de-exposiciones-solares/2026-04-28/
LOCATION:Centro Cultural Ramon Pelayo\, Paseo la Ventilla\, 8\, Solares\, Cantabria\, 39710\, Spain
CATEGORIES:Exposiciones
ATTACH;FMTTYPE=image/webp:https://descubrecantabria.info/wp-content/uploads/2026/04/eventos-cantabria-cubo-de-exposiciones_11zon.webp
END:VEVENT
BEGIN:VEVENT
DTSTART;TZID=Europe/Madrid:20260429T090000
DTEND;TZID=Europe/Madrid:20260429T203000
DTSTAMP:20260421T135604
CREATED:20260414T145726Z
LAST-MODIFIED:20260414T145742Z
UID:30008087-1777453200-1777494600@descubrecantabria.info
SUMMARY:Cubo de exposiciones Solares
DESCRIPTION:¿DE QUÉ TRATA “Cubo de exposiciones Solares”?\n  \nEn abril estrenamos una nueva exposición en el Centro Cultural Ramón Pelayo ¡os esperamos! \nHorario de visita: \n– Lunes a viernes de 9 a 20:30h.\n– Sábados de 9 a 14h. \nMás información: Centro Cultural Ramón Pelayo (Solares). 942 52 26 85 (ó Whatsapp al mismo número de teléfono). centrocultural@mediocudeyo.es \n  \n¡Disfruta de los “Cubo de exposiciones Solares”!\nDescubre Cantabria informa de que los diferentes eventos publicados se ofrecen a modo informativo\, no siendo Descubre Cantabria responsable de los problemas o daños causados por erratas o incorrecciones de los mismos.
URL:https://descubrecantabria.info/evento/cubo-de-exposiciones-solares/2026-04-29/
LOCATION:Centro Cultural Ramon Pelayo\, Paseo la Ventilla\, 8\, Solares\, Cantabria\, 39710\, Spain
CATEGORIES:Exposiciones
ATTACH;FMTTYPE=image/webp:https://descubrecantabria.info/wp-content/uploads/2026/04/eventos-cantabria-cubo-de-exposiciones_11zon.webp
END:VEVENT
BEGIN:VEVENT
DTSTART;TZID=Europe/Madrid:20260430T090000
DTEND;TZID=Europe/Madrid:20260430T203000
DTSTAMP:20260421T135604
CREATED:20260414T145726Z
LAST-MODIFIED:20260414T145742Z
UID:30008088-1777539600-1777581000@descubrecantabria.info
SUMMARY:Cubo de exposiciones Solares
DESCRIPTION:¿DE QUÉ TRATA “Cubo de exposiciones Solares”?\n  \nEn abril estrenamos una nueva exposición en el Centro Cultural Ramón Pelayo ¡os esperamos! \nHorario de visita: \n– Lunes a viernes de 9 a 20:30h.\n– Sábados de 9 a 14h. \nMás información: Centro Cultural Ramón Pelayo (Solares). 942 52 26 85 (ó Whatsapp al mismo número de teléfono). centrocultural@mediocudeyo.es \n  \n¡Disfruta de los “Cubo de exposiciones Solares”!\nDescubre Cantabria informa de que los diferentes eventos publicados se ofrecen a modo informativo\, no siendo Descubre Cantabria responsable de los problemas o daños causados por erratas o incorrecciones de los mismos.
URL:https://descubrecantabria.info/evento/cubo-de-exposiciones-solares/2026-04-30/
LOCATION:Centro Cultural Ramon Pelayo\, Paseo la Ventilla\, 8\, Solares\, Cantabria\, 39710\, Spain
CATEGORIES:Exposiciones
ATTACH;FMTTYPE=image/webp:https://descubrecantabria.info/wp-content/uploads/2026/04/eventos-cantabria-cubo-de-exposiciones_11zon.webp
END:VEVENT
BEGIN:VEVENT
DTSTART;TZID=Europe/Madrid:20260501T090000
DTEND;TZID=Europe/Madrid:20260501T203000
DTSTAMP:20260421T135604
CREATED:20260414T145726Z
LAST-MODIFIED:20260414T145742Z
UID:30008089-1777626000-1777667400@descubrecantabria.info
SUMMARY:Cubo de exposiciones Solares
DESCRIPTION:¿DE QUÉ TRATA “Cubo de exposiciones Solares”?\n  \nEn abril estrenamos una nueva exposición en el Centro Cultural Ramón Pelayo ¡os esperamos! \nHorario de visita: \n– Lunes a viernes de 9 a 20:30h.\n– Sábados de 9 a 14h. \nMás información: Centro Cultural Ramón Pelayo (Solares). 942 52 26 85 (ó Whatsapp al mismo número de teléfono). centrocultural@mediocudeyo.es \n  \n¡Disfruta de los “Cubo de exposiciones Solares”!\nDescubre Cantabria informa de que los diferentes eventos publicados se ofrecen a modo informativo\, no siendo Descubre Cantabria responsable de los problemas o daños causados por erratas o incorrecciones de los mismos.
URL:https://descubrecantabria.info/evento/cubo-de-exposiciones-solares/2026-05-01/
LOCATION:Centro Cultural Ramon Pelayo\, Paseo la Ventilla\, 8\, Solares\, Cantabria\, 39710\, Spain
CATEGORIES:Exposiciones
ATTACH;FMTTYPE=image/webp:https://descubrecantabria.info/wp-content/uploads/2026/04/eventos-cantabria-cubo-de-exposiciones_11zon.webp
END:VEVENT
BEGIN:VEVENT
DTSTART;TZID=Europe/Madrid:20260504T090000
DTEND;TZID=Europe/Madrid:20260504T203000
DTSTAMP:20260421T135604
CREATED:20260414T145726Z
LAST-MODIFIED:20260414T145742Z
UID:30008090-1777885200-1777926600@descubrecantabria.info
SUMMARY:Cubo de exposiciones Solares
DESCRIPTION:¿DE QUÉ TRATA “Cubo de exposiciones Solares”?\n  \nEn abril estrenamos una nueva exposición en el Centro Cultural Ramón Pelayo ¡os esperamos! \nHorario de visita: \n– Lunes a viernes de 9 a 20:30h.\n– Sábados de 9 a 14h. \nMás información: Centro Cultural Ramón Pelayo (Solares). 942 52 26 85 (ó Whatsapp al mismo número de teléfono). centrocultural@mediocudeyo.es \n  \n¡Disfruta de los “Cubo de exposiciones Solares”!\nDescubre Cantabria informa de que los diferentes eventos publicados se ofrecen a modo informativo\, no siendo Descubre Cantabria responsable de los problemas o daños causados por erratas o incorrecciones de los mismos.
URL:https://descubrecantabria.info/evento/cubo-de-exposiciones-solares/2026-05-04/
LOCATION:Centro Cultural Ramon Pelayo\, Paseo la Ventilla\, 8\, Solares\, Cantabria\, 39710\, Spain
CATEGORIES:Exposiciones
ATTACH;FMTTYPE=image/webp:https://descubrecantabria.info/wp-content/uploads/2026/04/eventos-cantabria-cubo-de-exposiciones_11zon.webp
END:VEVENT
BEGIN:VEVENT
DTSTART;TZID=Europe/Madrid:20260505T090000
DTEND;TZID=Europe/Madrid:20260505T203000
DTSTAMP:20260421T135604
CREATED:20260414T145726Z
LAST-MODIFIED:20260414T145742Z
UID:30008091-1777971600-1778013000@descubrecantabria.info
SUMMARY:Cubo de exposiciones Solares
DESCRIPTION:¿DE QUÉ TRATA “Cubo de exposiciones Solares”?\n  \nEn abril estrenamos una nueva exposición en el Centro Cultural Ramón Pelayo ¡os esperamos! \nHorario de visita: \n– Lunes a viernes de 9 a 20:30h.\n– Sábados de 9 a 14h. \nMás información: Centro Cultural Ramón Pelayo (Solares). 942 52 26 85 (ó Whatsapp al mismo número de teléfono). centrocultural@mediocudeyo.es \n  \n¡Disfruta de los “Cubo de exposiciones Solares”!\nDescubre Cantabria informa de que los diferentes eventos publicados se ofrecen a modo informativo\, no siendo Descubre Cantabria responsable de los problemas o daños causados por erratas o incorrecciones de los mismos.
URL:https://descubrecantabria.info/evento/cubo-de-exposiciones-solares/2026-05-05/
LOCATION:Centro Cultural Ramon Pelayo\, Paseo la Ventilla\, 8\, Solares\, Cantabria\, 39710\, Spain
CATEGORIES:Exposiciones
ATTACH;FMTTYPE=image/webp:https://descubrecantabria.info/wp-content/uploads/2026/04/eventos-cantabria-cubo-de-exposiciones_11zon.webp
END:VEVENT
BEGIN:VEVENT
DTSTART;TZID=Europe/Madrid:20260506T090000
DTEND;TZID=Europe/Madrid:20260506T203000
DTSTAMP:20260421T135604
CREATED:20260414T145726Z
LAST-MODIFIED:20260414T145742Z
UID:30008092-1778058000-1778099400@descubrecantabria.info
SUMMARY:Cubo de exposiciones Solares
DESCRIPTION:¿DE QUÉ TRATA “Cubo de exposiciones Solares”?\n  \nEn abril estrenamos una nueva exposición en el Centro Cultural Ramón Pelayo ¡os esperamos! \nHorario de visita: \n– Lunes a viernes de 9 a 20:30h.\n– Sábados de 9 a 14h. \nMás información: Centro Cultural Ramón Pelayo (Solares). 942 52 26 85 (ó Whatsapp al mismo número de teléfono). centrocultural@mediocudeyo.es \n  \n¡Disfruta de los “Cubo de exposiciones Solares”!\nDescubre Cantabria informa de que los diferentes eventos publicados se ofrecen a modo informativo\, no siendo Descubre Cantabria responsable de los problemas o daños causados por erratas o incorrecciones de los mismos.
URL:https://descubrecantabria.info/evento/cubo-de-exposiciones-solares/2026-05-06/
LOCATION:Centro Cultural Ramon Pelayo\, Paseo la Ventilla\, 8\, Solares\, Cantabria\, 39710\, Spain
CATEGORIES:Exposiciones
ATTACH;FMTTYPE=image/webp:https://descubrecantabria.info/wp-content/uploads/2026/04/eventos-cantabria-cubo-de-exposiciones_11zon.webp
END:VEVENT
BEGIN:VEVENT
DTSTART;TZID=Europe/Madrid:20260507T090000
DTEND;TZID=Europe/Madrid:20260507T203000
DTSTAMP:20260421T135604
CREATED:20260414T145726Z
LAST-MODIFIED:20260414T145742Z
UID:30008093-1778144400-1778185800@descubrecantabria.info
SUMMARY:Cubo de exposiciones Solares
DESCRIPTION:¿DE QUÉ TRATA “Cubo de exposiciones Solares”?\n  \nEn abril estrenamos una nueva exposición en el Centro Cultural Ramón Pelayo ¡os esperamos! \nHorario de visita: \n– Lunes a viernes de 9 a 20:30h.\n– Sábados de 9 a 14h. \nMás información: Centro Cultural Ramón Pelayo (Solares). 942 52 26 85 (ó Whatsapp al mismo número de teléfono). centrocultural@mediocudeyo.es \n  \n¡Disfruta de los “Cubo de exposiciones Solares”!\nDescubre Cantabria informa de que los diferentes eventos publicados se ofrecen a modo informativo\, no siendo Descubre Cantabria responsable de los problemas o daños causados por erratas o incorrecciones de los mismos.
URL:https://descubrecantabria.info/evento/cubo-de-exposiciones-solares/2026-05-07/
LOCATION:Centro Cultural Ramon Pelayo\, Paseo la Ventilla\, 8\, Solares\, Cantabria\, 39710\, Spain
CATEGORIES:Exposiciones
ATTACH;FMTTYPE=image/webp:https://descubrecantabria.info/wp-content/uploads/2026/04/eventos-cantabria-cubo-de-exposiciones_11zon.webp
END:VEVENT
BEGIN:VEVENT
DTSTART;TZID=Europe/Madrid:20260508T090000
DTEND;TZID=Europe/Madrid:20260508T203000
DTSTAMP:20260421T135604
CREATED:20260414T145726Z
LAST-MODIFIED:20260414T145742Z
UID:30008094-1778230800-1778272200@descubrecantabria.info
SUMMARY:Cubo de exposiciones Solares
DESCRIPTION:¿DE QUÉ TRATA “Cubo de exposiciones Solares”?\n  \nEn abril estrenamos una nueva exposición en el Centro Cultural Ramón Pelayo ¡os esperamos! \nHorario de visita: \n– Lunes a viernes de 9 a 20:30h.\n– Sábados de 9 a 14h. \nMás información: Centro Cultural Ramón Pelayo (Solares). 942 52 26 85 (ó Whatsapp al mismo número de teléfono). centrocultural@mediocudeyo.es \n  \n¡Disfruta de los “Cubo de exposiciones Solares”!\nDescubre Cantabria informa de que los diferentes eventos publicados se ofrecen a modo informativo\, no siendo Descubre Cantabria responsable de los problemas o daños causados por erratas o incorrecciones de los mismos.
URL:https://descubrecantabria.info/evento/cubo-de-exposiciones-solares/2026-05-08/
LOCATION:Centro Cultural Ramon Pelayo\, Paseo la Ventilla\, 8\, Solares\, Cantabria\, 39710\, Spain
CATEGORIES:Exposiciones
ATTACH;FMTTYPE=image/webp:https://descubrecantabria.info/wp-content/uploads/2026/04/eventos-cantabria-cubo-de-exposiciones_11zon.webp
END:VEVENT
BEGIN:VEVENT
DTSTART;TZID=Europe/Madrid:20260511T090000
DTEND;TZID=Europe/Madrid:20260511T203000
DTSTAMP:20260421T135604
CREATED:20260414T145726Z
LAST-MODIFIED:20260414T145742Z
UID:30008095-1778490000-1778531400@descubrecantabria.info
SUMMARY:Cubo de exposiciones Solares
DESCRIPTION:¿DE QUÉ TRATA “Cubo de exposiciones Solares”?\n  \nEn abril estrenamos una nueva exposición en el Centro Cultural Ramón Pelayo ¡os esperamos! \nHorario de visita: \n– Lunes a viernes de 9 a 20:30h.\n– Sábados de 9 a 14h. \nMás información: Centro Cultural Ramón Pelayo (Solares). 942 52 26 85 (ó Whatsapp al mismo número de teléfono). centrocultural@mediocudeyo.es \n  \n¡Disfruta de los “Cubo de exposiciones Solares”!\nDescubre Cantabria informa de que los diferentes eventos publicados se ofrecen a modo informativo\, no siendo Descubre Cantabria responsable de los problemas o daños causados por erratas o incorrecciones de los mismos.
URL:https://descubrecantabria.info/evento/cubo-de-exposiciones-solares/2026-05-11/
LOCATION:Centro Cultural Ramon Pelayo\, Paseo la Ventilla\, 8\, Solares\, Cantabria\, 39710\, Spain
CATEGORIES:Exposiciones
ATTACH;FMTTYPE=image/webp:https://descubrecantabria.info/wp-content/uploads/2026/04/eventos-cantabria-cubo-de-exposiciones_11zon.webp
END:VEVENT
BEGIN:VEVENT
DTSTART;TZID=Europe/Madrid:20260512T090000
DTEND;TZID=Europe/Madrid:20260512T203000
DTSTAMP:20260421T135604
CREATED:20260414T145726Z
LAST-MODIFIED:20260414T145742Z
UID:30008096-1778576400-1778617800@descubrecantabria.info
SUMMARY:Cubo de exposiciones Solares
DESCRIPTION:¿DE QUÉ TRATA “Cubo de exposiciones Solares”?\n  \nEn abril estrenamos una nueva exposición en el Centro Cultural Ramón Pelayo ¡os esperamos! \nHorario de visita: \n– Lunes a viernes de 9 a 20:30h.\n– Sábados de 9 a 14h. \nMás información: Centro Cultural Ramón Pelayo (Solares). 942 52 26 85 (ó Whatsapp al mismo número de teléfono). centrocultural@mediocudeyo.es \n  \n¡Disfruta de los “Cubo de exposiciones Solares”!\nDescubre Cantabria informa de que los diferentes eventos publicados se ofrecen a modo informativo\, no siendo Descubre Cantabria responsable de los problemas o daños causados por erratas o incorrecciones de los mismos.
URL:https://descubrecantabria.info/evento/cubo-de-exposiciones-solares/2026-05-12/
LOCATION:Centro Cultural Ramon Pelayo\, Paseo la Ventilla\, 8\, Solares\, Cantabria\, 39710\, Spain
CATEGORIES:Exposiciones
ATTACH;FMTTYPE=image/webp:https://descubrecantabria.info/wp-content/uploads/2026/04/eventos-cantabria-cubo-de-exposiciones_11zon.webp
END:VEVENT
BEGIN:VEVENT
DTSTART;TZID=Europe/Madrid:20260513T090000
DTEND;TZID=Europe/Madrid:20260513T203000
DTSTAMP:20260421T135604
CREATED:20260414T145726Z
LAST-MODIFIED:20260414T145742Z
UID:30008097-1778662800-1778704200@descubrecantabria.info
SUMMARY:Cubo de exposiciones Solares
DESCRIPTION:¿DE QUÉ TRATA “Cubo de exposiciones Solares”?\n  \nEn abril estrenamos una nueva exposición en el Centro Cultural Ramón Pelayo ¡os esperamos! \nHorario de visita: \n– Lunes a viernes de 9 a 20:30h.\n– Sábados de 9 a 14h. \nMás información: Centro Cultural Ramón Pelayo (Solares). 942 52 26 85 (ó Whatsapp al mismo número de teléfono). centrocultural@mediocudeyo.es \n  \n¡Disfruta de los “Cubo de exposiciones Solares”!\nDescubre Cantabria informa de que los diferentes eventos publicados se ofrecen a modo informativo\, no siendo Descubre Cantabria responsable de los problemas o daños causados por erratas o incorrecciones de los mismos.
URL:https://descubrecantabria.info/evento/cubo-de-exposiciones-solares/2026-05-13/
LOCATION:Centro Cultural Ramon Pelayo\, Paseo la Ventilla\, 8\, Solares\, Cantabria\, 39710\, Spain
CATEGORIES:Exposiciones
ATTACH;FMTTYPE=image/webp:https://descubrecantabria.info/wp-content/uploads/2026/04/eventos-cantabria-cubo-de-exposiciones_11zon.webp
END:VEVENT
BEGIN:VEVENT
DTSTART;TZID=Europe/Madrid:20260514T090000
DTEND;TZID=Europe/Madrid:20260514T203000
DTSTAMP:20260421T135604
CREATED:20260414T145726Z
LAST-MODIFIED:20260414T145742Z
UID:30008098-1778749200-1778790600@descubrecantabria.info
SUMMARY:Cubo de exposiciones Solares
DESCRIPTION:¿DE QUÉ TRATA “Cubo de exposiciones Solares”?\n  \nEn abril estrenamos una nueva exposición en el Centro Cultural Ramón Pelayo ¡os esperamos! \nHorario de visita: \n– Lunes a viernes de 9 a 20:30h.\n– Sábados de 9 a 14h. \nMás información: Centro Cultural Ramón Pelayo (Solares). 942 52 26 85 (ó Whatsapp al mismo número de teléfono). centrocultural@mediocudeyo.es \n  \n¡Disfruta de los “Cubo de exposiciones Solares”!\nDescubre Cantabria informa de que los diferentes eventos publicados se ofrecen a modo informativo\, no siendo Descubre Cantabria responsable de los problemas o daños causados por erratas o incorrecciones de los mismos.
URL:https://descubrecantabria.info/evento/cubo-de-exposiciones-solares/2026-05-14/
LOCATION:Centro Cultural Ramon Pelayo\, Paseo la Ventilla\, 8\, Solares\, Cantabria\, 39710\, Spain
CATEGORIES:Exposiciones
ATTACH;FMTTYPE=image/webp:https://descubrecantabria.info/wp-content/uploads/2026/04/eventos-cantabria-cubo-de-exposiciones_11zon.webp
END:VEVENT
BEGIN:VEVENT
DTSTART;TZID=Europe/Madrid:20260515T090000
DTEND;TZID=Europe/Madrid:20260515T203000
DTSTAMP:20260421T135604
CREATED:20260414T145726Z
LAST-MODIFIED:20260414T145742Z
UID:30008099-1778835600-1778877000@descubrecantabria.info
SUMMARY:Cubo de exposiciones Solares
DESCRIPTION:¿DE QUÉ TRATA “Cubo de exposiciones Solares”?\n  \nEn abril estrenamos una nueva exposición en el Centro Cultural Ramón Pelayo ¡os esperamos! \nHorario de visita: \n– Lunes a viernes de 9 a 20:30h.\n– Sábados de 9 a 14h. \nMás información: Centro Cultural Ramón Pelayo (Solares). 942 52 26 85 (ó Whatsapp al mismo número de teléfono). centrocultural@mediocudeyo.es \n  \n¡Disfruta de los “Cubo de exposiciones Solares”!\nDescubre Cantabria informa de que los diferentes eventos publicados se ofrecen a modo informativo\, no siendo Descubre Cantabria responsable de los problemas o daños causados por erratas o incorrecciones de los mismos.
URL:https://descubrecantabria.info/evento/cubo-de-exposiciones-solares/2026-05-15/
LOCATION:Centro Cultural Ramon Pelayo\, Paseo la Ventilla\, 8\, Solares\, Cantabria\, 39710\, Spain
CATEGORIES:Exposiciones
ATTACH;FMTTYPE=image/webp:https://descubrecantabria.info/wp-content/uploads/2026/04/eventos-cantabria-cubo-de-exposiciones_11zon.webp
END:VEVENT
BEGIN:VEVENT
DTSTART;TZID=Europe/Madrid:20260518T090000
DTEND;TZID=Europe/Madrid:20260518T203000
DTSTAMP:20260421T135604
CREATED:20260414T145726Z
LAST-MODIFIED:20260414T145742Z
UID:30008100-1779094800-1779136200@descubrecantabria.info
SUMMARY:Cubo de exposiciones Solares
DESCRIPTION:¿DE QUÉ TRATA “Cubo de exposiciones Solares”?\n  \nEn abril estrenamos una nueva exposición en el Centro Cultural Ramón Pelayo ¡os esperamos! \nHorario de visita: \n– Lunes a viernes de 9 a 20:30h.\n– Sábados de 9 a 14h. \nMás información: Centro Cultural Ramón Pelayo (Solares). 942 52 26 85 (ó Whatsapp al mismo número de teléfono). centrocultural@mediocudeyo.es \n  \n¡Disfruta de los “Cubo de exposiciones Solares”!\nDescubre Cantabria informa de que los diferentes eventos publicados se ofrecen a modo informativo\, no siendo Descubre Cantabria responsable de los problemas o daños causados por erratas o incorrecciones de los mismos.
URL:https://descubrecantabria.info/evento/cubo-de-exposiciones-solares/2026-05-18/
LOCATION:Centro Cultural Ramon Pelayo\, Paseo la Ventilla\, 8\, Solares\, Cantabria\, 39710\, Spain
CATEGORIES:Exposiciones
ATTACH;FMTTYPE=image/webp:https://descubrecantabria.info/wp-content/uploads/2026/04/eventos-cantabria-cubo-de-exposiciones_11zon.webp
END:VEVENT
BEGIN:VEVENT
DTSTART;TZID=Europe/Madrid:20260519T090000
DTEND;TZID=Europe/Madrid:20260519T203000
DTSTAMP:20260421T135604
CREATED:20260414T145726Z
LAST-MODIFIED:20260414T145742Z
UID:30008101-1779181200-1779222600@descubrecantabria.info
SUMMARY:Cubo de exposiciones Solares
DESCRIPTION:¿DE QUÉ TRATA “Cubo de exposiciones Solares”?\n  \nEn abril estrenamos una nueva exposición en el Centro Cultural Ramón Pelayo ¡os esperamos! \nHorario de visita: \n– Lunes a viernes de 9 a 20:30h.\n– Sábados de 9 a 14h. \nMás información: Centro Cultural Ramón Pelayo (Solares). 942 52 26 85 (ó Whatsapp al mismo número de teléfono). centrocultural@mediocudeyo.es \n  \n¡Disfruta de los “Cubo de exposiciones Solares”!\nDescubre Cantabria informa de que los diferentes eventos publicados se ofrecen a modo informativo\, no siendo Descubre Cantabria responsable de los problemas o daños causados por erratas o incorrecciones de los mismos.
URL:https://descubrecantabria.info/evento/cubo-de-exposiciones-solares/2026-05-19/
LOCATION:Centro Cultural Ramon Pelayo\, Paseo la Ventilla\, 8\, Solares\, Cantabria\, 39710\, Spain
CATEGORIES:Exposiciones
ATTACH;FMTTYPE=image/webp:https://descubrecantabria.info/wp-content/uploads/2026/04/eventos-cantabria-cubo-de-exposiciones_11zon.webp
END:VEVENT
BEGIN:VEVENT
DTSTART;TZID=Europe/Madrid:20260520T090000
DTEND;TZID=Europe/Madrid:20260520T203000
DTSTAMP:20260421T135604
CREATED:20260414T145726Z
LAST-MODIFIED:20260414T145742Z
UID:30008102-1779267600-1779309000@descubrecantabria.info
SUMMARY:Cubo de exposiciones Solares
DESCRIPTION:¿DE QUÉ TRATA “Cubo de exposiciones Solares”?\n  \nEn abril estrenamos una nueva exposición en el Centro Cultural Ramón Pelayo ¡os esperamos! \nHorario de visita: \n– Lunes a viernes de 9 a 20:30h.\n– Sábados de 9 a 14h. \nMás información: Centro Cultural Ramón Pelayo (Solares). 942 52 26 85 (ó Whatsapp al mismo número de teléfono). centrocultural@mediocudeyo.es \n  \n¡Disfruta de los “Cubo de exposiciones Solares”!\nDescubre Cantabria informa de que los diferentes eventos publicados se ofrecen a modo informativo\, no siendo Descubre Cantabria responsable de los problemas o daños causados por erratas o incorrecciones de los mismos.
URL:https://descubrecantabria.info/evento/cubo-de-exposiciones-solares/2026-05-20/
LOCATION:Centro Cultural Ramon Pelayo\, Paseo la Ventilla\, 8\, Solares\, Cantabria\, 39710\, Spain
CATEGORIES:Exposiciones
ATTACH;FMTTYPE=image/webp:https://descubrecantabria.info/wp-content/uploads/2026/04/eventos-cantabria-cubo-de-exposiciones_11zon.webp
END:VEVENT
BEGIN:VEVENT
DTSTART;TZID=Europe/Madrid:20260521T090000
DTEND;TZID=Europe/Madrid:20260521T203000
DTSTAMP:20260421T135604
CREATED:20260414T145726Z
LAST-MODIFIED:20260414T145742Z
UID:30008103-1779354000-1779395400@descubrecantabria.info
SUMMARY:Cubo de exposiciones Solares
DESCRIPTION:¿DE QUÉ TRATA “Cubo de exposiciones Solares”?\n  \nEn abril estrenamos una nueva exposición en el Centro Cultural Ramón Pelayo ¡os esperamos! \nHorario de visita: \n– Lunes a viernes de 9 a 20:30h.\n– Sábados de 9 a 14h. \nMás información: Centro Cultural Ramón Pelayo (Solares). 942 52 26 85 (ó Whatsapp al mismo número de teléfono). centrocultural@mediocudeyo.es \n  \n¡Disfruta de los “Cubo de exposiciones Solares”!\nDescubre Cantabria informa de que los diferentes eventos publicados se ofrecen a modo informativo\, no siendo Descubre Cantabria responsable de los problemas o daños causados por erratas o incorrecciones de los mismos.
URL:https://descubrecantabria.info/evento/cubo-de-exposiciones-solares/2026-05-21/
LOCATION:Centro Cultural Ramon Pelayo\, Paseo la Ventilla\, 8\, Solares\, Cantabria\, 39710\, Spain
CATEGORIES:Exposiciones
ATTACH;FMTTYPE=image/webp:https://descubrecantabria.info/wp-content/uploads/2026/04/eventos-cantabria-cubo-de-exposiciones_11zon.webp
END:VEVENT
BEGIN:VEVENT
DTSTART;TZID=Europe/Madrid:20260522T090000
DTEND;TZID=Europe/Madrid:20260522T203000
DTSTAMP:20260421T135604
CREATED:20260414T145726Z
LAST-MODIFIED:20260414T145742Z
UID:30008104-1779440400-1779481800@descubrecantabria.info
SUMMARY:Cubo de exposiciones Solares
DESCRIPTION:¿DE QUÉ TRATA “Cubo de exposiciones Solares”?\n  \nEn abril estrenamos una nueva exposición en el Centro Cultural Ramón Pelayo ¡os esperamos! \nHorario de visita: \n– Lunes a viernes de 9 a 20:30h.\n– Sábados de 9 a 14h. \nMás información: Centro Cultural Ramón Pelayo (Solares). 942 52 26 85 (ó Whatsapp al mismo número de teléfono). centrocultural@mediocudeyo.es \n  \n¡Disfruta de los “Cubo de exposiciones Solares”!\nDescubre Cantabria informa de que los diferentes eventos publicados se ofrecen a modo informativo\, no siendo Descubre Cantabria responsable de los problemas o daños causados por erratas o incorrecciones de los mismos.
URL:https://descubrecantabria.info/evento/cubo-de-exposiciones-solares/2026-05-22/
LOCATION:Centro Cultural Ramon Pelayo\, Paseo la Ventilla\, 8\, Solares\, Cantabria\, 39710\, Spain
CATEGORIES:Exposiciones
ATTACH;FMTTYPE=image/webp:https://descubrecantabria.info/wp-content/uploads/2026/04/eventos-cantabria-cubo-de-exposiciones_11zon.webp
END:VEVENT
END:VCALENDAR