BEGIN:VCALENDAR
VERSION:2.0
PRODID:-//Guía oficial de Cantabria | Turismo | Descubre Cantabria - ECPv6.15.20//NONSGML v1.0//EN
CALSCALE:GREGORIAN
METHOD:PUBLISH
X-WR-CALNAME:Guía oficial de Cantabria | Turismo | Descubre Cantabria
X-ORIGINAL-URL:https://descubrecantabria.info
X-WR-CALDESC:Eventos para Guía oficial de Cantabria | Turismo | Descubre Cantabria
REFRESH-INTERVAL;VALUE=DURATION:PT1H
X-Robots-Tag:noindex
X-PUBLISHED-TTL:PT1H
BEGIN:VTIMEZONE
TZID:Europe/Madrid
BEGIN:DAYLIGHT
TZOFFSETFROM:+0100
TZOFFSETTO:+0200
TZNAME:CEST
DTSTART:20250330T010000
END:DAYLIGHT
BEGIN:STANDARD
TZOFFSETFROM:+0200
TZOFFSETTO:+0100
TZNAME:CET
DTSTART:20251026T010000
END:STANDARD
BEGIN:DAYLIGHT
TZOFFSETFROM:+0100
TZOFFSETTO:+0200
TZNAME:CEST
DTSTART:20260329T010000
END:DAYLIGHT
BEGIN:STANDARD
TZOFFSETFROM:+0200
TZOFFSETTO:+0100
TZNAME:CET
DTSTART:20261025T010000
END:STANDARD
BEGIN:DAYLIGHT
TZOFFSETFROM:+0100
TZOFFSETTO:+0200
TZNAME:CEST
DTSTART:20270328T010000
END:DAYLIGHT
BEGIN:STANDARD
TZOFFSETFROM:+0200
TZOFFSETTO:+0100
TZNAME:CET
DTSTART:20271031T010000
END:STANDARD
END:VTIMEZONE
BEGIN:VEVENT
DTSTART;VALUE=DATE:20260612
DTEND;VALUE=DATE:20260613
DTSTAMP:20260424T114105
CREATED:20260420T173122Z
LAST-MODIFIED:20260420T173138Z
UID:30008239-1781222400-1781308799@descubrecantabria.info
SUMMARY:Fiestas San Antonio Gibaja 2026
DESCRIPTION:
URL:https://descubrecantabria.info/evento/fiestas-san-antonio-gibaja-2026/2026-06-12/
LOCATION:Antiguo Consultorio medico de Gibaja\, Lugar Gibaja\, Barrio la Quitana\, 21\, Ramales de la Victoria\, Cantabria\, 39809\, Spain
CATEGORIES:Fiestas populares
ATTACH;FMTTYPE=image/webp:https://descubrecantabria.info/wp-content/uploads/2026/04/programa-fiestas-de-san-antonio-gibaja-2026_11zon.webp
END:VEVENT
BEGIN:VEVENT
DTSTART;VALUE=DATE:20260613
DTEND;VALUE=DATE:20260614
DTSTAMP:20260424T114105
CREATED:20260420T173122Z
LAST-MODIFIED:20260420T173138Z
UID:30008240-1781308800-1781395199@descubrecantabria.info
SUMMARY:Fiestas San Antonio Gibaja 2026
DESCRIPTION:
URL:https://descubrecantabria.info/evento/fiestas-san-antonio-gibaja-2026/2026-06-13/
LOCATION:Antiguo Consultorio medico de Gibaja\, Lugar Gibaja\, Barrio la Quitana\, 21\, Ramales de la Victoria\, Cantabria\, 39809\, Spain
CATEGORIES:Fiestas populares
ATTACH;FMTTYPE=image/webp:https://descubrecantabria.info/wp-content/uploads/2026/04/programa-fiestas-de-san-antonio-gibaja-2026_11zon.webp
END:VEVENT
END:VCALENDAR