BEGIN:VCALENDAR
VERSION:2.0
PRODID:-//Guía oficial de Cantabria | Turismo | Descubre Cantabria - ECPv6.15.20//NONSGML v1.0//EN
CALSCALE:GREGORIAN
METHOD:PUBLISH
X-ORIGINAL-URL:https://descubrecantabria.info
X-WR-CALDESC:Eventos para Guía oficial de Cantabria | Turismo | Descubre Cantabria
REFRESH-INTERVAL;VALUE=DURATION:PT1H
X-Robots-Tag:noindex
X-PUBLISHED-TTL:PT1H
BEGIN:VTIMEZONE
TZID:Europe/Madrid
BEGIN:DAYLIGHT
TZOFFSETFROM:+0100
TZOFFSETTO:+0200
TZNAME:CEST
DTSTART:20240331T010000
END:DAYLIGHT
BEGIN:STANDARD
TZOFFSETFROM:+0200
TZOFFSETTO:+0100
TZNAME:CET
DTSTART:20241027T010000
END:STANDARD
BEGIN:DAYLIGHT
TZOFFSETFROM:+0100
TZOFFSETTO:+0200
TZNAME:CEST
DTSTART:20250330T010000
END:DAYLIGHT
BEGIN:STANDARD
TZOFFSETFROM:+0200
TZOFFSETTO:+0100
TZNAME:CET
DTSTART:20251026T010000
END:STANDARD
BEGIN:DAYLIGHT
TZOFFSETFROM:+0100
TZOFFSETTO:+0200
TZNAME:CEST
DTSTART:20260329T010000
END:DAYLIGHT
BEGIN:STANDARD
TZOFFSETFROM:+0200
TZOFFSETTO:+0100
TZNAME:CET
DTSTART:20261025T010000
END:STANDARD
BEGIN:DAYLIGHT
TZOFFSETFROM:+0100
TZOFFSETTO:+0200
TZNAME:CEST
DTSTART:20270328T010000
END:DAYLIGHT
BEGIN:STANDARD
TZOFFSETFROM:+0200
TZOFFSETTO:+0100
TZNAME:CET
DTSTART:20271031T010000
END:STANDARD
END:VTIMEZONE
BEGIN:VEVENT
DTSTART;VALUE=DATE:20260214
DTEND;VALUE=DATE:20260215
DTSTAMP:20260419T174722
CREATED:20260209T094019Z
LAST-MODIFIED:20260209T094019Z
UID:30001432-1771027200-1771113599@descubrecantabria.info
SUMMARY:Carnaval Miengo 2026
DESCRIPTION:
URL:https://descubrecantabria.info/evento/carnaval-miengo-2026/
LOCATION:Ayuntamiento de Miengo\, Plaza del Ayuntamiento 0\, Miengo\, Cantabria\, 39310\, Spain
CATEGORIES:Carnaval,Fiestas populares,Infantil
ATTACH;FMTTYPE=image/webp:https://descubrecantabria.info/wp-content/uploads/2026/02/programa-carnaval-miengo-2026_11zon.webp
END:VEVENT
BEGIN:VEVENT
DTSTART;TZID=Europe/Madrid:20250927T200000
DTEND;TZID=Europe/Madrid:20250927T200000
DTSTAMP:20260419T174722
CREATED:20250827T173345Z
LAST-MODIFIED:20250827T173403Z
UID:30000364-1759003200-1759003200@descubrecantabria.info
SUMMARY:Concierto recordando los 80 en Miengo
DESCRIPTION:¿DE QUÉ TRATA “Concierto recordando los 80 en Miengo”?\n\n\n\n\n\n\n\n\n\n\n\n  \nDisfruta del concierto de vuelta a los 80 en la plaza del ayuntamiento de Miengo el próximo 27 de septiembre a partir de las 20:00. No te lo pierdas. \n  \n\n\n\n\n\n\n\n\n\n\n\n\n\n\n\n\n\n\n¡Disfruta de los “Concierto recordando los 80 en Miengo”!\nDescubre Cantabria informa de que los diferentes eventos publicados se ofrecen a modo informativo\, no siendo Descubre Cantabria responsable de los problemas o daños causados por erratas o incorrecciones de los mismos.
URL:https://descubrecantabria.info/evento/concierto-recordando-los-80-en-miengo/
LOCATION:Ayuntamiento de Miengo\, Plaza del Ayuntamiento 0\, Miengo\, Cantabria\, 39310\, Spain
CATEGORIES:Música
ATTACH;FMTTYPE=image/webp:https://descubrecantabria.info/wp-content/uploads/2025/08/eventos-en-cantabria-concierto-recordando-los-80-en-miengo_11zon.webp
END:VEVENT
END:VCALENDAR