BEGIN:VCALENDAR
VERSION:2.0
PRODID:-//Guía oficial de Cantabria | Turismo | Descubre Cantabria - ECPv6.15.20//NONSGML v1.0//EN
CALSCALE:GREGORIAN
METHOD:PUBLISH
X-ORIGINAL-URL:https://descubrecantabria.info
X-WR-CALDESC:Eventos para Guía oficial de Cantabria | Turismo | Descubre Cantabria
REFRESH-INTERVAL;VALUE=DURATION:PT1H
X-Robots-Tag:noindex
X-PUBLISHED-TTL:PT1H
BEGIN:VTIMEZONE
TZID:Europe/Madrid
BEGIN:DAYLIGHT
TZOFFSETFROM:+0100
TZOFFSETTO:+0200
TZNAME:CEST
DTSTART:20250330T010000
END:DAYLIGHT
BEGIN:STANDARD
TZOFFSETFROM:+0200
TZOFFSETTO:+0100
TZNAME:CET
DTSTART:20251026T010000
END:STANDARD
BEGIN:DAYLIGHT
TZOFFSETFROM:+0100
TZOFFSETTO:+0200
TZNAME:CEST
DTSTART:20260329T010000
END:DAYLIGHT
BEGIN:STANDARD
TZOFFSETFROM:+0200
TZOFFSETTO:+0100
TZNAME:CET
DTSTART:20261025T010000
END:STANDARD
BEGIN:DAYLIGHT
TZOFFSETFROM:+0100
TZOFFSETTO:+0200
TZNAME:CEST
DTSTART:20270328T010000
END:DAYLIGHT
BEGIN:STANDARD
TZOFFSETFROM:+0200
TZOFFSETTO:+0100
TZNAME:CET
DTSTART:20271031T010000
END:STANDARD
END:VTIMEZONE
BEGIN:VEVENT
DTSTART;TZID=Europe/Madrid:20260329T100000
DTEND;TZID=Europe/Madrid:20260329T140000
DTSTAMP:20260419T161543
CREATED:20260310T093239Z
LAST-MODIFIED:20260310T093421Z
UID:30004143-1774778400-1774792800@descubrecantabria.info
SUMMARY:Taller de interpretación en Ampuero 2026
DESCRIPTION:¿DE QUÉ TRATA “Taller de interpretación en Ampuero 2026”?\n  \nEl sábado 28 y el domingo 29 de marzo\, hemos organizado junto con el Grupo de Teatro “Telones Plateados”\, un Taller de Formación para Interpretación\, impartido por Fernando Rebanal. \n Inscripciones en la biblioteca de Ampuero. Para mayores de 55 años. Plazas limitadas. Totalmente gratuito \n  \n¡Disfruta de los “Taller de interpretación en Ampuero 2026”!\nDescubre Cantabria informa de que los diferentes eventos publicados se ofrecen a modo informativo\, no siendo Descubre Cantabria responsable de los problemas o daños causados por erratas o incorrecciones de los mismos.
URL:https://descubrecantabria.info/evento/taller-de-interpretacion-en-ampuero-2026/2026-03-29/
LOCATION:Casa de la Cultura Ampuero\, Calle de Onésimo Redondo\, 4\, Ampuero\, Cantabria\, 39840\, Spain
CATEGORIES:Artes escénicas,Talleres
ATTACH;FMTTYPE=image/webp:https://descubrecantabria.info/wp-content/uploads/2026/03/eventos-cantabria-taller-de-formacion-para-interpretacion_11zon.webp
END:VEVENT
BEGIN:VEVENT
DTSTART;TZID=Europe/Madrid:20260327T173000
DTEND;TZID=Europe/Madrid:20260327T173000
DTSTAMP:20260419T161543
CREATED:20260325T150333Z
LAST-MODIFIED:20260325T150343Z
UID:30005594-1774632600-1774632600@descubrecantabria.info
SUMMARY:Cuentos pan y chocolate Ampuero 2026
DESCRIPTION:¿DE QUÉ TRATA “Cuentos pan y chocolate Ampuero 2026”?\n  \n\nLa Biblioteca te invita a una sesión muy especial donde los más pequeños podrán disfrutar de historias encantadoras mientras meriendan pan con chocolate.  \n\nA partir de 3 años. Viernes\, 27 de marzo. 17:30 en la Biblioteca infantil. Inscripciones en la biblioteca.\n\n Una tarde para escuchar y saborear cuentos en un ambiente acogedor. ¡Os esperamos! \n\n  \n¡Disfruta de los “Cuentos pan y chocolate Ampuero 2026”!\nDescubre Cantabria informa de que los diferentes eventos publicados se ofrecen a modo informativo\, no siendo Descubre Cantabria responsable de los problemas o daños causados por erratas o incorrecciones de los mismos.
URL:https://descubrecantabria.info/evento/cuentos-pan-y-chocolate-ampuero-2026/
LOCATION:Casa de la Cultura Ampuero\, Calle de Onésimo Redondo\, 4\, Ampuero\, Cantabria\, 39840\, Spain
CATEGORIES:Infantil,Literatura
ATTACH;FMTTYPE=image/webp:https://descubrecantabria.info/wp-content/uploads/2026/03/eventos-cantabria-cuentos-con-pan-y-chocolate-limpias_11zon.webp
END:VEVENT
BEGIN:VEVENT
DTSTART;TZID=Europe/Madrid:20260327T173000
DTEND;TZID=Europe/Madrid:20260327T173000
DTSTAMP:20260419T161543
CREATED:20260320T182547Z
LAST-MODIFIED:20260320T182607Z
UID:30005475-1774632600-1774632600@descubrecantabria.info
SUMMARY:Cuentos y pan con chocolate Ampuero
DESCRIPTION:¿DE QUÉ TRATA “Cuentos y pan con chocolate Ampuero”?\n  \nFinalizamos marzo con nuestro Cuentos y pan con chocolate. Nos vemos el viernes 27 en la biblio. Inscripciones previas. Y os queremos recordar que es una actividad familiar\, necesitamos la colaboración de los adultos para contar los cuentos. \n  \n¡Disfruta de los “Cuentos y pan con chocolate Ampuero”!\nDescubre Cantabria informa de que los diferentes eventos publicados se ofrecen a modo informativo\, no siendo Descubre Cantabria responsable de los problemas o daños causados por erratas o incorrecciones de los mismos.
URL:https://descubrecantabria.info/evento/cuentos-y-pan-con-chocolate-ampuero/
LOCATION:Casa de la Cultura Ampuero\, Calle de Onésimo Redondo\, 4\, Ampuero\, Cantabria\, 39840\, Spain
CATEGORIES:Literatura
ATTACH;FMTTYPE=image/webp:https://descubrecantabria.info/wp-content/uploads/2026/03/eventos-cantabria-cuentos-y-pan-con-chocolate_11zon.webp
END:VEVENT
BEGIN:VEVENT
DTSTART;TZID=Europe/Madrid:20260326T170000
DTEND;TZID=Europe/Madrid:20260326T170000
DTSTAMP:20260419T161543
CREATED:20260324T114216Z
LAST-MODIFIED:20260324T114226Z
UID:30005547-1774544400-1774544400@descubrecantabria.info
SUMMARY:Club de lectura Ampuero | Visita de José Abad
DESCRIPTION:¿DE QUÉ TRATA “Club de lectura Ampuero | Visita de José Abad”?\n  \nEsta semana nuestros Clubs de Lectura tienen una cita muy importante\, porque vendrá a la reunión José Abad\, el autor de “Asón”\, libro que hemos leído este mes.  \nTendrán tiempo de destripar el libro de arriba a abajo y preguntarle todas sus dudas. \n Preguntar el horario en la Biblioteca de Ampuero. \n  \n¡Disfruta de los “Club de lectura Ampuero | Visita de José Abad”!\nDescubre Cantabria informa de que los diferentes eventos publicados se ofrecen a modo informativo\, no siendo Descubre Cantabria responsable de los problemas o daños causados por erratas o incorrecciones de los mismos.
URL:https://descubrecantabria.info/evento/club-de-lectura-ampuero-visita-de-jose-abad/
LOCATION:Casa de la Cultura Ampuero\, Calle de Onésimo Redondo\, 4\, Ampuero\, Cantabria\, 39840\, Spain
CATEGORIES:Literatura
ATTACH;FMTTYPE=image/webp:https://descubrecantabria.info/wp-content/uploads/2026/03/eventos-cantabriaclub-de-lectura-ampuero-jose-abad_11zon.webp
END:VEVENT
BEGIN:VEVENT
DTSTART;TZID=Europe/Madrid:20260320T173000
DTEND;TZID=Europe/Madrid:20260320T173000
DTSTAMP:20260419T161543
CREATED:20260311T151006Z
LAST-MODIFIED:20260311T151028Z
UID:30004352-1774027800-1774027800@descubrecantabria.info
SUMMARY:Taller de juego a través del dibujo
DESCRIPTION:¿DE QUÉ TRATA “Taller de juego a través del dibujo”?\n  \nEl próximo viernes 20\, tenemos un Taller de juego a través del dibujo. Inscripciones en la Biblioteca Municipal. Plazas limitadas. Impartido por Claudia Ruiz Echevarria.  \nAdemás\, merienda divertida. \n  \n¡Disfruta de los “Taller de juego a través del dibujo”!\nDescubre Cantabria informa de que los diferentes eventos publicados se ofrecen a modo informativo\, no siendo Descubre Cantabria responsable de los problemas o daños causados por erratas o incorrecciones de los mismos.
URL:https://descubrecantabria.info/evento/taller-de-juego-a-traves-del-dibujo/
LOCATION:Casa de la Cultura Ampuero\, Calle de Onésimo Redondo\, 4\, Ampuero\, Cantabria\, 39840\, Spain
CATEGORIES:Infantil,Talleres
ATTACH;FMTTYPE=image/webp:https://descubrecantabria.info/wp-content/uploads/2026/03/eventos-cantabria-taller-de-juego-a-traves-del-dinujo_11zon.webp
END:VEVENT
BEGIN:VEVENT
DTSTART;TZID=Europe/Madrid:20260313T180000
DTEND;TZID=Europe/Madrid:20260313T180000
DTSTAMP:20260419T161543
CREATED:20260310T092925Z
LAST-MODIFIED:20260310T092938Z
UID:30004141-1773424800-1773424800@descubrecantabria.info
SUMMARY:Cuentacuentos de primavera en Ampuero
DESCRIPTION:¿DE QUÉ TRATA “Cuentacuentos de primavera en Ampuero”?\n  \nEste viernes os invitamos a un “Cuentacuentos de primavera” en la Biblioteca de Ampuero a las 18:00. Interpretado por Anselmo Herrero. \n  \n¡Disfruta de los “Cuentacuentos de primavera en Ampuero”!\nDescubre Cantabria informa de que los diferentes eventos publicados se ofrecen a modo informativo\, no siendo Descubre Cantabria responsable de los problemas o daños causados por erratas o incorrecciones de los mismos.
URL:https://descubrecantabria.info/evento/cuentacuentos-de-primavera-en-ampuero/
LOCATION:Casa de la Cultura Ampuero\, Calle de Onésimo Redondo\, 4\, Ampuero\, Cantabria\, 39840\, Spain
CATEGORIES:Infantil
ATTACH;FMTTYPE=image/webp:https://descubrecantabria.info/wp-content/uploads/2026/03/eventos-cantabria-cuentacuentos-primavera-ampuero_11zon.webp
END:VEVENT
BEGIN:VEVENT
DTSTART;TZID=Europe/Madrid:20260311T193000
DTEND;TZID=Europe/Madrid:20260311T193000
DTSTAMP:20260419T161543
CREATED:20260303T164240Z
LAST-MODIFIED:20260303T164301Z
UID:30003680-1773257400-1773257400@descubrecantabria.info
SUMMARY:Charla psicología deportiva Ampuero
DESCRIPTION:¿DE QUÉ TRATA “Charla psicología deportiva Ampuero”?\n  \nEl próximo miércoles 11 de marzo a las 19:30h\, tendrá lugar en el Salón de Actos de la Casa de Cultura\, la charla “Psicología deportiva\, ocho procesos clave en la montaña y como afrontarlos. \n  \n¡Disfruta de los “Charla psicología deportiva Ampuero”!\nDescubre Cantabria informa de que los diferentes eventos publicados se ofrecen a modo informativo\, no siendo Descubre Cantabria responsable de los problemas o daños causados por erratas o incorrecciones de los mismos.
URL:https://descubrecantabria.info/evento/charla-psicologia-deportiva-ampuero/
LOCATION:Casa de la Cultura Ampuero\, Calle de Onésimo Redondo\, 4\, Ampuero\, Cantabria\, 39840\, Spain
CATEGORIES:Charlas,Deportes
ATTACH;FMTTYPE=image/webp:https://descubrecantabria.info/wp-content/uploads/2026/03/eventos-cantabria-charla-psicologia-deportiva_11zon.webp
END:VEVENT
END:VCALENDAR