BEGIN:VCALENDAR
VERSION:2.0
PRODID:-//Guía oficial de Cantabria | Turismo | Descubre Cantabria - ECPv6.15.20//NONSGML v1.0//EN
CALSCALE:GREGORIAN
METHOD:PUBLISH
X-WR-CALNAME:Guía oficial de Cantabria | Turismo | Descubre Cantabria
X-ORIGINAL-URL:https://descubrecantabria.info
X-WR-CALDESC:Eventos para Guía oficial de Cantabria | Turismo | Descubre Cantabria
REFRESH-INTERVAL;VALUE=DURATION:PT1H
X-Robots-Tag:noindex
X-PUBLISHED-TTL:PT1H
BEGIN:VTIMEZONE
TZID:Europe/Madrid
BEGIN:DAYLIGHT
TZOFFSETFROM:+0100
TZOFFSETTO:+0200
TZNAME:CEST
DTSTART:20250330T010000
END:DAYLIGHT
BEGIN:STANDARD
TZOFFSETFROM:+0200
TZOFFSETTO:+0100
TZNAME:CET
DTSTART:20251026T010000
END:STANDARD
BEGIN:DAYLIGHT
TZOFFSETFROM:+0100
TZOFFSETTO:+0200
TZNAME:CEST
DTSTART:20260329T010000
END:DAYLIGHT
BEGIN:STANDARD
TZOFFSETFROM:+0200
TZOFFSETTO:+0100
TZNAME:CET
DTSTART:20261025T010000
END:STANDARD
BEGIN:DAYLIGHT
TZOFFSETFROM:+0100
TZOFFSETTO:+0200
TZNAME:CEST
DTSTART:20270328T010000
END:DAYLIGHT
BEGIN:STANDARD
TZOFFSETFROM:+0200
TZOFFSETTO:+0100
TZNAME:CET
DTSTART:20271031T010000
END:STANDARD
END:VTIMEZONE
BEGIN:VEVENT
DTSTART;TZID=Europe/Madrid:20260420T090000
DTEND;TZID=Europe/Madrid:20260420T210000
DTSTAMP:20260420T144440
CREATED:20260305T152207Z
LAST-MODIFIED:20260305T152302Z
UID:30003853-1776675600-1776718800@descubrecantabria.info
SUMMARY:Exposición Memoria líquida en Santander
DESCRIPTION:¿DE QUÉ TRATA “Exposición Memoria líquida en Santander”?\n  \nLa muestra\, presenta una selección de obras realizadas en técnica mixta\, óleo y acrílico\, en formato mediano. La temática gira en torno a la ciudad como escenario vital y simbólico\, en diálogo con elementos cósmicos y atmosféricos. \n  \n¡Disfruta de los “Exposición Memoria líquida en Santander”!\nDescubre Cantabria informa de que los diferentes eventos publicados se ofrecen a modo informativo\, no siendo Descubre Cantabria responsable de los problemas o daños causados por erratas o incorrecciones de los mismos.
URL:https://descubrecantabria.info/evento/exposicion-memoria-liquida-en-santander/2026-04-20/
LOCATION:Centro Cultural Doctor Madrazo\, Calle Casimiro Sáiz 0\, Santander\, Cantabria\, 39004\, Spain
CATEGORIES:Exposiciones
ATTACH;FMTTYPE=image/webp:https://descubrecantabria.info/wp-content/uploads/2026/03/eventos-cantabria-exposicion-memoria-liquida_11zon.webp
END:VEVENT
BEGIN:VEVENT
DTSTART;TZID=Europe/Madrid:20260422T183000
DTEND;TZID=Europe/Madrid:20260422T183000
DTSTAMP:20260420T144440
CREATED:20260327T152207Z
LAST-MODIFIED:20260327T152217Z
UID:30005937-1776882600-1776882600@descubrecantabria.info
SUMMARY:Proyección del documental Cabo Tiñoso: Tradición y Futuro
DESCRIPTION:¿DE QUÉ TRATA “Proyección del documental Cabo Tiñoso: Tradición y Futuro”?\n  \nCon motivo del I Congreso Ibérico de Pesquerías Artesanales -organizado por el Instituto Español de Oceanografía (IEO\, CSIC)- que se celebrará en Santander entre el 21 y el 23 de abril se proyectarán varios documentales en abierto para todas las personas interesadas. \nProyección del documental “Cabo Tiñoso: Tradición y Futuro” ( Estreno mundial). Presentan Elena Barcala + María Trujillo. \nEn la costa de Murcia\, frente a los acantilados de Cabo Tiñoso\, la pesca artesanal forma parte del paisaje\, de la memoria colectiva y de la identidad de quienes viven del mar. A través de testimonios directos de pescadores y pescadoras\, y desde una mirada científica y humana\, el documental explora la relación entre tradición y sostenibilidad en un contexto de cambio ambiental y normativo. \n“Cabo Tiñoso: Tradición y Futuro” muestra cómo el conocimiento ecológico local\, transmitido entre generaciones\, dialoga con la investigación científica y la gestión marina contemporánea. Entre redes\, mareas y relatos de vida\, la película plantea una pregunta clave: ¿cómo garantizar el futuro de las pesquerías artesanales sin perder la esencia que las define? Es un retrato íntimo y reflexivo sobre la resiliencia de las comunidades costeras y su papel en la conservación de los ecosistemas marinos. \nAño: 2026\nDuración: 38 min\nPaís: España\nDirección y edición: Clara Estil-Las\nNarración: Elena Trujillo\nGuion y entrevistas: María Trujillo\nFotografía: Clara Estil-Las\, Javier Ferrer\, Karlos Simón\nCompañías: Grupo de Investigación HUMUH\, IEO-CSIC \nPuedes encontrar todos los eventos en Santander aquí. \n  \n¡Disfruta de los “Proyección del documental Cabo Tiñoso: Tradición y Futuro”!\nDescubre Cantabria informa de que los diferentes eventos publicados se ofrecen a modo informativo\, no siendo Descubre Cantabria responsable de los problemas o daños causados por erratas o incorrecciones de los mismos.
URL:https://descubrecantabria.info/evento/proyeccion-del-documental-cabo-tinoso-tradicion-y-futuro/
LOCATION:Centro Cultural Doctor Madrazo\, Calle Casimiro Sáiz 0\, Santander\, Cantabria\, 39004\, Spain
CATEGORIES:Cine
ATTACH;FMTTYPE=image/webp:https://descubrecantabria.info/wp-content/uploads/2026/03/eventos-santander-proyeccion-documental-cobo_11zon-1.webp
END:VEVENT
BEGIN:VEVENT
DTSTART;TZID=Europe/Madrid:20260424T190000
DTEND;TZID=Europe/Madrid:20260424T190000
DTSTAMP:20260420T144440
CREATED:20260327T150939Z
LAST-MODIFIED:20260327T150949Z
UID:30005931-1777057200-1777057200@descubrecantabria.info
SUMMARY:El arte en su contexto: "Ramón Casas\, pintor modernista"
DESCRIPTION:¿DE QUÉ TRATA “El arte en su contexto: “Ramón Casas\, pintor modernista”?\n  \nEl Centro Cultural Doctor Madrazo acoge\, en 2026\, una nueva edición del ciclo “El arte en su contexto”\, a cargo del profesor José Raya Téllez. Serán tres conferencias que tendrán lugar los viernes 20 de marzo\, 24 de abril y 29 de mayo\, a las 19:00 h. La entrada será libre hasta completar el aforo. \n–PROGRAMA– \n► VIERNES. 24 DE ABRIL // 19:00 h.- «Ramón Casas\, pintor modernista» \nRamón Casas fue uno de los más preclaros representantes del modernismo catalán en pintura\, junto con Santiago Rusiñol o Miquel Utrillo. Su obra\, caracterizada por una observación directa de la realidad más inmediata transita por los más variados registros\, desde exquisitos retratos de una mundanidad muy refinada\, hasta los carteles que se encuentran hoy día entre los más conocidos ejemplares de ese nuevo género. \nJosé Raya Téllez es Catedrático de Instituto y Doctor en Historia del Arte\, y su interés por divulgar la cultura le ha llevado a impartir cursos y conferencias de carácter abierto en diversas entidades de ámbito nacional. \nPuedes encontrar todos los eventos en Santander aquí. \n  \n¡Disfruta de los “El arte en su contexto: “Ramón Casas\, pintor modernista”!\nDescubre Cantabria informa de que los diferentes eventos publicados se ofrecen a modo informativo\, no siendo Descubre Cantabria responsable de los problemas o daños causados por erratas o incorrecciones de los mismos.
URL:https://descubrecantabria.info/evento/el-arte-en-su-contexto-ramon-casas-pintor-modernista/
LOCATION:Centro Cultural Doctor Madrazo\, Calle Casimiro Sáiz 0\, Santander\, Cantabria\, 39004\, Spain
CATEGORIES:Artes plástica
ATTACH;FMTTYPE=image/webp:https://descubrecantabria.info/wp-content/uploads/2026/03/eventos-santander-el-arte-en-su-contexto-ramon_11zon-1.webp
END:VEVENT
BEGIN:VEVENT
DTSTART;TZID=Europe/Madrid:20260427T190000
DTEND;TZID=Europe/Madrid:20260427T190000
DTSTAMP:20260420T144440
CREATED:20260327T144630Z
LAST-MODIFIED:20260327T144641Z
UID:30005919-1777316400-1777316400@descubrecantabria.info
SUMMARY:Arte en Madrazo: sesión dedicada a Anna Weyant
DESCRIPTION:¿DE QUÉ TRATA “Arte en Madrazo: sesión dedicada a Anna Weyant”?\n  \nEl Centro Cultural Dr. Madrazo acoge\, en 2026\, una nueva edición del ciclo de conferencias «Arte en Madrazo» que lleva a cabo Patricia Alonso de Agustín. \nEn la presente edición\, que consta de 15 conferencias\, destacan las artistas femeninas\, como la vanguardista Maruja Mallo\, vinculada al grupo de mujeres de la Generación del 27 conocido como las «sinsombrero»\, Anna Weyant\, joven representante del nuevo realismo norteamericano\, Rosario de Velasco\, figura destacada del arte español del siglo XX\, Ángeles Santos\, una de las voces más singulares de la modernidad española\, y Luz de Alvear\, artista cántabra vinculada al entorno del expresionismo. \n27 de abril // 19:00 h. Anna Weyant \nUna de las figuras más destacadas del nuevo realismo norteamericano. Su pintura\, de precisión clásica y atmósfera inquietante\, reinterpreta motivos tradicionales con una sensibilidad irónica y contemporánea. Weyant se ha convertido en un fenómeno internacional que ha hecho que el Museo Thyssen-Bornemisza acoja su primera exposición en un museo\, un hito que subraya la relevancia creciente de su trayectoria.  \nLas conferencias se desarrollarán entre marzo y diciembre\, y tendrán lugar a las 19:00 horas\, los primeros y últimos lunes laborables de cada mes (excepto la del 22 de junio\, que será el ante último). La entrada será libre hasta completar el aforo. \nPatricia Alonso de Agustín es Licenciada en Geografía e Historia y titulada en el Máster de Educación “Formación Inicial Profesores Enseñanza Secundaria” por la Universidad Autónoma de Madrid. Cuenta con veinte años de experiencia como conferenciante\, profesora de Historia del Arte\, guía de museos\, organizadora de actividades culturales y documentalista. \nPuedes encontrar todos los eventos en Santander aquí. \n  \n¡Disfruta de los “Arte en Madrazo: sesión dedicada a Anna Weyant”!\nDescubre Cantabria informa de que los diferentes eventos publicados se ofrecen a modo informativo\, no siendo Descubre Cantabria responsable de los problemas o daños causados por erratas o incorrecciones de los mismos.
URL:https://descubrecantabria.info/evento/arte-en-madrazo-sesion-dedicada-a-anna-weyant/
LOCATION:Centro Cultural Doctor Madrazo\, Calle Casimiro Sáiz 0\, Santander\, Cantabria\, 39004\, Spain
CATEGORIES:Artes plástica
ATTACH;FMTTYPE=image/webp:https://descubrecantabria.info/wp-content/uploads/2026/03/eventos-santander-arte-en-madrazo-sesion-dedicada_11zon-1.webp
END:VEVENT
BEGIN:VEVENT
DTSTART;TZID=Europe/Madrid:20260504T190000
DTEND;TZID=Europe/Madrid:20260504T190000
DTSTAMP:20260420T144440
CREATED:20260327T134915Z
LAST-MODIFIED:20260327T134927Z
UID:30005904-1777921200-1777921200@descubrecantabria.info
SUMMARY:Arte en Madrazo: Durero y la modernidad temprana
DESCRIPTION:¿DE QUÉ TRATA “Arte en Madrazo: Durero y la modernidad temprana”?\n  \nEl Centro Cultural Dr. Madrazo acoge\, en 2026\, una nueva edición del ciclo de conferencias «Arte en Madrazo» que lleva a cabo Patricia Alonso de Agustín. \nEn la presente edición\, que consta de 15 conferencias\, destacan las artistas femeninas\, como la vanguardista Maruja Mallo\, vinculada al grupo de mujeres de la Generación del 27 conocido como las «sinsombrero»\, Anna Weyant\, joven representante del nuevo realismo norteamericano\, Rosario de Velasco\, figura destacada del arte español del siglo XX\, Ángeles Santos\, una de las voces más singulares de la modernidad española\, y Luz de Alvear\, artista cántabra vinculada al entorno del expresionismo. \n4 de mayo // 19:00 h. Durero y la modernidad temprana \nEsta conferencia aborda la obra de Alberto Durero\, figura esencial del Renacimiento que unió rigor técnico\, simbología y una mirada sorprendentemente moderna. A través de sus grabados\, autorretratos y estudios de la naturaleza\, se analiza cómo transformó la representación del cuerpo\, la identidad y el mundo visible. Su legado sigue marcando la historia del arte hasta hoy.  \nLas conferencias se desarrollarán entre marzo y diciembre\, y tendrán lugar a las 19:00 horas\, los primeros y últimos lunes laborables de cada mes (excepto la del 22 de junio\, que será el ante último). La entrada será libre hasta completar el aforo. \nPatricia Alonso de Agustín es Licenciada en Geografía e Historia y titulada en el Máster de Educación “Formación Inicial Profesores Enseñanza Secundaria” por la Universidad Autónoma de Madrid. Cuenta con veinte años de experiencia como conferenciante\, profesora de Historia del Arte\, guía de museos\, organizadora de actividades culturales y documentalista. \nPuedes encontrar todos los eventos en Santander aquí. \n  \n¡Disfruta de los “Arte en Madrazo: Durero y la modernidad temprana”!\nDescubre Cantabria informa de que los diferentes eventos publicados se ofrecen a modo informativo\, no siendo Descubre Cantabria responsable de los problemas o daños causados por erratas o incorrecciones de los mismos.
URL:https://descubrecantabria.info/evento/arte-en-madrazo-durero-y-la-modernidad-temprana/
LOCATION:Centro Cultural Doctor Madrazo\, Calle Casimiro Sáiz 0\, Santander\, Cantabria\, 39004\, Spain
CATEGORIES:Artes plástica
ATTACH;FMTTYPE=image/webp:https://descubrecantabria.info/wp-content/uploads/2026/03/eventos-santander-arte-en-madrazo-durero-y-la_11zon-1.webp
END:VEVENT
BEGIN:VEVENT
DTSTART;TZID=Europe/Madrid:20260506T190000
DTEND;TZID=Europe/Madrid:20260506T190000
DTSTAMP:20260420T144440
CREATED:20260327T134443Z
LAST-MODIFIED:20260327T134507Z
UID:30005902-1778094000-1778094000@descubrecantabria.info
SUMMARY:Charla de Luis Avín | Gospel\, el código oculto de la América negra
DESCRIPTION:¿DE QUÉ TRATA “Charla de Luis Avín | Gospel\, el código oculto de la América negra”?\n  \nEl Centro Cultural Doctor Madrazo acoge\, en 2026\, una nueva edición de «Atlántico Negro»\, el ciclo de conferencias con audiciones musicales a cargo de Luis Avín Fernández. Las seis charlas tendrán lugar los primeros miércoles de abril\, mayo\, junio\, septiembre\, octubre y noviembre\, a las 19:00 h\, y la entrada será libre hasta completar el aforo. \n► MIÉRCOLES\, 6 DE MAYO // 19:00 h.- «Gospel\, el código oculto de la América negra» \nMensajes poderosos en clave de resistencia y esperanza\, encarnados en la mejor escuela vocal de todos los tiempos. \n«Atlántico Negro» pretende mostrar una historia alternativa de cómo la música pop ha evolucionado en los últimos 150 años\, haciendo énfasis en la aportación decisiva de los sonidos de raíz africana que viajaron durante tres siglos hasta las Américas con el comercio de esclavos. \nLas charlas se apoyan en el uso extenso de grabaciones de audio y video\, acompañando la narración en cada momento. Se busca la participación de los asistentes\, sumergiéndoles en la experiencia de la música que protagoniza las historias objeto de análisis. \nLuis Avín Fernández / mercadonegro 2025 (Santander\, 1964) es DJ\, crítico musical y fan insaciable. Tras cinco décadas de actividad pública en cabinas\, emisoras y publicaciones de todo tipo\, actualmente centra sus esfuerzos en tareas pedagógicas desde su plataforma Atlántico Negro. \nPuedes encontrar todos los eventos en Santander aquí. \n  \n¡Disfruta de los “Charla de Luis Avín | Gospel\, el código oculto de la América negra”!\nDescubre Cantabria informa de que los diferentes eventos publicados se ofrecen a modo informativo\, no siendo Descubre Cantabria responsable de los problemas o daños causados por erratas o incorrecciones de los mismos.
URL:https://descubrecantabria.info/evento/charla-de-luis-avin-gospel-el-codigo-oculto-de-la-america-negra/
LOCATION:Centro Cultural Doctor Madrazo\, Calle Casimiro Sáiz 0\, Santander\, Cantabria\, 39004\, Spain
CATEGORIES:Charlas
ATTACH;FMTTYPE=image/webp:https://descubrecantabria.info/wp-content/uploads/2026/03/eventos-santander-gospel-el-codigo-oculto_11zon-1.webp
END:VEVENT
BEGIN:VEVENT
DTSTART;TZID=Europe/Madrid:20260513T193000
DTEND;TZID=Europe/Madrid:20260513T193000
DTSTAMP:20260420T144440
CREATED:20260327T125050Z
LAST-MODIFIED:20260327T125121Z
UID:30005890-1778700600-1778700600@descubrecantabria.info
SUMMARY:Borja Rodríguez revisa la obra de Ernesto García Ladevese
DESCRIPTION:¿DE QUÉ TRATA “Borja Rodríguez revisa la obra de Ernesto García Ladevese”?\n  \nEl ciclo “La Palabra Habitada. El autor y sus voces”\, coordinado por La Machina Teatro y subvencionado por la Concejalía de Cultura del Ayuntamiento de Santander y\, en una sesión\, por la Fundación Gerardo Diego\, ha programado para el año 2026\, ocho conferencias en torno a escritores de Cantabria o vinculados a nuestra comunidad. El formato de cada una de las intervenciones girará en torno a una ponencia impartida por un profesor o investigador\, acompañada de la lectura dramatizada\, por parte de actrices y actores profesionales de La Machina Teatro\, de algunos de los textos más significativos de los autores seleccionados. \nMiércoles 13 de mayo ERNESTO GARCÍA LADEVESE. Conferenciante: Borja Rodríguez Gutiérrez \nERNESTO GARCÍA LADEVESE. Nació en Castro Urdiales en 1850\, en una familia con vínculos franceses que marcaron su formación cultural. Poeta precoz\, desarrolló su obra lírica entre los 16 y 20 años\, publicando varios libros antes de abandonar casi por completo la poesía. Estudió Derecho en Madrid y destacó como periodista y novelista\, especialmente en el folletín social de inspiración republicana y anticlerical. Sus novelas\, ambientadas primero en Francia y luego en España\, retratan conflictos sociales y denuncian el poder de la aristocracia y la Iglesia\, como ocurre en La honra de la mujer. Comprometido políticamente\, participó activamente en las conspiraciones republicanas\, experiencia que relató en Memorias de un conspirador republicano\, obra reivindicativa y combativa. Tras el fracaso de los pronunciamientos\, continuó su labor periodística y política y fue corresponsal de prensa en París\, donde trabó estrecha amistad con Rubén Darío. Mantuvo siempre sus convicciones políticas y participó en la fundación de la Unión Republicana Nacional impulsando la candidatura de Benito Pérez Galdós\, de quien era íntimo amigo. Murió en 1915.  \nBORJA RODRÍGUEZ GUTIÉRREZ (Reinosa\, 1958) ha sido Catedrático de Instituto de Lengua y Literatura y Profesor Asociado de la Universidad de Cantabria. Durante 12 años fue Director del Instituto Alberto Pico y en la actualidad es Presidente de la Sociedad Menéndez Pelayo. Doctor\, con premio extraordinario\, por la UNED\, ha publicado más de 200 trabajos de investigación entre libros y artículos\, sobre literatura española. Ha editado a autores como Ramón J. Sender\, Federico García Lorca y Alejandro Casona. Es novelista\, autor de La única carta\, con la que obtuvo el Premio de novela de la Universidad Complutense en 2014. \nPuedes encontrar todos los eventos en Santander aquí. \n  \n¡Disfruta de los “Borja Rodríguez revisa la obra de Ernesto García Ladevese”!\nDescubre Cantabria informa de que los diferentes eventos publicados se ofrecen a modo informativo\, no siendo Descubre Cantabria responsable de los problemas o daños causados por erratas o incorrecciones de los mismos.
URL:https://descubrecantabria.info/evento/borja-rodriguez-revisa-la-obra-de-ernesto-garcia-ladevese/
LOCATION:Centro Cultural Doctor Madrazo\, Calle Casimiro Sáiz 0\, Santander\, Cantabria\, 39004\, Spain
CATEGORIES:Literatura
ATTACH;FMTTYPE=image/webp:https://descubrecantabria.info/wp-content/uploads/2026/03/eventos-santander-borja-rodriguez-revisa-la-obra-de-ernesto_11zon.webp
END:VEVENT
BEGIN:VEVENT
DTSTART;TZID=Europe/Madrid:20260518T190000
DTEND;TZID=Europe/Madrid:20260518T190000
DTSTAMP:20260420T144440
CREATED:20260327T122354Z
LAST-MODIFIED:20260327T122403Z
UID:30005881-1779130800-1779130800@descubrecantabria.info
SUMMARY:Arte en Madrazo: sesión dedicada a Rosario de Velasco
DESCRIPTION:¿DE QUÉ TRATA “Arte en Madrazo: sesión dedicada a Rosario de Velasco”?\n  \nEl Centro Cultural Dr. Madrazo acoge\, en 2026\, una nueva edición del ciclo de conferencias «Arte en Madrazo» que lleva a cabo Patricia Alonso de Agustín. \nEn la presente edición\, que consta de 15 conferencias\, destacan las artistas femeninas\, como la vanguardista Maruja Mallo\, vinculada al grupo de mujeres de la Generación del 27 conocido como las «sinsombrero»\, Anna Weyant\, joven representante del nuevo realismo norteamericano\, Rosario de Velasco\, figura destacada del arte español del siglo XX\, Ángeles Santos\, una de las voces más singulares de la modernidad española\, y Luz de Alvear\, artista cántabra vinculada al entorno del expresionismo. \n18 de mayo // 19:00 h Rosario de Velasco \nEsta conferencia se acerca a Rosario de Velasco\, pintora vinculada al entorno de la Generación del 27 y figura destacada del arte español del siglo XX. Sus escenas cuidadas y llenas de sensibilidad revelan una voz artística muy personal. Se revisará su trayectoria\, su estilo y su papel en la recuperación actual de nuestras creadoras olvidadas.  \nLas conferencias se desarrollarán entre marzo y diciembre\, y tendrán lugar a las 19:00 horas\, los primeros y últimos lunes laborables de cada mes (excepto la del 22 de junio\, que será el ante último). La entrada será libre hasta completar el aforo. \nPatricia Alonso de Agustín es Licenciada en Geografía e Historia y titulada en el Máster de Educación “Formación Inicial Profesores Enseñanza Secundaria” por la Universidad Autónoma de Madrid. Cuenta con veinte años de experiencia como conferenciante\, profesora de Historia del Arte\, guía de museos\, organizadora de actividades culturales y documentalista. \nPuedes encontrar todos los eventos en Santander aquí. \n  \n¡Disfruta de los “Arte en Madrazo: sesión dedicada a Rosario de Velasco!\nDescubre Cantabria informa de que los diferentes eventos publicados se ofrecen a modo informativo\, no siendo Descubre Cantabria responsable de los problemas o daños causados por erratas o incorrecciones de los mismos.
URL:https://descubrecantabria.info/evento/arte-en-madrazo-sesion-dedicada-a-rosario-de-velasco/
LOCATION:Centro Cultural Doctor Madrazo\, Calle Casimiro Sáiz 0\, Santander\, Cantabria\, 39004\, Spain
CATEGORIES:Artes plástica
ATTACH;FMTTYPE=image/webp:https://descubrecantabria.info/wp-content/uploads/2026/03/eventos-santander-arte-en-madrazo-sesion-dedicada-a-rosario_11zon.webp
END:VEVENT
BEGIN:VEVENT
DTSTART;TZID=Europe/Madrid:20260520T180000
DTEND;TZID=Europe/Madrid:20260520T180000
DTSTAMP:20260420T144440
CREATED:20260206T184300Z
LAST-MODIFIED:20260327T121308Z
UID:30001414-1779300000-1779300000@descubrecantabria.info
SUMMARY:Proyección del documental: La memoria no arde
DESCRIPTION:¿DE QUÉ TRATA “Proyección del documental: La memoria no arde”?\n  \nLos miércoles\, 25 de marzo y 20 de mayo\, a las 19:00 h\, la Fundación PEM y el proyecto Legado Cantabria organizan\, en el centro cultural Dr. Madrazo\, la proyección del documental “La memoria no arde” y un coloquio posterior. La entrada será libre hasta completar el aforo. \nLa ciudad de Santander contiene el recuerdo del brutal incendio que arrasó una parte importante del centro de la ciudad en febrero de 1941. Pero la memoria\, el recuerdo\, siempre es fragmentario\, personal o —en la otra cara— es oficial\, narrado desde la academia o desde las instituciones. \nEn el documental\, de 32 minutos\, es la “memoria indeleble” de 17 personas mayores la que dibuja el relato. Las dudas y confusiones\, la información o la falta de ella\, las sensaciones\, las emociones\, la reflexión compartida en la mesa en la hora de la comida\, los rumores extendidos como a través de un teléfono roto\, el sonido del viento… acompaña y construye lo que ocurre. Empapa el relato presente y futuro. \nEste tejido de memoria oral ha sido articulado por Zhenya Popova Tikhonova y Paco Gómez Nadal\, que son responsables del guion y dirección del documental. Las entrevistas han sido grabadas por Txatxe Saceda de León\, la música original ha sido compuesta e interpretada por Nahúm Cobo del Barrio\, y la producción\, edición y montaje han sido labor de Bandonthebend. \n  \n¡Disfruta de los “Proyección del documental: La memoria no arde”!\nDescubre Cantabria informa de que los diferentes eventos publicados se ofrecen a modo informativo\, no siendo Descubre Cantabria responsable de los problemas o daños causados por erratas o incorrecciones de los mismos.
URL:https://descubrecantabria.info/evento/estreno-del-documental-la-memoria-no-arde/
LOCATION:Centro Cultural Doctor Madrazo\, Calle Casimiro Sáiz 0\, Santander\, Cantabria\, 39004\, Spain
CATEGORIES:Cine
ATTACH;FMTTYPE=image/webp:https://descubrecantabria.info/wp-content/uploads/2026/02/eventos-santander-proyeccion-la-memoria-no-arde_11zon.webp
END:VEVENT
BEGIN:VEVENT
DTSTART;TZID=Europe/Madrid:20260529T190000
DTEND;TZID=Europe/Madrid:20260529T190000
DTSTAMP:20260420T144440
CREATED:20260327T114334Z
LAST-MODIFIED:20260327T114348Z
UID:30005868-1780081200-1780081200@descubrecantabria.info
SUMMARY:El arte en su contexto: "La imagen de la mujer en la cerámica ateniense"
DESCRIPTION:¿DE QUÉ TRATA “El arte en su contexto: “La imagen de la mujer en la cerámica ateniense””?\n  \nEl Centro Cultural Doctor Madrazo acoge\, en 2026\, una nueva edición del ciclo “El arte en su contexto”\, a cargo del profesor José Raya Téllez. Serán tres conferencias que tendrán lugar los viernes 20 de marzo\, 24 de abril y 29 de mayo\, a las 19:00 h. La entrada será libre hasta completar el aforo. \n–PROGRAMA– \nVIERNES\, 29 DE MAYO // 19:00 h.- «La imagen de la mujer en la cerámica ateniense» \nEn la sociedad griega la mujer desempeñaba\, sobre todo\, un papel doméstico\, sometido a las directrices masculinas que incentivaban los valores de la fidelidad\, la modestia y el cuidado de la familia. La cerámica\, en sus múltiples variantes\, tendió a explotar este concepto en las imágenes que representaba\, magnífico vehículo en el que proyectar esa idea de sumisión y orden hacia aquellos que las adquirían. \nJosé Raya Téllez es Catedrático de Instituto y Doctor en Historia del Arte\, y su interés por divulgar la cultura le ha llevado a impartir cursos y conferencias de carácter abierto en diversas entidades de ámbito nacional. \nPuedes encontrar todos los eventos en Santander aquí. \n  \n¡Disfruta de los “El arte en su contexto: “La imagen de la mujer en la cerámica ateniense””!\nDescubre Cantabria informa de que los diferentes eventos publicados se ofrecen a modo informativo\, no siendo Descubre Cantabria responsable de los problemas o daños causados por erratas o incorrecciones de los mismos.
URL:https://descubrecantabria.info/evento/el-arte-en-su-contexto-la-imagen-de-la-mujer-en-la-ceramica-ateniense/
LOCATION:Centro Cultural Doctor Madrazo\, Calle Casimiro Sáiz 0\, Santander\, Cantabria\, 39004\, Spain
CATEGORIES:Artes plástica
ATTACH;FMTTYPE=image/webp:https://descubrecantabria.info/wp-content/uploads/2026/03/eventos-santander-el-arte-en-su-contexto-la-imagen-de-la-mujer-en-la-ceramica_11zon.webp
END:VEVENT
END:VCALENDAR