BEGIN:VCALENDAR
VERSION:2.0
PRODID:-//Guía oficial de Cantabria | Turismo | Descubre Cantabria - ECPv6.15.20//NONSGML v1.0//EN
CALSCALE:GREGORIAN
METHOD:PUBLISH
X-ORIGINAL-URL:https://descubrecantabria.info
X-WR-CALDESC:Eventos para Guía oficial de Cantabria | Turismo | Descubre Cantabria
REFRESH-INTERVAL;VALUE=DURATION:PT1H
X-Robots-Tag:noindex
X-PUBLISHED-TTL:PT1H
BEGIN:VTIMEZONE
TZID:Europe/Madrid
BEGIN:DAYLIGHT
TZOFFSETFROM:+0100
TZOFFSETTO:+0200
TZNAME:CEST
DTSTART:20250330T010000
END:DAYLIGHT
BEGIN:STANDARD
TZOFFSETFROM:+0200
TZOFFSETTO:+0100
TZNAME:CET
DTSTART:20251026T010000
END:STANDARD
BEGIN:DAYLIGHT
TZOFFSETFROM:+0100
TZOFFSETTO:+0200
TZNAME:CEST
DTSTART:20260329T010000
END:DAYLIGHT
BEGIN:STANDARD
TZOFFSETFROM:+0200
TZOFFSETTO:+0100
TZNAME:CET
DTSTART:20261025T010000
END:STANDARD
BEGIN:DAYLIGHT
TZOFFSETFROM:+0100
TZOFFSETTO:+0200
TZNAME:CEST
DTSTART:20270328T010000
END:DAYLIGHT
BEGIN:STANDARD
TZOFFSETFROM:+0200
TZOFFSETTO:+0100
TZNAME:CET
DTSTART:20271031T010000
END:STANDARD
END:VTIMEZONE
BEGIN:VEVENT
DTSTART;TZID=Europe/Madrid:20260410T190000
DTEND;TZID=Europe/Madrid:20260410T190000
DTSTAMP:20260420T040948
CREATED:20260226T105042Z
LAST-MODIFIED:20260226T105051Z
UID:30002747-1775847600-1775847600@descubrecantabria.info
SUMMARY:Presentación del libro Tinta salvaje de Nacho Zubelzu
DESCRIPTION:¿DE QUÉ TRATA “Presentación del libro Tinta salvaje de Nacho Zubelzu”?\n  \n‘Tinta Salvaje´ te permitirá descubrir el método de trabajo de Nacho Zubelu\, artista y naturalista campurriano\, disfrutar de su proceso creativo\, atrapar su luz\, sus vigorosos trazos y su paleta de colores\, y respirar el aire de la fauna y la naturaleza cantábrica que capta con su mirada y sus pinceles. \nCon este cuaderno de campo podrás penetrar en la esfera privada de sus apuntes y anotaciones; una experiencia única a través de una cuidada selección personal de más de 250 obras\, tanto bocetos iniciales\, resultado de la observación directa en pleno medio natural\, como una galería de dibujos más acabados en la intimidad de su estudio. \n  Una pequeña joya que nos revela la esencia de uno de los artistas más viajeros y universales de Cantabria \n  \n¡Disfruta de los “Presentación del libro Tinta salvaje de Nacho Zubelzu”!\n  \nEncuentra todos los eventos de Marina de Cudeyo aquí. \nDescubre Cantabria informa de que los diferentes eventos publicados se ofrecen a modo informativo\, no siendo Descubre Cantabria responsable de los problemas o daños causados por erratas o incorrecciones de los mismos.
URL:https://descubrecantabria.info/evento/presentacion-del-libro-tinta-salvaje-de-nacho-zubelzu/
LOCATION:Centro Cultural Gajano\, Barrio Presmanes\, 86\, Gajano\, Cantabria\, 39792\, Spain
CATEGORIES:Literatura
ATTACH;FMTTYPE=image/webp:https://descubrecantabria.info/wp-content/uploads/2026/02/eventos-marina-de-cudeyo-presentancion-tinta-salvaje-de-nacho_11zon.webp
END:VEVENT
BEGIN:VEVENT
DTSTART;TZID=Europe/Madrid:20260321T090000
DTEND;TZID=Europe/Madrid:20260321T170000
DTSTAMP:20260420T040948
CREATED:20260303T164934Z
LAST-MODIFIED:20260303T164952Z
UID:30003682-1774083600-1774112400@descubrecantabria.info
SUMMARY:Taller construcción de cajas nido
DESCRIPTION:¿DE QUÉ TRATA “Taller construcción de cajas nido”?\n  \nAgenda Ecoturismo | Taller: Construcción de Cajas Nido y Comederos para Aves. 9:00 a 14:00. Imparte: Bruno Palazuelos Berasategui \nEn esta jornada teórico-práctica (duración aproximada de 5 horas) aprenderemos a diseñar y construir cajas nido\, comederos para aves y refugios para polinizadores\, contribuyendo activamente a la conservación de la biodiversidad de nuestro entorno. \nDurante el taller conoceremos la importancia de estos elementos para la fauna local y trabajaremos de forma práctica en su elaboración. Cada participante se llevará a casa los materiales que construya\, listos para instalar y favorecer la fauna en su propio espacio. \nRecomendable: ropa cómoda que se pueda manchar. Más info y reservas: info@bahiasantander.es \n  \n¡Disfruta de los “Taller construcción de cajas nido”!\nDescubre Cantabria informa de que los diferentes eventos publicados se ofrecen a modo informativo\, no siendo Descubre Cantabria responsable de los problemas o daños causados por erratas o incorrecciones de los mismos.
URL:https://descubrecantabria.info/evento/taller-construccion-de-cajas-nido/
LOCATION:Centro Cultural Gajano\, Barrio Presmanes\, 86\, Gajano\, Cantabria\, 39792\, Spain
CATEGORIES:Talleres
ATTACH;FMTTYPE=image/webp:https://descubrecantabria.info/wp-content/uploads/2026/03/eventos-cantabria-taller-construccion-cajas-nido_11zon.webp
END:VEVENT
BEGIN:VEVENT
DTSTART;TZID=Europe/Madrid:20260313T190000
DTEND;TZID=Europe/Madrid:20260313T190000
DTSTAMP:20260420T040948
CREATED:20260226T091356Z
LAST-MODIFIED:20260226T091436Z
UID:30002739-1773428400-1773428400@descubrecantabria.info
SUMMARY:Presentación del libro "A océanos de distancia de Elena Bargues"
DESCRIPTION:¿DE QUÉ TRATA “Presentación del libro “A océanos de distancia de Elena Bargues””?\n  \nSinopsis: Francisca Muñoz\, tras quedarse viuda\, regresa a Manila desde Cantón y retoma su labor de creadora de perfumes. Además\, a espaldas de su familia y de la sociedad\, mantiene con Jian Zhou\, hijo de una familia de mercaderes\, una relación comercial de diseño y venta de joyas falsas. Sin embargo\, el Consulado de Cargadores de Filipinas pone a prueba su fortaleza con obstáculos a su condición femenina\, y sus hermanastros\, que la consideran una advenediza\, amenazan su independencia económica. \nMelchor Crespo\, teniente de fragata destinado al navío de línea Montañés\, llega a Cavite con la escuadra del comandante Álava. Es consciente de la oportunidad que le brinda el destino asiático y se aventura\, junto con sus compañeros Anievas y Mier\, en el terreno del comercio y del contrabando. Para lograr su fin\, los oficiales consiguen la ayuda de Francisca\, conocedora de los entresijos del comercio\, pero que arrastra muchos problemas y secretos en los que se verán involucrados y que pondrán en peligro sus vidas. \nUna narración que nos traslada al ámbito de los relatos de aventuras en parajes exóticos\, en los que se desatan las pasiones\, las ambiciones y las rivalidades en medio de la lucha por la supervivencia en un entorno hostil\, rodeados de potencias enemigas y bajo la amenaza de tifones\, inundaciones y piratas. \nTras los pasos de la Real Armada en Asia entre los años 1796 y 1803\, la novela nos sumerge en la vida manileña y en las dificultades del comercio con Acapulco. \n  \n¡Disfruta de los “Presentación del libro “A océanos de distancia de Elena Bargues”!\n  \nEncuentra todos los eventos de Marina de Cudeyo aquí. \nDescubre Cantabria informa de que los diferentes eventos publicados se ofrecen a modo informativo\, no siendo Descubre Cantabria responsable de los problemas o daños causados por erratas o incorrecciones de los mismos.
URL:https://descubrecantabria.info/evento/presentacion-del-libro-a-oceanos-de-distancia-de-elena-bargues/
LOCATION:Centro Cultural Gajano\, Barrio Presmanes\, 86\, Gajano\, Cantabria\, 39792\, Spain
CATEGORIES:Literatura
ATTACH;FMTTYPE=image/webp:https://descubrecantabria.info/wp-content/uploads/2026/02/eventos-marina-de-cudeyo-presentacion-a-oceanos-de-distancia-de-elena-bargues_11zon.webp
END:VEVENT
END:VCALENDAR