BEGIN:VCALENDAR
VERSION:2.0
PRODID:-//Guía oficial de Cantabria | Turismo | Descubre Cantabria - ECPv6.15.20//NONSGML v1.0//EN
CALSCALE:GREGORIAN
METHOD:PUBLISH
X-WR-CALNAME:Guía oficial de Cantabria | Turismo | Descubre Cantabria
X-ORIGINAL-URL:https://descubrecantabria.info
X-WR-CALDESC:Eventos para Guía oficial de Cantabria | Turismo | Descubre Cantabria
REFRESH-INTERVAL;VALUE=DURATION:PT1H
X-Robots-Tag:noindex
X-PUBLISHED-TTL:PT1H
BEGIN:VTIMEZONE
TZID:Europe/Madrid
BEGIN:DAYLIGHT
TZOFFSETFROM:+0100
TZOFFSETTO:+0200
TZNAME:CEST
DTSTART:20250330T010000
END:DAYLIGHT
BEGIN:STANDARD
TZOFFSETFROM:+0200
TZOFFSETTO:+0100
TZNAME:CET
DTSTART:20251026T010000
END:STANDARD
BEGIN:DAYLIGHT
TZOFFSETFROM:+0100
TZOFFSETTO:+0200
TZNAME:CEST
DTSTART:20260329T010000
END:DAYLIGHT
BEGIN:STANDARD
TZOFFSETFROM:+0200
TZOFFSETTO:+0100
TZNAME:CET
DTSTART:20261025T010000
END:STANDARD
BEGIN:DAYLIGHT
TZOFFSETFROM:+0100
TZOFFSETTO:+0200
TZNAME:CEST
DTSTART:20270328T010000
END:DAYLIGHT
BEGIN:STANDARD
TZOFFSETFROM:+0200
TZOFFSETTO:+0100
TZNAME:CET
DTSTART:20271031T010000
END:STANDARD
END:VTIMEZONE
BEGIN:VEVENT
DTSTART;TZID=Europe/Madrid:20260425T100000
DTEND;TZID=Europe/Madrid:20260425T170000
DTSTAMP:20260419T162718
CREATED:20260331T164806Z
LAST-MODIFIED:20260331T164825Z
UID:30006068-1777111200-1777136400@descubrecantabria.info
SUMMARY:Taller conexión con la naturaleza y supervivencia
DESCRIPTION:¿DE QUÉ TRATA “Taller conexión con la naturaleza y supervivencia”?\n  \nEn este taller de introducción a Forest School\, dirigido a familias y adultos (niños/as a partir de 6 años)\, exploraremos diferentes formas de conectar con la naturaleza a través del arte y las habilidades básicas de bushcraft y supervivencia. \nA lo largo de la jornada aprenderemos a utilizar herramientas sencillas y materiales naturales para crear pequeños objetos\, además de practicar técnicas básicas de fuego y otras destrezas fundamentales para desenvolvernos en el entorno natural. \nCada participante deberá traer su propio picnic para compartir un rato de comida juntos al aire libre. \nRecomendable: ropa y calzado adecuados para actividades en la naturaleza. \nMás info y reservas: info@bahiasantander.es \n  \n¡Disfruta de los “Taller conexión con la naturaleza y supervivencia”!\nDescubre Cantabria informa de que los diferentes eventos publicados se ofrecen a modo informativo\, no siendo Descubre Cantabria responsable de los problemas o daños causados por erratas o incorrecciones de los mismos.
URL:https://descubrecantabria.info/evento/taller-conexion-con-la-naturaleza-y-supervivencia/
LOCATION:Centro Cultural Gajano\, Barrio Presmanes\, 86\, Gajano\, Cantabria\, 39792\, Spain
CATEGORIES:Talleres
ATTACH;FMTTYPE=image/webp:https://descubrecantabria.info/wp-content/uploads/2026/03/eventos-cantabria-taller-conexion-con-la-naturaleza_11zon.webp
END:VEVENT
BEGIN:VEVENT
DTSTART;TZID=Europe/Madrid:20260508T190000
DTEND;TZID=Europe/Madrid:20260508T190000
DTSTAMP:20260419T162718
CREATED:20260226T110553Z
LAST-MODIFIED:20260226T110828Z
UID:30002753-1778266800-1778266800@descubrecantabria.info
SUMMARY:Presentación del libro "El complejo termal de las fuentes del francés..."
DESCRIPTION:¿DE QUÉ TRATA “Presentación del libro “El complejo termal de las fuentes del francés…””?\n  \n\nLa presente obra reconstruye\, mediante texto e imágenes\, las distintas etapas del complejo termal conocido con el legendario nombre de La Fuente del Francés de Hoznayo y de la comercialización de sus renombradas aguas minero-medicinales (Aguas de Hoznayo) desde su origen\, en el último tercio del siglo XIX\, hasta su cierre definitivo\, muy avanzado el siglo XX. \n\n  \n¡Disfruta del “Presentación del libro “El complejo termal de las fuentes del francés…””!\n  \nEncuentra todos los eventos de Marina de Cudeyo aquí. \nDescubre Cantabria informa de que los diferentes eventos publicados se ofrecen a modo informativo\, no siendo Descubre Cantabria responsable de los problemas o daños causados por erratas o incorrecciones de los mismos.
URL:https://descubrecantabria.info/evento/presentacion-del-libro-el-complejo-termal-de-las-fuentes-del-frances/
LOCATION:Centro Cultural Gajano\, Barrio Presmanes\, 86\, Gajano\, Cantabria\, 39792\, Spain
CATEGORIES:Literatura
ATTACH;FMTTYPE=image/webp:https://descubrecantabria.info/wp-content/uploads/2026/02/eventos-marina-de-cudeyo-presentacion-libro-el-complejo-termal-de-las-fuertes_11zon.webp
END:VEVENT
BEGIN:VEVENT
DTSTART;TZID=Europe/Madrid:20260509T190000
DTEND;TZID=Europe/Madrid:20260509T190000
DTSTAMP:20260419T162718
CREATED:20260414T150238Z
LAST-MODIFIED:20260414T150344Z
UID:30008106-1778353200-1778353200@descubrecantabria.info
SUMMARY:Taller macrofotografía con David Mazón
DESCRIPTION:¿DE QUÉ TRATA “Taller macrofotografía con David Mazón”?\n  \nEn este taller de iniciación a la macrofotografía aprenderemos a acercarnos al mundo del detalle y a descubrir pequeños elementos de la naturaleza que normalmente pasan desapercibidos a nuestros ojos. \nDurante la sesión conoceremos recomendaciones sobre el equipo y las técnicas básicas necesarias para comenzar en este tipo de fotografía. Además\, realizaremos ejercicios guiados para practicar cómo captar texturas\, formas y detalles con nuestra cámara . \n Equipo necesario: cámara con modo manual. Recomendable: traer flash externo y consultar el equipo con David al realizar la reserva. \nMás info y reservas: info@bahiasantander.es \n  \n¡Disfruta de los “Taller macrofotografía con David Mazón”!\nDescubre Cantabria informa de que los diferentes eventos publicados se ofrecen a modo informativo\, no siendo Descubre Cantabria responsable de los problemas o daños causados por erratas o incorrecciones de los mismos.
URL:https://descubrecantabria.info/evento/taller-macrofotografia-con-david-mazon/
LOCATION:Centro Cultural Gajano\, Barrio Presmanes\, 86\, Gajano\, Cantabria\, 39792\, Spain
CATEGORIES:Fotografía,Talleres
ATTACH;FMTTYPE=image/webp:https://descubrecantabria.info/wp-content/uploads/2026/04/eventos-cantabria-taller-macrofotografia_11zon.webp
END:VEVENT
BEGIN:VEVENT
DTSTART;TZID=Europe/Madrid:20260612T190000
DTEND;TZID=Europe/Madrid:20260612T190000
DTSTAMP:20260419T162718
CREATED:20260226T112604Z
LAST-MODIFIED:20260226T112615Z
UID:30002761-1781290800-1781290800@descubrecantabria.info
SUMMARY:Presentación del libro El silencio del peregrino en Gajano
DESCRIPTION:¿DE QUÉ TRATA “Presentación del libro El silencio del peregrino en Gajano”?\n  \nSinopsis: Alguien está sembrando de cadáveres el Camino Olvidado Lebaniego.Ángel Meneses\, peregrino e influencer\, tiene al asesino pisándole los talones y se ve inmerso en una persecución donde nadie sabe a ciencia cierta quién es el gato y quién el ratón\, ni el porqué de tanta violencia. \nÁlvaro Maza\, policía retirado metido a escritor\, descubre en los cadáveres símbolos que hablan de su pasado\, un pasado que estuvo a punto de llevarse su cordura y que nunca se cerró del todo.  \nLa pesadilla vuelve y\, esta vez\, Álvaro\, con todo en juego\, tiene que llegar hasta el final\, sin dejar cabos sueltos.Comienza entonces una lucha contra el reloj para salvar a Ángel y atrapar al asesino. \n Los hermosos parajes del Camino Olvidado Lebaniego serán el escenario de este thriller escalofriante. Todas las piezas están sobre el tablero\, pero nadie conoce el resultado de la partida. \n  \n¡Disfruta de los “Presentación del libro El silencio del peregrino en Gajano”!\n  \nEncuentra todos los eventos de Marina de Cudeyo aquí. \nDescubre Cantabria informa de que los diferentes eventos publicados se ofrecen a modo informativo\, no siendo Descubre Cantabria responsable de los problemas o daños causados por erratas o incorrecciones de los mismos.
URL:https://descubrecantabria.info/evento/presentacion-del-libro-el-silencio-del-peregrino-en-gajano/
LOCATION:Centro Cultural Gajano\, Barrio Presmanes\, 86\, Gajano\, Cantabria\, 39792\, Spain
CATEGORIES:Literatura
ATTACH;FMTTYPE=image/webp:https://descubrecantabria.info/wp-content/uploads/2026/02/eventos-marina-de-cudeyo-presentacion-el-silencio-del-peregrino_11zon.webp
END:VEVENT
END:VCALENDAR